Workbook

Sheet Template
D1: DATE: | F1: PROFILE: | H1: SEASON: | K1: DAY TYPE:
H2: =VLOOKUP(MONTH(D2),H620:I631,2,FALSE) -> JANUARY | K2: =IF(OR(WEEKDAY($D$2)=1,$B$621="Y"),"SUNDAY/HOLIDAY",IF(OR(WEEKDAY($D$2)=2,WEEKDAY($D$2)=3,WEEKDAY($D$2)=4,WEEKDAY($D$2)=5,WEEKDAY($D$2)=6),"WEEKDAY",IF(WEEKDAY($D$2)=7,"SATURDAY",""))) -> SATURDAY
H3: =IF(OR($B$624=1,$B$630=1),VLOOKUP(MONTH(D2),H620:I631,2,FALSE),VLOOKUP(MONTH(D2+1),H620:I631,2,FALSE)) -> JANUARY | K3: =IF(OR($B$624=1,$B$630=1),IF(OR(WEEKDAY($D$2)=1,$B$621="Y"),"SUNDAY/HOLIDAY",IF(OR(WEEKDAY($D$2)=2,WEEKDAY($D$2)=3,WEEKDAY($D$2)=4,WEEKDAY($D$2)=5,WEEKDAY($D$2)=6),"WEEKDAY",IF(WEEKDAY($D$2)=7,"SATURDAY",""))),IF(OR(WEEKDAY($D$2+1)=1,$B$621="Y"),"SUNDAY/HOLIDAY",IF(OR(WEEKDAY($D$2+1)=2,WEEKDAY($D$2+1)=3,WEEKDAY($D$2+1)=4,WEEKDAY($D$2+1)=5,WEEKDAY($D$2+1)=6),"WEEKDAY",IF(WEEKDAY($D$2+1)=7,"SATURDAY","")))) -> SATURDAY
B7: (Eastern Standard Time)
A8: HOUR: | B8: 1 | C8: 2 | D8: 3 | E8: 4 | F8: 5 | G8: 6 | H8: 7 | I8: 8 | J8: 9 | K8: 10 | L8: 11 | M8: 12 | N8: 13 | O8: 14 | P8: 15 | Q8: 16 | R8: 17 | S8: 18 | T8: 19 | U8: 20 | V8: 21 | W8: 22 | X8: 23 | Y8: 24 | AB8: HOLIDAYS: | AD8: PROFILES:
A9: =IF(ISBLANK(D2)=TRUE,"",A10-1)
A10: =IF(ISBLANK(D2)=TRUE,"",D2) | AC10: 42736 | AE10: HV01
AC11: 42751 | AE11: PR01
A12: PROFILE LOAD: | B12: =IF(B19<>0,B19,B24+B38+B56+B74+B92+B110+B128+B146+B164+B182+B200+B218+B236+B254+B272+B290+B308+B327+B345+B363+B382+B400+B418+B436+B454+B472+B490+B508+B526+B545+B563+B582+B600+B618) -> 0 | C12: =IF(C19<>0,C19,C24+C38+C56+C74+C92+C110+C128+C146+C164+C182+C200+C218+C236+C254+C272+C290+C308+C327+C345+C363+C382+C400+C418+C436+C454+C472+C490+C508+C526+C545+C563+C582+C600+C618) -> 0 | D12: =IF(D19<>0,D19,D24+D38+D56+D74+D92+D110+D128+D146+D164+D182+D200+D218+D236+D254+D272+D290+D308+D327+D345+D363+D382+D400+D418+D436+D454+D472+D490+D508+D526+D545+D563+D582+D600+D618) -> 0 | E12: =IF(E19<>0,E19,E24+E38+E56+E74+E92+E110+E128+E146+E164+E182+E200+E218+E236+E254+E272+E290+E308+E327+E345+E363+E382+E400+E418+E436+E454+E472+E490+E508+E526+E545+E563+E582+E600+E618) -> 0 | F12: =IF(F19<>0,F19,F24+F38+F56+F74+F92+F110+F128+F146+F164+F182+F200+F218+F236+F254+F272+F290+F308+F327+F345+F363+F382+F400+F418+F436+F454+F472+F490+F508+F526+F545+F563+F582+F600+F618) -> 0 | G12: =IF(G19<>0,G19,G24+G38+G56+G74+G92+G110+G128+G146+G164+G182+G200+G218+G236+G254+G272+G290+G308+G327+G345+G363+G382+G400+G418+G436+G454+G472+G490+G508+G526+G545+G563+G582+G600+G618) -> 0 | H12: =IF(H19<>0,H19,H24+H38+H56+H74+H92+H110+H128+H146+H164+H182+H200+H218+H236+H254+H272+H290+H308+H327+H345+H363+H382+H400+H418+H436+H454+H472+H490+H508+H526+H545+H563+H582+H600+H618) -> 0 | I12: =IF(I19<>0,I19,I24+I38+I56+I74+I92+I110+I128+I146+I164+I182+I200+I218+I236+I254+I272+I290+I308+I327+I345+I363+I382+I400+I418+I436+I454+I472+I490+I508+I526+I545+I563+I582+I600+I618) -> 0 | ... Y12: =IF(Y19<>0,Y19,Y24+Y38+Y56+Y74+Y92+Y110+Y128+Y146+Y164+Y182+Y200+Y218+Y236+Y254+Y272+Y290+Y308+Y327+Y345+Y363+Y382+Y400+Y418+Y436+Y454+Y472+Y490+Y508+Y526+Y545+Y563+Y582+Y600+Y618) -> 0 | AC12: 42786 | AE12: PS01
AC13: 42884 | AE13: RH01
AC14: 42920 | AE14: RS00
AC15: 42982 | AE15: RS01
A16: ADJUSTED HOUR: | B16: =IF($B$624=1,0,IF($B$627=1,0,1)) -> 0 | C16: =IF($B$630=1,1,B16+1) -> 1 | D16: =IF($B$627=1,3,C16+1) -> 2 | E16: =D16+1 -> 3 | F16: =E16+1 -> 4 | G16: =F16+1 -> 5 | H16: =G16+1 -> 6 | I16: =H16+1 -> 7 | J16: =I16+1 -> 8 | K16: =J16+1 -> 9 | L16: =K16+1 -> 10 | ... X16: =W16+1 -> 22 | Y16: =IF($B$624=1,23,0) -> 23 | AC16: 43017 | AE16: RS02
AC17: 43050 | AE17: SC01
A18: No Weather Sensitivity: | AC18: 43062 | AE18: SL01
A19: REG_CONSTANT | B19: {=SUM(IF($F$2=Data!$A$2:$A$8633,IF($C$20=Data!$C$2:$C$8633,IF($D$20=Data!$F$2:$F$8633,IF(B$16=Data!$E$2:$E$8633,Data!$G$2:$G$8633)),IF($H$2=Data!$C$2:$C$8633,IF($B$20=Data!$D$2:$D$8633,IF(B$16=Data!$E$2:$E$8633,Data!$G$2:$G$8633),IF($K$2=Data!$D$2:$D$8633,IF(B$16=Data!$E$2:$E$8633,Data!$G$2:$G$8633)))))))} -> 0 | C19: {=SUM(IF($F$2=Data!$A$2:$A$8633,IF($C$20=Data!$C$2:$C$8633,IF($D$20=Data!$F$2:$F$8633,IF(C$16=Data!$E$2:$E$8633,Data!$G$2:$G$8633)),IF($H$2=Data!$C$2:$C$8633,IF($B$20=Data!$D$2:$D$8633,IF(C$16=Data!$E$2:$E$8633,Data!$G$2:$G$8633),IF($K$2=Data!$D$2:$D$8633,IF(C$16=Data!$E$2:$E$8633,Data!$G$2:$G$8633)))))))} -> 0 | D19: {=SUM(IF($F$2=Data!$A$2:$A$8633,IF($C$20=Data!$C$2:$C$8633,IF($D$20=Data!$F$2:$F$8633,IF(D$16=Data!$E$2:$E$8633,Data!$G$2:$G$8633)),IF($H$2=Data!$C$2:$C$8633,IF($B$20=Data!$D$2:$D$8633,IF(D$16=Data!$E$2:$E$8633,Data!$G$2:$G$8633),IF($K$2=Data!$D$2:$D$8633,IF(D$16=Data!$E$2:$E$8633,Data!$G$2:$G$8633)))))))} -> 0 | E19: {=SUM(IF($F$2=Data!$A$2:$A$8633,IF($C$20=Data!$C$2:$C$8633,IF($D$20=Data!$F$2:$F$8633,IF(E$16=Data!$E$2:$E$8633,Data!$G$2:$G$8633)),IF($H$2=Data!$C$2:$C$8633,IF($B$20=Data!$D$2:$D$8633,IF(E$16=Data!$E$2:$E$8633,Data!$G$2:$G$8633),IF($K$2=Data!$D$2:$D$8633,IF(E$16=Data!$E$2:$E$8633,Data!$G$2:$G$8633)))))))} -> 0 | F19: {=SUM(IF($F$2=Data!$A$2:$A$8633,IF($C$20=Data!$C$2:$C$8633,IF($D$20=Data!$F$2:$F$8633,IF(F$16=Data!$E$2:$E$8633,Data!$G$2:$G$8633)),IF($H$2=Data!$C$2:$C$8633,IF($B$20=Data!$D$2:$D$8633,IF(F$16=Data!$E$2:$E$8633,Data!$G$2:$G$8633),IF($K$2=Data!$D$2:$D$8633,IF(F$16=Data!$E$2:$E$8633,Data!$G$2:$G$8633)))))))} -> 0 | G19: {=SUM(IF($F$2=Data!$A$2:$A$8633,IF($C$20=Data!$C$2:$C$8633,IF($D$20=Data!$F$2:$F$8633,IF(G$16=Data!$E$2:$E$8633,Data!$G$2:$G$8633)),IF($H$2=Data!$C$2:$C$8633,IF($B$20=Data!$D$2:$D$8633,IF(G$16=Data!$E$2:$E$8633,Data!$G$2:$G$8633),IF($K$2=Data!$D$2:$D$8633,IF(G$16=Data!$E$2:$E$8633,Data!$G$2:$G$8633)))))))} -> 0 | H19: {=SUM(IF($F$2=Data!$A$2:$A$8633,IF($C$20=Data!$C$2:$C$8633,IF($D$20=Data!$F$2:$F$8633,IF(H$16=Data!$E$2:$E$8633,Data!$G$2:$G$8633)),IF($H$2=Data!$C$2:$C$8633,IF($B$20=Data!$D$2:$D$8633,IF(H$16=Data!$E$2:$E$8633,Data!$G$2:$G$8633),IF($K$2=Data!$D$2:$D$8633,IF(H$16=Data!$E$2:$E$8633,Data!$G$2:$G$8633)))))))} -> 0 | I19: {=SUM(IF($F$2=Data!$A$2:$A$8633,IF($C$20=Data!$C$2:$C$8633,IF($D$20=Data!$F$2:$F$8633,IF(I$16=Data!$E$2:$E$8633,Data!$G$2:$G$8633)),IF($H$2=Data!$C$2:$C$8633,IF($B$20=Data!$D$2:$D$8633,IF(I$16=Data!$E$2:$E$8633,Data!$G$2:$G$8633),IF($K$2=Data!$D$2:$D$8633,IF(I$16=Data!$E$2:$E$8633,Data!$G$2:$G$8633)))))))} -> 0 | ... Y19: {=SUM(IF($F$2=Data!$A$2:$A$8633,IF($C$20=Data!$C$2:$C$8633,IF($D$20=Data!$F$2:$F$8633,IF(Y$16=Data!$E$2:$E$8633,Data!$G$2:$G$8633)),IF($H$2=Data!$C$2:$C$8633,IF($B$20=Data!$D$2:$D$8633,IF(Y$16=Data!$E$2:$E$8633,Data!$G$2:$G$8633),IF($K$2=Data!$D$2:$D$8633,IF(Y$16=Data!$E$2:$E$8633,Data!$G$2:$G$8633)))))))} -> 0 | AC19: 43094 | AE19: SS00
A20: Season/Day Type: | B20: ALLDAYS | C20: ALLSEASONS | D20: NULL_WEATHER | AC20: 43101 | AE20: SS01
AC21: 43115 | AE21: SS02
A22: Profile Variable: | B22: JANUARY | AC22: 43150 | AE22: SS03
B23: =IF($B$22=$H$2,1,0) -> 1 | C23: =IF($B$22=$H$2,1,0) -> 1 | D23: =IF($B$22=$H$2,1,0) -> 1 | E23: =IF($B$22=$H$2,1,0) -> 1 | F23: =IF($B$22=$H$2,1,0) -> 1 | G23: =IF($B$22=$H$2,1,0) -> 1 | H23: =IF($B$22=$H$2,1,0) -> 1 | I23: =IF($B$22=$H$2,1,0) -> 1 | ... Y23: =IF($B$22=$H$2,1,0) -> 1 | AC23: 43248 | AE23: SS04
A24: REG_CONSTANT | B24: {=SUM(IF($F$2=Data!$A$2:$A$8633,IF($B$22=Data!$F$2:$F$8633,IF(B$16=Data!$E$2:$E$8633,IF(B$23>=Data!$J$2:$J$8633,IF(B$23<=Data!$K$2:$K$8633,Data!$G$2:$G$8633))))))} -> 0 | C24: {=SUM(IF($F$2=Data!$A$2:$A$8633,IF($H$2=$H$2,IF($B$22=Data!$F$2:$F$8633,IF(C$16=Data!$E$2:$E$8633,IF(C$23>=Data!$J$2:$J$8633,IF(C$23<=Data!$K$2:$K$8633,Data!$G$2:$G$8633)))))))} -> 0 | D24: {=SUM(IF($F$2=Data!$A$2:$A$8633,IF($H$2=$H$2,IF($B$22=Data!$F$2:$F$8633,IF(D$16=Data!$E$2:$E$8633,IF(D$23>=Data!$J$2:$J$8633,IF(D$23<=Data!$K$2:$K$8633,Data!$G$2:$G$8633)))))))} -> 0 | E24: {=SUM(IF($F$2=Data!$A$2:$A$8633,IF($H$2=$H$2,IF($B$22=Data!$F$2:$F$8633,IF(E$16=Data!$E$2:$E$8633,IF(E$23>=Data!$J$2:$J$8633,IF(E$23<=Data!$K$2:$K$8633,Data!$G$2:$G$8633)))))))} -> 0 | F24: {=SUM(IF($F$2=Data!$A$2:$A$8633,IF($H$2=$H$2,IF($B$22=Data!$F$2:$F$8633,IF(F$16=Data!$E$2:$E$8633,IF(F$23>=Data!$J$2:$J$8633,IF(F$23<=Data!$K$2:$K$8633,Data!$G$2:$G$8633)))))))} -> 0 | G24: {=SUM(IF($F$2=Data!$A$2:$A$8633,IF($H$2=$H$2,IF($B$22=Data!$F$2:$F$8633,IF(G$16=Data!$E$2:$E$8633,IF(G$23>=Data!$J$2:$J$8633,IF(G$23<=Data!$K$2:$K$8633,Data!$G$2:$G$8633)))))))} -> 0 | H24: {=SUM(IF($F$2=Data!$A$2:$A$8633,IF($H$2=$H$2,IF($B$22=Data!$F$2:$F$8633,IF(H$16=Data!$E$2:$E$8633,IF(H$23>=Data!$J$2:$J$8633,IF(H$23<=Data!$K$2:$K$8633,Data!$G$2:$G$8633)))))))} -> 0 | I24: {=SUM(IF($F$2=Data!$A$2:$A$8633,IF($H$2=$H$2,IF($B$22=Data!$F$2:$F$8633,IF(I$16=Data!$E$2:$E$8633,IF(I$23>=Data!$J$2:$J$8633,IF(I$23<=Data!$K$2:$K$8633,Data!$G$2:$G$8633)))))))} -> 0 | J24: {=SUM(IF($F$2=Data!$A$2:$A$8633,IF($H$2=$H$2,IF($B$22=Data!$F$2:$F$8633,IF(J$16=Data!$E$2:$E$8633,IF(J$23>=Data!$J$2:$J$8633,IF(J$23<=Data!$K$2:$K$8633,Data!$G$2:$G$8633)))))))} -> 0 | ... Y24: {=SUM(IF($F$2=Data!$A$2:$A$8633,IF($H$2=$H$2,IF($B$22=Data!$F$2:$F$8633,IF(Y$16=Data!$E$2:$E$8633,IF(Y$23>=Data!$J$2:$J$8633,IF(Y$23<=Data!$K$2:$K$8633,Data!$G$2:$G$8633)))))))} -> 0 | AC24: 43285 | AE24: SS05
A25: COEF 1 | B25: {=SUM(IF($F$2=Data!$A$2:$A$8633,IF($H$2=$H$2,IF($B$22=Data!$F$2:$F$8633,IF(B$16=Data!$E$2:$E$8633,IF(0=Data!$H$2:$H$8633,Data!$I$2:$I$8633))))))} -> 0 | C25: {=SUM(IF($F$2=Data!$A$2:$A$8633,IF($H$2=$H$2,IF($B$22=Data!$F$2:$F$8633,IF(C$16=Data!$E$2:$E$8633,IF(0=Data!$H$2:$H$8633,Data!$I$2:$I$8633))))))} -> 0 | D25: {=SUM(IF($F$2=Data!$A$2:$A$8633,IF($H$2=$H$2,IF($B$22=Data!$F$2:$F$8633,IF(D$16=Data!$E$2:$E$8633,IF(0=Data!$H$2:$H$8633,Data!$I$2:$I$8633))))))} -> 0 | E25: {=SUM(IF($F$2=Data!$A$2:$A$8633,IF($H$2=$H$2,IF($B$22=Data!$F$2:$F$8633,IF(E$16=Data!$E$2:$E$8633,IF(0=Data!$H$2:$H$8633,Data!$I$2:$I$8633))))))} -> 0 | F25: {=SUM(IF($F$2=Data!$A$2:$A$8633,IF($H$2=$H$2,IF($B$22=Data!$F$2:$F$8633,IF(F$16=Data!$E$2:$E$8633,IF(0=Data!$H$2:$H$8633,Data!$I$2:$I$8633))))))} -> 0 | G25: {=SUM(IF($F$2=Data!$A$2:$A$8633,IF($H$2=$H$2,IF($B$22=Data!$F$2:$F$8633,IF(G$16=Data!$E$2:$E$8633,IF(0=Data!$H$2:$H$8633,Data!$I$2:$I$8633))))))} -> 0 | H25: {=SUM(IF($F$2=Data!$A$2:$A$8633,IF($H$2=$H$2,IF($B$22=Data!$F$2:$F$8633,IF(H$16=Data!$E$2:$E$8633,IF(0=Data!$H$2:$H$8633,Data!$I$2:$I$8633))))))} -> 0 | I25: {=SUM(IF($F$2=Data!$A$2:$A$8633,IF($H$2=$H$2,IF($B$22=Data!$F$2:$F$8633,IF(I$16=Data!$E$2:$E$8633,IF(0=Data!$H$2:$H$8633,Data!$I$2:$I$8633))))))} -> 0 | ... Y25: {=SUM(IF($F$2=Data!$A$2:$A$8633,IF($H$2=$H$2,IF($B$22=Data!$F$2:$F$8633,IF(Y$16=Data!$E$2:$E$8633,IF(0=Data!$H$2:$H$8633,Data!$I$2:$I$8633))))))} -> 0 | AC25: 43346 | AE25: SS06
A26: COEF 2 | B26: {=SUM(IF($F$2=Data!$A$2:$A$8633,IF($H$2=$H$2,IF($B$22=Data!$F$2:$F$8633,IF(B$16=Data!$E$2:$E$8633,IF(1=Data!$H$2:$H$8633,Data!$I$2:$I$8633))))))} -> 0 | C26: {=SUM(IF($F$2=Data!$A$2:$A$8633,IF($H$2=$H$2,IF($B$22=Data!$F$2:$F$8633,IF(C$16=Data!$E$2:$E$8633,IF(1=Data!$H$2:$H$8633,Data!$I$2:$I$8633))))))} -> 0 | D26: {=SUM(IF($F$2=Data!$A$2:$A$8633,IF($H$2=$H$2,IF($B$22=Data!$F$2:$F$8633,IF(D$16=Data!$E$2:$E$8633,IF(1=Data!$H$2:$H$8633,Data!$I$2:$I$8633))))))} -> 0 | E26: {=SUM(IF($F$2=Data!$A$2:$A$8633,IF($H$2=$H$2,IF($B$22=Data!$F$2:$F$8633,IF(E$16=Data!$E$2:$E$8633,IF(1=Data!$H$2:$H$8633,Data!$I$2:$I$8633))))))} -> 0 | F26: {=SUM(IF($F$2=Data!$A$2:$A$8633,IF($H$2=$H$2,IF($B$22=Data!$F$2:$F$8633,IF(F$16=Data!$E$2:$E$8633,IF(1=Data!$H$2:$H$8633,Data!$I$2:$I$8633))))))} -> 0 | G26: {=SUM(IF($F$2=Data!$A$2:$A$8633,IF($H$2=$H$2,IF($B$22=Data!$F$2:$F$8633,IF(G$16=Data!$E$2:$E$8633,IF(1=Data!$H$2:$H$8633,Data!$I$2:$I$8633))))))} -> 0 | H26: {=SUM(IF($F$2=Data!$A$2:$A$8633,IF($H$2=$H$2,IF($B$22=Data!$F$2:$F$8633,IF(H$16=Data!$E$2:$E$8633,IF(1=Data!$H$2:$H$8633,Data!$I$2:$I$8633))))))} -> 0 | I26: {=SUM(IF($F$2=Data!$A$2:$A$8633,IF($H$2=$H$2,IF($B$22=Data!$F$2:$F$8633,IF(I$16=Data!$E$2:$E$8633,IF(1=Data!$H$2:$H$8633,Data!$I$2:$I$8633))))))} -> 0 | ... Y26: {=SUM(IF($F$2=Data!$A$2:$A$8633,IF($H$2=$H$2,IF($B$22=Data!$F$2:$F$8633,IF(Y$16=Data!$E$2:$E$8633,IF(1=Data!$H$2:$H$8633,Data!$I$2:$I$8633))))))} -> 0 | AC26: 43381 | AE26: TS01
A27: COEF 3 | B27: {=SUM(IF($F$2=Data!$A$2:$A$8633,IF($H$2=$H$2,IF($B$22=Data!$F$2:$F$8633,IF(B$16=Data!$E$2:$E$8633,IF(2=Data!$H$2:$H$8633,Data!$I$2:$I$8633))))))} -> 0 | C27: {=SUM(IF($F$2=Data!$A$2:$A$8633,IF($H$2=$H$2,IF($B$22=Data!$F$2:$F$8633,IF(C$16=Data!$E$2:$E$8633,IF(2=Data!$H$2:$H$8633,Data!$I$2:$I$8633))))))} -> 0 | D27: {=SUM(IF($F$2=Data!$A$2:$A$8633,IF($H$2=$H$2,IF($B$22=Data!$F$2:$F$8633,IF(D$16=Data!$E$2:$E$8633,IF(2=Data!$H$2:$H$8633,Data!$I$2:$I$8633))))))} -> 0 | E27: {=SUM(IF($F$2=Data!$A$2:$A$8633,IF($H$2=$H$2,IF($B$22=Data!$F$2:$F$8633,IF(E$16=Data!$E$2:$E$8633,IF(2=Data!$H$2:$H$8633,Data!$I$2:$I$8633))))))} -> 0 | F27: {=SUM(IF($F$2=Data!$A$2:$A$8633,IF($H$2=$H$2,IF($B$22=Data!$F$2:$F$8633,IF(F$16=Data!$E$2:$E$8633,IF(2=Data!$H$2:$H$8633,Data!$I$2:$I$8633))))))} -> 0 | G27: {=SUM(IF($F$2=Data!$A$2:$A$8633,IF($H$2=$H$2,IF($B$22=Data!$F$2:$F$8633,IF(G$16=Data!$E$2:$E$8633,IF(2=Data!$H$2:$H$8633,Data!$I$2:$I$8633))))))} -> 0 | H27: {=SUM(IF($F$2=Data!$A$2:$A$8633,IF($H$2=$H$2,IF($B$22=Data!$F$2:$F$8633,IF(H$16=Data!$E$2:$E$8633,IF(2=Data!$H$2:$H$8633,Data!$I$2:$I$8633))))))} -> 0 | I27: {=SUM(IF($F$2=Data!$A$2:$A$8633,IF($H$2=$H$2,IF($B$22=Data!$F$2:$F$8633,IF(I$16=Data!$E$2:$E$8633,IF(2=Data!$H$2:$H$8633,Data!$I$2:$I$8633))))))} -> 0 | ... Y27: {=SUM(IF($F$2=Data!$A$2:$A$8633,IF($H$2=$H$2,IF($B$22=Data!$F$2:$F$8633,IF(Y$16=Data!$E$2:$E$8633,IF(2=Data!$H$2:$H$8633,Data!$I$2:$I$8633))))))} -> 0 | AC27: 43415
A28: COEF 4 | B28: {=SUM(IF($F$2=Data!$A$2:$A$8633,IF($H$2=$H$2,IF($B$22=Data!$F$2:$F$8633,IF(B$16=Data!$E$2:$E$8633,IF(3=Data!$H$2:$H$8633,Data!$I$2:$I$8633))))))} -> 0 | C28: {=SUM(IF($F$2=Data!$A$2:$A$8633,IF($H$2=$H$2,IF($B$22=Data!$F$2:$F$8633,IF(C$16=Data!$E$2:$E$8633,IF(3=Data!$H$2:$H$8633,Data!$I$2:$I$8633))))))} -> 0 | D28: {=SUM(IF($F$2=Data!$A$2:$A$8633,IF($H$2=$H$2,IF($B$22=Data!$F$2:$F$8633,IF(D$16=Data!$E$2:$E$8633,IF(3=Data!$H$2:$H$8633,Data!$I$2:$I$8633))))))} -> 0 | E28: {=SUM(IF($F$2=Data!$A$2:$A$8633,IF($H$2=$H$2,IF($B$22=Data!$F$2:$F$8633,IF(E$16=Data!$E$2:$E$8633,IF(3=Data!$H$2:$H$8633,Data!$I$2:$I$8633))))))} -> 0 | F28: {=SUM(IF($F$2=Data!$A$2:$A$8633,IF($H$2=$H$2,IF($B$22=Data!$F$2:$F$8633,IF(F$16=Data!$E$2:$E$8633,IF(3=Data!$H$2:$H$8633,Data!$I$2:$I$8633))))))} -> 0 | G28: {=SUM(IF($F$2=Data!$A$2:$A$8633,IF($H$2=$H$2,IF($B$22=Data!$F$2:$F$8633,IF(G$16=Data!$E$2:$E$8633,IF(3=Data!$H$2:$H$8633,Data!$I$2:$I$8633))))))} -> 0 | H28: {=SUM(IF($F$2=Data!$A$2:$A$8633,IF($H$2=$H$2,IF($B$22=Data!$F$2:$F$8633,IF(H$16=Data!$E$2:$E$8633,IF(3=Data!$H$2:$H$8633,Data!$I$2:$I$8633))))))} -> 0 | I28: {=SUM(IF($F$2=Data!$A$2:$A$8633,IF($H$2=$H$2,IF($B$22=Data!$F$2:$F$8633,IF(I$16=Data!$E$2:$E$8633,IF(3=Data!$H$2:$H$8633,Data!$I$2:$I$8633))))))} -> 0 | ... Y28: {=SUM(IF($F$2=Data!$A$2:$A$8633,IF($H$2=$H$2,IF($B$22=Data!$F$2:$F$8633,IF(Y$16=Data!$E$2:$E$8633,IF(3=Data!$H$2:$H$8633,Data!$I$2:$I$8633))))))} -> 0 | AC28: 43426
A29: BP 1 | B29: {=SUM(IF($F$2=Data!$A$2:$A$8633,IF($H$2=$H$2,IF($B$22=Data!$F$2:$F$8633,IF(B$16=Data!$E$2:$E$8633,IF(0=Data!$H$2:$H$8633,Data!$K$2:$K$8633))))))} -> 0 | C29: {=SUM(IF($F$2=Data!$A$2:$A$8633,IF($H$2=$H$2,IF($B$22=Data!$F$2:$F$8633,IF(C$16=Data!$E$2:$E$8633,IF(0=Data!$H$2:$H$8633,Data!$K$2:$K$8633))))))} -> 0 | D29: {=SUM(IF($F$2=Data!$A$2:$A$8633,IF($H$2=$H$2,IF($B$22=Data!$F$2:$F$8633,IF(D$16=Data!$E$2:$E$8633,IF(0=Data!$H$2:$H$8633,Data!$K$2:$K$8633))))))} -> 0 | E29: {=SUM(IF($F$2=Data!$A$2:$A$8633,IF($H$2=$H$2,IF($B$22=Data!$F$2:$F$8633,IF(E$16=Data!$E$2:$E$8633,IF(0=Data!$H$2:$H$8633,Data!$K$2:$K$8633))))))} -> 0 | F29: {=SUM(IF($F$2=Data!$A$2:$A$8633,IF($H$2=$H$2,IF($B$22=Data!$F$2:$F$8633,IF(F$16=Data!$E$2:$E$8633,IF(0=Data!$H$2:$H$8633,Data!$K$2:$K$8633))))))} -> 0 | G29: {=SUM(IF($F$2=Data!$A$2:$A$8633,IF($H$2=$H$2,IF($B$22=Data!$F$2:$F$8633,IF(G$16=Data!$E$2:$E$8633,IF(0=Data!$H$2:$H$8633,Data!$K$2:$K$8633))))))} -> 0 | H29: {=SUM(IF($F$2=Data!$A$2:$A$8633,IF($H$2=$H$2,IF($B$22=Data!$F$2:$F$8633,IF(H$16=Data!$E$2:$E$8633,IF(0=Data!$H$2:$H$8633,Data!$K$2:$K$8633))))))} -> 0 | I29: {=SUM(IF($F$2=Data!$A$2:$A$8633,IF($H$2=$H$2,IF($B$22=Data!$F$2:$F$8633,IF(I$16=Data!$E$2:$E$8633,IF(0=Data!$H$2:$H$8633,Data!$K$2:$K$8633))))))} -> 0 | ... Y29: {=SUM(IF($F$2=Data!$A$2:$A$8633,IF($H$2=$H$2,IF($B$22=Data!$F$2:$F$8633,IF(Y$16=Data!$E$2:$E$8633,IF(0=Data!$H$2:$H$8633,Data!$K$2:$K$8633))))))} -> 0 | AC29: 43459
A30: BP 2 | B30: {=SUM(IF($F$2=Data!$A$2:$A$8633,IF($H$2=$H$2,IF($B$22=Data!$F$2:$F$8633,IF(B$16=Data!$E$2:$E$8633,IF(1=Data!$H$2:$H$8633,Data!$K$2:$K$8633))))))} -> 0 | C30: {=SUM(IF($F$2=Data!$A$2:$A$8633,IF($H$2=$H$2,IF($B$22=Data!$F$2:$F$8633,IF(C$16=Data!$E$2:$E$8633,IF(1=Data!$H$2:$H$8633,Data!$K$2:$K$8633))))))} -> 0 | D30: {=SUM(IF($F$2=Data!$A$2:$A$8633,IF($H$2=$H$2,IF($B$22=Data!$F$2:$F$8633,IF(D$16=Data!$E$2:$E$8633,IF(1=Data!$H$2:$H$8633,Data!$K$2:$K$8633))))))} -> 0 | E30: {=SUM(IF($F$2=Data!$A$2:$A$8633,IF($H$2=$H$2,IF($B$22=Data!$F$2:$F$8633,IF(E$16=Data!$E$2:$E$8633,IF(1=Data!$H$2:$H$8633,Data!$K$2:$K$8633))))))} -> 0 | F30: {=SUM(IF($F$2=Data!$A$2:$A$8633,IF($H$2=$H$2,IF($B$22=Data!$F$2:$F$8633,IF(F$16=Data!$E$2:$E$8633,IF(1=Data!$H$2:$H$8633,Data!$K$2:$K$8633))))))} -> 0 | G30: {=SUM(IF($F$2=Data!$A$2:$A$8633,IF($H$2=$H$2,IF($B$22=Data!$F$2:$F$8633,IF(G$16=Data!$E$2:$E$8633,IF(1=Data!$H$2:$H$8633,Data!$K$2:$K$8633))))))} -> 0 | H30: {=SUM(IF($F$2=Data!$A$2:$A$8633,IF($H$2=$H$2,IF($B$22=Data!$F$2:$F$8633,IF(H$16=Data!$E$2:$E$8633,IF(1=Data!$H$2:$H$8633,Data!$K$2:$K$8633))))))} -> 0 | I30: {=SUM(IF($F$2=Data!$A$2:$A$8633,IF($H$2=$H$2,IF($B$22=Data!$F$2:$F$8633,IF(I$16=Data!$E$2:$E$8633,IF(1=Data!$H$2:$H$8633,Data!$K$2:$K$8633))))))} -> 0 | ... Y30: {=SUM(IF($F$2=Data!$A$2:$A$8633,IF($H$2=$H$2,IF($B$22=Data!$F$2:$F$8633,IF(Y$16=Data!$E$2:$E$8633,IF(1=Data!$H$2:$H$8633,Data!$K$2:$K$8633))))))} -> 0 | AC30: 43466
A31: BP 3 | B31: {=SUM(IF($F$2=Data!$A$2:$A$8633,IF($H$2=$H$2,IF($B$22=Data!$F$2:$F$8633,IF(B$16=Data!$E$2:$E$8633,IF(2=Data!$H$2:$H$8633,Data!$K$2:$K$8633))))))} -> 0 | C31: {=SUM(IF($F$2=Data!$A$2:$A$8633,IF($H$2=$H$2,IF($B$22=Data!$F$2:$F$8633,IF(C$16=Data!$E$2:$E$8633,IF(2=Data!$H$2:$H$8633,Data!$K$2:$K$8633))))))} -> 0 | D31: {=SUM(IF($F$2=Data!$A$2:$A$8633,IF($H$2=$H$2,IF($B$22=Data!$F$2:$F$8633,IF(D$16=Data!$E$2:$E$8633,IF(2=Data!$H$2:$H$8633,Data!$K$2:$K$8633))))))} -> 0 | E31: {=SUM(IF($F$2=Data!$A$2:$A$8633,IF($H$2=$H$2,IF($B$22=Data!$F$2:$F$8633,IF(E$16=Data!$E$2:$E$8633,IF(2=Data!$H$2:$H$8633,Data!$K$2:$K$8633))))))} -> 0 | F31: {=SUM(IF($F$2=Data!$A$2:$A$8633,IF($H$2=$H$2,IF($B$22=Data!$F$2:$F$8633,IF(F$16=Data!$E$2:$E$8633,IF(2=Data!$H$2:$H$8633,Data!$K$2:$K$8633))))))} -> 0 | G31: {=SUM(IF($F$2=Data!$A$2:$A$8633,IF($H$2=$H$2,IF($B$22=Data!$F$2:$F$8633,IF(G$16=Data!$E$2:$E$8633,IF(2=Data!$H$2:$H$8633,Data!$K$2:$K$8633))))))} -> 0 | H31: {=SUM(IF($F$2=Data!$A$2:$A$8633,IF($H$2=$H$2,IF($B$22=Data!$F$2:$F$8633,IF(H$16=Data!$E$2:$E$8633,IF(2=Data!$H$2:$H$8633,Data!$K$2:$K$8633))))))} -> 0 | I31: {=SUM(IF($F$2=Data!$A$2:$A$8633,IF($H$2=$H$2,IF($B$22=Data!$F$2:$F$8633,IF(I$16=Data!$E$2:$E$8633,IF(2=Data!$H$2:$H$8633,Data!$K$2:$K$8633))))))} -> 0 | ... Y31: {=SUM(IF($F$2=Data!$A$2:$A$8633,IF($H$2=$H$2,IF($B$22=Data!$F$2:$F$8633,IF(Y$16=Data!$E$2:$E$8633,IF(2=Data!$H$2:$H$8633,Data!$K$2:$K$8633))))))} -> 0 | AC31: 43486
A32: BP 4 | B32: {=SUM(IF($F$2=Data!$A$2:$A$8633,IF($H$2=$H$2,IF($B$22=Data!$F$2:$F$8633,IF(B$16=Data!$E$2:$E$8633,IF(3=Data!$H$2:$H$8633,Data!$K$2:$K$8633))))))} -> 0 | C32: {=SUM(IF($F$2=Data!$A$2:$A$8633,IF($H$2=$H$2,IF($B$22=Data!$F$2:$F$8633,IF(C$16=Data!$E$2:$E$8633,IF(3=Data!$H$2:$H$8633,Data!$K$2:$K$8633))))))} -> 0 | D32: {=SUM(IF($F$2=Data!$A$2:$A$8633,IF($H$2=$H$2,IF($B$22=Data!$F$2:$F$8633,IF(D$16=Data!$E$2:$E$8633,IF(3=Data!$H$2:$H$8633,Data!$K$2:$K$8633))))))} -> 0 | E32: {=SUM(IF($F$2=Data!$A$2:$A$8633,IF($H$2=$H$2,IF($B$22=Data!$F$2:$F$8633,IF(E$16=Data!$E$2:$E$8633,IF(3=Data!$H$2:$H$8633,Data!$K$2:$K$8633))))))} -> 0 | F32: {=SUM(IF($F$2=Data!$A$2:$A$8633,IF($H$2=$H$2,IF($B$22=Data!$F$2:$F$8633,IF(F$16=Data!$E$2:$E$8633,IF(3=Data!$H$2:$H$8633,Data!$K$2:$K$8633))))))} -> 0 | G32: {=SUM(IF($F$2=Data!$A$2:$A$8633,IF($H$2=$H$2,IF($B$22=Data!$F$2:$F$8633,IF(G$16=Data!$E$2:$E$8633,IF(3=Data!$H$2:$H$8633,Data!$K$2:$K$8633))))))} -> 0 | H32: {=SUM(IF($F$2=Data!$A$2:$A$8633,IF($H$2=$H$2,IF($B$22=Data!$F$2:$F$8633,IF(H$16=Data!$E$2:$E$8633,IF(3=Data!$H$2:$H$8633,Data!$K$2:$K$8633))))))} -> 0 | I32: {=SUM(IF($F$2=Data!$A$2:$A$8633,IF($H$2=$H$2,IF($B$22=Data!$F$2:$F$8633,IF(I$16=Data!$E$2:$E$8633,IF(3=Data!$H$2:$H$8633,Data!$K$2:$K$8633))))))} -> 0 | ... Y32: {=SUM(IF($F$2=Data!$A$2:$A$8633,IF($H$2=$H$2,IF($B$22=Data!$F$2:$F$8633,IF(Y$16=Data!$E$2:$E$8633,IF(3=Data!$H$2:$H$8633,Data!$K$2:$K$8633))))))} -> 0 | AC32: 43514
AC33: 43612
A34: L1 EST PROF | B34: =IF(B$23<B29,B24+B$23*B25,"N/A") -> N/A | C34: =IF(C$23<C29,C24+C$23*C25,"N/A") -> N/A | D34: =IF(D$23<D29,D24+D$23*D25,"N/A") -> N/A | E34: =IF(E$23<E29,E24+E$23*E25,"N/A") -> N/A | F34: =IF(F$23<F29,F24+F$23*F25,"N/A") -> N/A | G34: =IF(G$23<G29,G24+G$23*G25,"N/A") -> N/A | H34: =IF(H$23<H29,H24+H$23*H25,"N/A") -> N/A | I34: =IF(I$23<I29,I24+I$23*I25,"N/A") -> N/A | ... Y34: =IF(Y$23<Y29,Y24+Y$23*Y25,"N/A") -> N/A | AC34: 43650
A35: L2 EST PROF | B35: =IF(AND(B29<>0,B29<B$23,B$23<B30),B24+B$23*B25+(B$23-B29)*B26,"N/A") -> N/A | C35: =IF(AND(C29<>0,C29<C$23,C$23<C30),C24+C$23*C25+(C$23-C29)*C26,"N/A") -> N/A | D35: =IF(AND(D29<>0,D29<D$23,D$23<D30),D24+D$23*D25+(D$23-D29)*D26,"N/A") -> N/A | E35: =IF(AND(E29<>0,E29<E$23,E$23<E30),E24+E$23*E25+(E$23-E29)*E26,"N/A") -> N/A | F35: =IF(AND(F29<>0,F29<F$23,F$23<F30),F24+F$23*F25+(F$23-F29)*F26,"N/A") -> N/A | G35: =IF(AND(G29<>0,G29<G$23,G$23<G30),G24+G$23*G25+(G$23-G29)*G26,"N/A") -> N/A | H35: =IF(AND(H29<>0,H29<H$23,H$23<H30),H24+H$23*H25+(H$23-H29)*H26,"N/A") -> N/A | I35: =IF(AND(I29<>0,I29<I$23,I$23<I30),I24+I$23*I25+(I$23-I29)*I26,"N/A") -> N/A | ... Y35: =IF(AND(Y29<>0,Y29<Y$23,Y$23<Y30),Y24+Y$23*Y25+(Y$23-Y29)*Y26,"N/A") -> N/A | AC35: 43710
A36: L3 EST PROF | B36: =IF(AND(B30<>0,B30<B$23,B$23<B31),B24+B$23*B25+(B$23-B29)*B26+(B$23-B30)*B27,"N/A") -> N/A | C36: =IF(AND(C30<>0,C30<C$23,C$23<C31),C24+C$23*C25+(C$23-C29)*C26+(C$23-C30)*C27,"N/A") -> N/A | D36: =IF(AND(D30<>0,D30<D$23,D$23<D31),D24+D$23*D25+(D$23-D29)*D26+(D$23-D30)*D27,"N/A") -> N/A | E36: =IF(AND(E30<>0,E30<E$23,E$23<E31),E24+E$23*E25+(E$23-E29)*E26+(E$23-E30)*E27,"N/A") -> N/A | F36: =IF(AND(F30<>0,F30<F$23,F$23<F31),F24+F$23*F25+(F$23-F29)*F26+(F$23-F30)*F27,"N/A") -> N/A | G36: =IF(AND(G30<>0,G30<G$23,G$23<G31),G24+G$23*G25+(G$23-G29)*G26+(G$23-G30)*G27,"N/A") -> N/A | H36: =IF(AND(H30<>0,H30<H$23,H$23<H31),H24+H$23*H25+(H$23-H29)*H26+(H$23-H30)*H27,"N/A") -> N/A | I36: =IF(AND(I30<>0,I30<I$23,I$23<I31),I24+I$23*I25+(I$23-I29)*I26+(I$23-I30)*I27,"N/A") -> N/A | ... Y36: =IF(AND(Y30<>0,Y30<Y$23,Y$23<Y31),Y24+Y$23*Y25+(Y$23-Y29)*Y26+(Y$23-Y30)*Y27,"N/A") -> N/A | AC36: 43752
A37: L4 EST PROF | B37: =IF(AND(B31<>0,B31<B$23,B$23<B32),B24+B$23*B25+(B$23-B29)*B26+(B$23-B30)*B27+(B$23-B31)*B28,"N/A") -> N/A | C37: =IF(AND(C31<>0,C31<C$23,C$23<C32),C24+C$23*C25+(C$23-C29)*C26+(C$23-C30)*C27+(C$23-C31)*C28,"N/A") -> N/A | D37: =IF(AND(D31<>0,D31<D$23,D$23<D32),D24+D$23*D25+(D$23-D29)*D26+(D$23-D30)*D27+(D$23-D31)*D28,"N/A") -> N/A | E37: =IF(AND(E31<>0,E31<E$23,E$23<E32),E24+E$23*E25+(E$23-E29)*E26+(E$23-E30)*E27+(E$23-E31)*E28,"N/A") -> N/A | F37: =IF(AND(F31<>0,F31<F$23,F$23<F32),F24+F$23*F25+(F$23-F29)*F26+(F$23-F30)*F27+(F$23-F31)*F28,"N/A") -> N/A | G37: =IF(AND(G31<>0,G31<G$23,G$23<G32),G24+G$23*G25+(G$23-G29)*G26+(G$23-G30)*G27+(G$23-G31)*G28,"N/A") -> N/A | H37: =IF(AND(H31<>0,H31<H$23,H$23<H32),H24+H$23*H25+(H$23-H29)*H26+(H$23-H30)*H27+(H$23-H31)*H28,"N/A") -> N/A | I37: =IF(AND(I31<>0,I31<I$23,I$23<I32),I24+I$23*I25+(I$23-I29)*I26+(I$23-I30)*I27+(I$23-I31)*I28,"N/A") -> N/A | ... Y37: =IF(AND(Y31<>0,Y31<Y$23,Y$23<Y32),Y24+Y$23*Y25+(Y$23-Y29)*Y26+(Y$23-Y30)*Y27+(Y$23-Y31)*Y28,"N/A") -> N/A | AC37: 43780
A38: bX | B38: =IF(B34<>"N/A",B34,IF(B35<>"N/A",B35,IF(B36<>"N/A",B36,IF(B37<>"N/A",B37,0))))-B24 -> 0 | C38: =IF(C34<>"N/A",C34,IF(C35<>"N/A",C35,IF(C36<>"N/A",C36,IF(C37<>"N/A",C37,0))))-C24 -> 0 | D38: =IF(D34<>"N/A",D34,IF(D35<>"N/A",D35,IF(D36<>"N/A",D36,IF(D37<>"N/A",D37,0))))-D24 -> 0 | E38: =IF(E34<>"N/A",E34,IF(E35<>"N/A",E35,IF(E36<>"N/A",E36,IF(E37<>"N/A",E37,0))))-E24 -> 0 | F38: =IF(F34<>"N/A",F34,IF(F35<>"N/A",F35,IF(F36<>"N/A",F36,IF(F37<>"N/A",F37,0))))-F24 -> 0 | G38: =IF(G34<>"N/A",G34,IF(G35<>"N/A",G35,IF(G36<>"N/A",G36,IF(G37<>"N/A",G37,0))))-G24 -> 0 | H38: =IF(H34<>"N/A",H34,IF(H35<>"N/A",H35,IF(H36<>"N/A",H36,IF(H37<>"N/A",H37,0))))-H24 -> 0 | I38: =IF(I34<>"N/A",I34,IF(I35<>"N/A",I35,IF(I36<>"N/A",I36,IF(I37<>"N/A",I37,0))))-I24 -> 0 | ... Y38: =IF(Y34<>"N/A",Y34,IF(Y35<>"N/A",Y35,IF(Y36<>"N/A",Y36,IF(Y37<>"N/A",Y37,0))))-Y24 -> 0 | AC38: 43797
AC39: 43824
A40: Profile Variable: | B40: FEBRUARY | AC40: 43831
B41: =IF($B$40=$H$2,1,0) -> 0 | C41: =IF($B$40=$H$2,1,0) -> 0 | D41: =IF($B$40=$H$2,1,0) -> 0 | E41: =IF($B$40=$H$2,1,0) -> 0 | F41: =IF($B$40=$H$2,1,0) -> 0 | G41: =IF($B$40=$H$2,1,0) -> 0 | H41: =IF($B$40=$H$2,1,0) -> 0 | I41: =IF($B$40=$H$2,1,0) -> 0 | ... Y41: =IF($B$40=$H$2,1,0) -> 0 | AC41: 43850
A42: REG_CONSTANT | B42: {=SUM(IF($F$2=Data!$A$2:$A$8633,IF($B$40=Data!$F$2:$F$8633,IF(B$16=Data!$E$2:$E$8633,IF(B$41>=Data!$J$2:$J$8633,IF(B$41<=Data!$K$2:$K$8633,Data!$G$2:$G$8633))))))} -> 0 | C42: {=SUM(IF($F$2=Data!$A$2:$A$8633,IF($H$2=$H$2,IF($B$40=Data!$F$2:$F$8633,IF(C$16=Data!$E$2:$E$8633,IF(C$41>=Data!$J$2:$J$8633,IF(C$41<=Data!$K$2:$K$8633,Data!$G$2:$G$8633)))))))} -> 0 | D42: {=SUM(IF($F$2=Data!$A$2:$A$8633,IF($H$2=$H$2,IF($B$40=Data!$F$2:$F$8633,IF(D$16=Data!$E$2:$E$8633,IF(D$41>=Data!$J$2:$J$8633,IF(D$41<=Data!$K$2:$K$8633,Data!$G$2:$G$8633)))))))} -> 0 | E42: {=SUM(IF($F$2=Data!$A$2:$A$8633,IF($H$2=$H$2,IF($B$40=Data!$F$2:$F$8633,IF(E$16=Data!$E$2:$E$8633,IF(E$41>=Data!$J$2:$J$8633,IF(E$41<=Data!$K$2:$K$8633,Data!$G$2:$G$8633)))))))} -> 0 | F42: {=SUM(IF($F$2=Data!$A$2:$A$8633,IF($H$2=$H$2,IF($B$40=Data!$F$2:$F$8633,IF(F$16=Data!$E$2:$E$8633,IF(F$41>=Data!$J$2:$J$8633,IF(F$41<=Data!$K$2:$K$8633,Data!$G$2:$G$8633)))))))} -> 0 | G42: {=SUM(IF($F$2=Data!$A$2:$A$8633,IF($H$2=$H$2,IF($B$40=Data!$F$2:$F$8633,IF(G$16=Data!$E$2:$E$8633,IF(G$41>=Data!$J$2:$J$8633,IF(G$41<=Data!$K$2:$K$8633,Data!$G$2:$G$8633)))))))} -> 0 | H42: {=SUM(IF($F$2=Data!$A$2:$A$8633,IF($H$2=$H$2,IF($B$40=Data!$F$2:$F$8633,IF(H$16=Data!$E$2:$E$8633,IF(H$41>=Data!$J$2:$J$8633,IF(H$41<=Data!$K$2:$K$8633,Data!$G$2:$G$8633)))))))} -> 0 | I42: {=SUM(IF($F$2=Data!$A$2:$A$8633,IF($H$2=$H$2,IF($B$40=Data!$F$2:$F$8633,IF(I$16=Data!$E$2:$E$8633,IF(I$41>=Data!$J$2:$J$8633,IF(I$41<=Data!$K$2:$K$8633,Data!$G$2:$G$8633)))))))} -> 0 | J42: {=SUM(IF($F$2=Data!$A$2:$A$8633,IF($H$2=$H$2,IF($B$40=Data!$F$2:$F$8633,IF(J$16=Data!$E$2:$E$8633,IF(J$41>=Data!$J$2:$J$8633,IF(J$41<=Data!$K$2:$K$8633,Data!$G$2:$G$8633)))))))} -> 0 | ... Y42: {=SUM(IF($F$2=Data!$A$2:$A$8633,IF($H$2=$H$2,IF($B$40=Data!$F$2:$F$8633,IF(Y$16=Data!$E$2:$E$8633,IF(Y$41>=Data!$J$2:$J$8633,IF(Y$41<=Data!$K$2:$K$8633,Data!$G$2:$G$8633)))))))} -> 0 | AC42: 43878
A43: COEF 1 | B43: {=SUM(IF($F$2=Data!$A$2:$A$8633,IF($H$2=$H$2,IF($B$40=Data!$F$2:$F$8633,IF(B$16=Data!$E$2:$E$8633,IF(0=Data!$H$2:$H$8633,Data!$I$2:$I$8633))))))} -> 0 | C43: {=SUM(IF($F$2=Data!$A$2:$A$8633,IF($H$2=$H$2,IF($B$40=Data!$F$2:$F$8633,IF(C$16=Data!$E$2:$E$8633,IF(0=Data!$H$2:$H$8633,Data!$I$2:$I$8633))))))} -> 0 | D43: {=SUM(IF($F$2=Data!$A$2:$A$8633,IF($H$2=$H$2,IF($B$40=Data!$F$2:$F$8633,IF(D$16=Data!$E$2:$E$8633,IF(0=Data!$H$2:$H$8633,Data!$I$2:$I$8633))))))} -> 0 | E43: {=SUM(IF($F$2=Data!$A$2:$A$8633,IF($H$2=$H$2,IF($B$40=Data!$F$2:$F$8633,IF(E$16=Data!$E$2:$E$8633,IF(0=Data!$H$2:$H$8633,Data!$I$2:$I$8633))))))} -> 0 | F43: {=SUM(IF($F$2=Data!$A$2:$A$8633,IF($H$2=$H$2,IF($B$40=Data!$F$2:$F$8633,IF(F$16=Data!$E$2:$E$8633,IF(0=Data!$H$2:$H$8633,Data!$I$2:$I$8633))))))} -> 0 | G43: {=SUM(IF($F$2=Data!$A$2:$A$8633,IF($H$2=$H$2,IF($B$40=Data!$F$2:$F$8633,IF(G$16=Data!$E$2:$E$8633,IF(0=Data!$H$2:$H$8633,Data!$I$2:$I$8633))))))} -> 0 | H43: {=SUM(IF($F$2=Data!$A$2:$A$8633,IF($H$2=$H$2,IF($B$40=Data!$F$2:$F$8633,IF(H$16=Data!$E$2:$E$8633,IF(0=Data!$H$2:$H$8633,Data!$I$2:$I$8633))))))} -> 0 | I43: {=SUM(IF($F$2=Data!$A$2:$A$8633,IF($H$2=$H$2,IF($B$40=Data!$F$2:$F$8633,IF(I$16=Data!$E$2:$E$8633,IF(0=Data!$H$2:$H$8633,Data!$I$2:$I$8633))))))} -> 0 | ... Y43: {=SUM(IF($F$2=Data!$A$2:$A$8633,IF($H$2=$H$2,IF($B$40=Data!$F$2:$F$8633,IF(Y$16=Data!$E$2:$E$8633,IF(0=Data!$H$2:$H$8633,Data!$I$2:$I$8633))))))} -> 0 | AC43: 43976
A44: COEF 2 | B44: {=SUM(IF($F$2=Data!$A$2:$A$8633,IF($H$2=$H$2,IF($B$40=Data!$F$2:$F$8633,IF(B$16=Data!$E$2:$E$8633,IF(1=Data!$H$2:$H$8633,Data!$I$2:$I$8633))))))} -> 0 | C44: {=SUM(IF($F$2=Data!$A$2:$A$8633,IF($H$2=$H$2,IF($B$40=Data!$F$2:$F$8633,IF(C$16=Data!$E$2:$E$8633,IF(1=Data!$H$2:$H$8633,Data!$I$2:$I$8633))))))} -> 0 | D44: {=SUM(IF($F$2=Data!$A$2:$A$8633,IF($H$2=$H$2,IF($B$40=Data!$F$2:$F$8633,IF(D$16=Data!$E$2:$E$8633,IF(1=Data!$H$2:$H$8633,Data!$I$2:$I$8633))))))} -> 0 | E44: {=SUM(IF($F$2=Data!$A$2:$A$8633,IF($H$2=$H$2,IF($B$40=Data!$F$2:$F$8633,IF(E$16=Data!$E$2:$E$8633,IF(1=Data!$H$2:$H$8633,Data!$I$2:$I$8633))))))} -> 0 | F44: {=SUM(IF($F$2=Data!$A$2:$A$8633,IF($H$2=$H$2,IF($B$40=Data!$F$2:$F$8633,IF(F$16=Data!$E$2:$E$8633,IF(1=Data!$H$2:$H$8633,Data!$I$2:$I$8633))))))} -> 0 | G44: {=SUM(IF($F$2=Data!$A$2:$A$8633,IF($H$2=$H$2,IF($B$40=Data!$F$2:$F$8633,IF(G$16=Data!$E$2:$E$8633,IF(1=Data!$H$2:$H$8633,Data!$I$2:$I$8633))))))} -> 0 | H44: {=SUM(IF($F$2=Data!$A$2:$A$8633,IF($H$2=$H$2,IF($B$40=Data!$F$2:$F$8633,IF(H$16=Data!$E$2:$E$8633,IF(1=Data!$H$2:$H$8633,Data!$I$2:$I$8633))))))} -> 0 | I44: {=SUM(IF($F$2=Data!$A$2:$A$8633,IF($H$2=$H$2,IF($B$40=Data!$F$2:$F$8633,IF(I$16=Data!$E$2:$E$8633,IF(1=Data!$H$2:$H$8633,Data!$I$2:$I$8633))))))} -> 0 | ... Y44: {=SUM(IF($F$2=Data!$A$2:$A$8633,IF($H$2=$H$2,IF($B$40=Data!$F$2:$F$8633,IF(Y$16=Data!$E$2:$E$8633,IF(1=Data!$H$2:$H$8633,Data!$I$2:$I$8633))))))} -> 0 | AC44: 44016
A45: COEF 3 | B45: {=SUM(IF($F$2=Data!$A$2:$A$8633,IF($H$2=$H$2,IF($B$40=Data!$F$2:$F$8633,IF(B$16=Data!$E$2:$E$8633,IF(2=Data!$H$2:$H$8633,Data!$I$2:$I$8633))))))} -> 0 | C45: {=SUM(IF($F$2=Data!$A$2:$A$8633,IF($H$2=$H$2,IF($B$40=Data!$F$2:$F$8633,IF(C$16=Data!$E$2:$E$8633,IF(2=Data!$H$2:$H$8633,Data!$I$2:$I$8633))))))} -> 0 | D45: {=SUM(IF($F$2=Data!$A$2:$A$8633,IF($H$2=$H$2,IF($B$40=Data!$F$2:$F$8633,IF(D$16=Data!$E$2:$E$8633,IF(2=Data!$H$2:$H$8633,Data!$I$2:$I$8633))))))} -> 0 | E45: {=SUM(IF($F$2=Data!$A$2:$A$8633,IF($H$2=$H$2,IF($B$40=Data!$F$2:$F$8633,IF(E$16=Data!$E$2:$E$8633,IF(2=Data!$H$2:$H$8633,Data!$I$2:$I$8633))))))} -> 0 | F45: {=SUM(IF($F$2=Data!$A$2:$A$8633,IF($H$2=$H$2,IF($B$40=Data!$F$2:$F$8633,IF(F$16=Data!$E$2:$E$8633,IF(2=Data!$H$2:$H$8633,Data!$I$2:$I$8633))))))} -> 0 | G45: {=SUM(IF($F$2=Data!$A$2:$A$8633,IF($H$2=$H$2,IF($B$40=Data!$F$2:$F$8633,IF(G$16=Data!$E$2:$E$8633,IF(2=Data!$H$2:$H$8633,Data!$I$2:$I$8633))))))} -> 0 | H45: {=SUM(IF($F$2=Data!$A$2:$A$8633,IF($H$2=$H$2,IF($B$40=Data!$F$2:$F$8633,IF(H$16=Data!$E$2:$E$8633,IF(2=Data!$H$2:$H$8633,Data!$I$2:$I$8633))))))} -> 0 | I45: {=SUM(IF($F$2=Data!$A$2:$A$8633,IF($H$2=$H$2,IF($B$40=Data!$F$2:$F$8633,IF(I$16=Data!$E$2:$E$8633,IF(2=Data!$H$2:$H$8633,Data!$I$2:$I$8633))))))} -> 0 | ... Y45: {=SUM(IF($F$2=Data!$A$2:$A$8633,IF($H$2=$H$2,IF($B$40=Data!$F$2:$F$8633,IF(Y$16=Data!$E$2:$E$8633,IF(2=Data!$H$2:$H$8633,Data!$I$2:$I$8633))))))} -> 0 | AC45: 44081
A46: COEF 4 | B46: {=SUM(IF($F$2=Data!$A$2:$A$8633,IF($H$2=$H$2,IF($B$40=Data!$F$2:$F$8633,IF(B$16=Data!$E$2:$E$8633,IF(3=Data!$H$2:$H$8633,Data!$I$2:$I$8633))))))} -> 0 | C46: {=SUM(IF($F$2=Data!$A$2:$A$8633,IF($H$2=$H$2,IF($B$40=Data!$F$2:$F$8633,IF(C$16=Data!$E$2:$E$8633,IF(3=Data!$H$2:$H$8633,Data!$I$2:$I$8633))))))} -> 0 | D46: {=SUM(IF($F$2=Data!$A$2:$A$8633,IF($H$2=$H$2,IF($B$40=Data!$F$2:$F$8633,IF(D$16=Data!$E$2:$E$8633,IF(3=Data!$H$2:$H$8633,Data!$I$2:$I$8633))))))} -> 0 | E46: {=SUM(IF($F$2=Data!$A$2:$A$8633,IF($H$2=$H$2,IF($B$40=Data!$F$2:$F$8633,IF(E$16=Data!$E$2:$E$8633,IF(3=Data!$H$2:$H$8633,Data!$I$2:$I$8633))))))} -> 0 | F46: {=SUM(IF($F$2=Data!$A$2:$A$8633,IF($H$2=$H$2,IF($B$40=Data!$F$2:$F$8633,IF(F$16=Data!$E$2:$E$8633,IF(3=Data!$H$2:$H$8633,Data!$I$2:$I$8633))))))} -> 0 | G46: {=SUM(IF($F$2=Data!$A$2:$A$8633,IF($H$2=$H$2,IF($B$40=Data!$F$2:$F$8633,IF(G$16=Data!$E$2:$E$8633,IF(3=Data!$H$2:$H$8633,Data!$I$2:$I$8633))))))} -> 0 | H46: {=SUM(IF($F$2=Data!$A$2:$A$8633,IF($H$2=$H$2,IF($B$40=Data!$F$2:$F$8633,IF(H$16=Data!$E$2:$E$8633,IF(3=Data!$H$2:$H$8633,Data!$I$2:$I$8633))))))} -> 0 | I46: {=SUM(IF($F$2=Data!$A$2:$A$8633,IF($H$2=$H$2,IF($B$40=Data!$F$2:$F$8633,IF(I$16=Data!$E$2:$E$8633,IF(3=Data!$H$2:$H$8633,Data!$I$2:$I$8633))))))} -> 0 | ... Y46: {=SUM(IF($F$2=Data!$A$2:$A$8633,IF($H$2=$H$2,IF($B$40=Data!$F$2:$F$8633,IF(Y$16=Data!$E$2:$E$8633,IF(3=Data!$H$2:$H$8633,Data!$I$2:$I$8633))))))} -> 0 | AC46: 44116
A47: BP 1 | B47: {=SUM(IF($F$2=Data!$A$2:$A$8633,IF($H$2=$H$2,IF($B$40=Data!$F$2:$F$8633,IF(B$16=Data!$E$2:$E$8633,IF(0=Data!$H$2:$H$8633,Data!$K$2:$K$8633))))))} -> 0 | C47: {=SUM(IF($F$2=Data!$A$2:$A$8633,IF($H$2=$H$2,IF($B$40=Data!$F$2:$F$8633,IF(C$16=Data!$E$2:$E$8633,IF(0=Data!$H$2:$H$8633,Data!$K$2:$K$8633))))))} -> 0 | D47: {=SUM(IF($F$2=Data!$A$2:$A$8633,IF($H$2=$H$2,IF($B$40=Data!$F$2:$F$8633,IF(D$16=Data!$E$2:$E$8633,IF(0=Data!$H$2:$H$8633,Data!$K$2:$K$8633))))))} -> 0 | E47: {=SUM(IF($F$2=Data!$A$2:$A$8633,IF($H$2=$H$2,IF($B$40=Data!$F$2:$F$8633,IF(E$16=Data!$E$2:$E$8633,IF(0=Data!$H$2:$H$8633,Data!$K$2:$K$8633))))))} -> 0 | F47: {=SUM(IF($F$2=Data!$A$2:$A$8633,IF($H$2=$H$2,IF($B$40=Data!$F$2:$F$8633,IF(F$16=Data!$E$2:$E$8633,IF(0=Data!$H$2:$H$8633,Data!$K$2:$K$8633))))))} -> 0 | G47: {=SUM(IF($F$2=Data!$A$2:$A$8633,IF($H$2=$H$2,IF($B$40=Data!$F$2:$F$8633,IF(G$16=Data!$E$2:$E$8633,IF(0=Data!$H$2:$H$8633,Data!$K$2:$K$8633))))))} -> 0 | H47: {=SUM(IF($F$2=Data!$A$2:$A$8633,IF($H$2=$H$2,IF($B$40=Data!$F$2:$F$8633,IF(H$16=Data!$E$2:$E$8633,IF(0=Data!$H$2:$H$8633,Data!$K$2:$K$8633))))))} -> 0 | I47: {=SUM(IF($F$2=Data!$A$2:$A$8633,IF($H$2=$H$2,IF($B$40=Data!$F$2:$F$8633,IF(I$16=Data!$E$2:$E$8633,IF(0=Data!$H$2:$H$8633,Data!$K$2:$K$8633))))))} -> 0 | ... Y47: {=SUM(IF($F$2=Data!$A$2:$A$8633,IF($H$2=$H$2,IF($B$40=Data!$F$2:$F$8633,IF(Y$16=Data!$E$2:$E$8633,IF(0=Data!$H$2:$H$8633,Data!$K$2:$K$8633))))))} -> 0 | AC47: 44146
A48: BP 2 | B48: {=SUM(IF($F$2=Data!$A$2:$A$8633,IF($H$2=$H$2,IF($B$40=Data!$F$2:$F$8633,IF(B$16=Data!$E$2:$E$8633,IF(1=Data!$H$2:$H$8633,Data!$K$2:$K$8633))))))} -> 0 | C48: {=SUM(IF($F$2=Data!$A$2:$A$8633,IF($H$2=$H$2,IF($B$40=Data!$F$2:$F$8633,IF(C$16=Data!$E$2:$E$8633,IF(1=Data!$H$2:$H$8633,Data!$K$2:$K$8633))))))} -> 0 | D48: {=SUM(IF($F$2=Data!$A$2:$A$8633,IF($H$2=$H$2,IF($B$40=Data!$F$2:$F$8633,IF(D$16=Data!$E$2:$E$8633,IF(1=Data!$H$2:$H$8633,Data!$K$2:$K$8633))))))} -> 0 | E48: {=SUM(IF($F$2=Data!$A$2:$A$8633,IF($H$2=$H$2,IF($B$40=Data!$F$2:$F$8633,IF(E$16=Data!$E$2:$E$8633,IF(1=Data!$H$2:$H$8633,Data!$K$2:$K$8633))))))} -> 0 | F48: {=SUM(IF($F$2=Data!$A$2:$A$8633,IF($H$2=$H$2,IF($B$40=Data!$F$2:$F$8633,IF(F$16=Data!$E$2:$E$8633,IF(1=Data!$H$2:$H$8633,Data!$K$2:$K$8633))))))} -> 0 | G48: {=SUM(IF($F$2=Data!$A$2:$A$8633,IF($H$2=$H$2,IF($B$40=Data!$F$2:$F$8633,IF(G$16=Data!$E$2:$E$8633,IF(1=Data!$H$2:$H$8633,Data!$K$2:$K$8633))))))} -> 0 | H48: {=SUM(IF($F$2=Data!$A$2:$A$8633,IF($H$2=$H$2,IF($B$40=Data!$F$2:$F$8633,IF(H$16=Data!$E$2:$E$8633,IF(1=Data!$H$2:$H$8633,Data!$K$2:$K$8633))))))} -> 0 | I48: {=SUM(IF($F$2=Data!$A$2:$A$8633,IF($H$2=$H$2,IF($B$40=Data!$F$2:$F$8633,IF(I$16=Data!$E$2:$E$8633,IF(1=Data!$H$2:$H$8633,Data!$K$2:$K$8633))))))} -> 0 | ... Y48: {=SUM(IF($F$2=Data!$A$2:$A$8633,IF($H$2=$H$2,IF($B$40=Data!$F$2:$F$8633,IF(Y$16=Data!$E$2:$E$8633,IF(1=Data!$H$2:$H$8633,Data!$K$2:$K$8633))))))} -> 0 | AC48: 44161
A49: BP 3 | B49: {=SUM(IF($F$2=Data!$A$2:$A$8633,IF($H$2=$H$2,IF($B$40=Data!$F$2:$F$8633,IF(B$16=Data!$E$2:$E$8633,IF(2=Data!$H$2:$H$8633,Data!$K$2:$K$8633))))))} -> 0 | C49: {=SUM(IF($F$2=Data!$A$2:$A$8633,IF($H$2=$H$2,IF($B$40=Data!$F$2:$F$8633,IF(C$16=Data!$E$2:$E$8633,IF(2=Data!$H$2:$H$8633,Data!$K$2:$K$8633))))))} -> 0 | D49: {=SUM(IF($F$2=Data!$A$2:$A$8633,IF($H$2=$H$2,IF($B$40=Data!$F$2:$F$8633,IF(D$16=Data!$E$2:$E$8633,IF(2=Data!$H$2:$H$8633,Data!$K$2:$K$8633))))))} -> 0 | E49: {=SUM(IF($F$2=Data!$A$2:$A$8633,IF($H$2=$H$2,IF($B$40=Data!$F$2:$F$8633,IF(E$16=Data!$E$2:$E$8633,IF(2=Data!$H$2:$H$8633,Data!$K$2:$K$8633))))))} -> 0 | F49: {=SUM(IF($F$2=Data!$A$2:$A$8633,IF($H$2=$H$2,IF($B$40=Data!$F$2:$F$8633,IF(F$16=Data!$E$2:$E$8633,IF(2=Data!$H$2:$H$8633,Data!$K$2:$K$8633))))))} -> 0 | G49: {=SUM(IF($F$2=Data!$A$2:$A$8633,IF($H$2=$H$2,IF($B$40=Data!$F$2:$F$8633,IF(G$16=Data!$E$2:$E$8633,IF(2=Data!$H$2:$H$8633,Data!$K$2:$K$8633))))))} -> 0 | H49: {=SUM(IF($F$2=Data!$A$2:$A$8633,IF($H$2=$H$2,IF($B$40=Data!$F$2:$F$8633,IF(H$16=Data!$E$2:$E$8633,IF(2=Data!$H$2:$H$8633,Data!$K$2:$K$8633))))))} -> 0 | I49: {=SUM(IF($F$2=Data!$A$2:$A$8633,IF($H$2=$H$2,IF($B$40=Data!$F$2:$F$8633,IF(I$16=Data!$E$2:$E$8633,IF(2=Data!$H$2:$H$8633,Data!$K$2:$K$8633))))))} -> 0 | ... Y49: {=SUM(IF($F$2=Data!$A$2:$A$8633,IF($H$2=$H$2,IF($B$40=Data!$F$2:$F$8633,IF(Y$16=Data!$E$2:$E$8633,IF(2=Data!$H$2:$H$8633,Data!$K$2:$K$8633))))))} -> 0 | AC49: 44190
A50: BP 4 | B50: {=SUM(IF($F$2=Data!$A$2:$A$8633,IF($H$2=$H$2,IF($B$40=Data!$F$2:$F$8633,IF(B$16=Data!$E$2:$E$8633,IF(3=Data!$H$2:$H$8633,Data!$K$2:$K$8633))))))} -> 0 | C50: {=SUM(IF($F$2=Data!$A$2:$A$8633,IF($H$2=$H$2,IF($B$40=Data!$F$2:$F$8633,IF(C$16=Data!$E$2:$E$8633,IF(3=Data!$H$2:$H$8633,Data!$K$2:$K$8633))))))} -> 0 | D50: {=SUM(IF($F$2=Data!$A$2:$A$8633,IF($H$2=$H$2,IF($B$40=Data!$F$2:$F$8633,IF(D$16=Data!$E$2:$E$8633,IF(3=Data!$H$2:$H$8633,Data!$K$2:$K$8633))))))} -> 0 | E50: {=SUM(IF($F$2=Data!$A$2:$A$8633,IF($H$2=$H$2,IF($B$40=Data!$F$2:$F$8633,IF(E$16=Data!$E$2:$E$8633,IF(3=Data!$H$2:$H$8633,Data!$K$2:$K$8633))))))} -> 0 | F50: {=SUM(IF($F$2=Data!$A$2:$A$8633,IF($H$2=$H$2,IF($B$40=Data!$F$2:$F$8633,IF(F$16=Data!$E$2:$E$8633,IF(3=Data!$H$2:$H$8633,Data!$K$2:$K$8633))))))} -> 0 | G50: {=SUM(IF($F$2=Data!$A$2:$A$8633,IF($H$2=$H$2,IF($B$40=Data!$F$2:$F$8633,IF(G$16=Data!$E$2:$E$8633,IF(3=Data!$H$2:$H$8633,Data!$K$2:$K$8633))))))} -> 0 | H50: {=SUM(IF($F$2=Data!$A$2:$A$8633,IF($H$2=$H$2,IF($B$40=Data!$F$2:$F$8633,IF(H$16=Data!$E$2:$E$8633,IF(3=Data!$H$2:$H$8633,Data!$K$2:$K$8633))))))} -> 0 | I50: {=SUM(IF($F$2=Data!$A$2:$A$8633,IF($H$2=$H$2,IF($B$40=Data!$F$2:$F$8633,IF(I$16=Data!$E$2:$E$8633,IF(3=Data!$H$2:$H$8633,Data!$K$2:$K$8633))))))} -> 0 | ... Y50: {=SUM(IF($F$2=Data!$A$2:$A$8633,IF($H$2=$H$2,IF($B$40=Data!$F$2:$F$8633,IF(Y$16=Data!$E$2:$E$8633,IF(3=Data!$H$2:$H$8633,Data!$K$2:$K$8633))))))} -> 0 | AC50: 44197
AC51: 44214
A52: L1 EST PROF | B52: =IF(B$41<B47,B42+B$41*B43,"N/A") -> N/A | C52: =IF(C$41<C47,C42+C$41*C43,"N/A") -> N/A | D52: =IF(D$41<D47,D42+D$41*D43,"N/A") -> N/A | E52: =IF(E$41<E47,E42+E$41*E43,"N/A") -> N/A | F52: =IF(F$41<F47,F42+F$41*F43,"N/A") -> N/A | G52: =IF(G$41<G47,G42+G$41*G43,"N/A") -> N/A | H52: =IF(H$41<H47,H42+H$41*H43,"N/A") -> N/A | I52: =IF(I$41<I47,I42+I$41*I43,"N/A") -> N/A | ... Y52: =IF(Y$41<Y47,Y42+Y$41*Y43,"N/A") -> N/A | AC52: 44242
A53: L2 EST PROF | B53: =IF(AND(B47<>0,B47<B$41,B$41<B48),B42+B$41*B43+(B$41-B47)*B44,"N/A") -> N/A | C53: =IF(AND(C47<>0,C47<C$41,C$41<C48),C42+C$41*C43+(C$41-C47)*C44,"N/A") -> N/A | D53: =IF(AND(D47<>0,D47<D$41,D$41<D48),D42+D$41*D43+(D$41-D47)*D44,"N/A") -> N/A | E53: =IF(AND(E47<>0,E47<E$41,E$41<E48),E42+E$41*E43+(E$41-E47)*E44,"N/A") -> N/A | F53: =IF(AND(F47<>0,F47<F$41,F$41<F48),F42+F$41*F43+(F$41-F47)*F44,"N/A") -> N/A | G53: =IF(AND(G47<>0,G47<G$41,G$41<G48),G42+G$41*G43+(G$41-G47)*G44,"N/A") -> N/A | H53: =IF(AND(H47<>0,H47<H$41,H$41<H48),H42+H$41*H43+(H$41-H47)*H44,"N/A") -> N/A | I53: =IF(AND(I47<>0,I47<I$41,I$41<I48),I42+I$41*I43+(I$41-I47)*I44,"N/A") -> N/A | ... Y53: =IF(AND(Y47<>0,Y47<Y$41,Y$41<Y48),Y42+Y$41*Y43+(Y$41-Y47)*Y44,"N/A") -> N/A | AC53: 44347
A54: L3 EST PROF | B54: =IF(AND(B48<>0,B48<B$41,B$41<B49),B42+B$41*B43+(B$41-B47)*B44+(B$41-B48)*B45,"N/A") -> N/A | C54: =IF(AND(C48<>0,C48<C$41,C$41<C49),C42+C$41*C43+(C$41-C47)*C44+(C$41-C48)*C45,"N/A") -> N/A | D54: =IF(AND(D48<>0,D48<D$41,D$41<D49),D42+D$41*D43+(D$41-D47)*D44+(D$41-D48)*D45,"N/A") -> N/A | E54: =IF(AND(E48<>0,E48<E$41,E$41<E49),E42+E$41*E43+(E$41-E47)*E44+(E$41-E48)*E45,"N/A") -> N/A | F54: =IF(AND(F48<>0,F48<F$41,F$41<F49),F42+F$41*F43+(F$41-F47)*F44+(F$41-F48)*F45,"N/A") -> N/A | G54: =IF(AND(G48<>0,G48<G$41,G$41<G49),G42+G$41*G43+(G$41-G47)*G44+(G$41-G48)*G45,"N/A") -> N/A | H54: =IF(AND(H48<>0,H48<H$41,H$41<H49),H42+H$41*H43+(H$41-H47)*H44+(H$41-H48)*H45,"N/A") -> N/A | I54: =IF(AND(I48<>0,I48<I$41,I$41<I49),I42+I$41*I43+(I$41-I47)*I44+(I$41-I48)*I45,"N/A") -> N/A | ... Y54: =IF(AND(Y48<>0,Y48<Y$41,Y$41<Y49),Y42+Y$41*Y43+(Y$41-Y47)*Y44+(Y$41-Y48)*Y45,"N/A") -> N/A | AC54: 44381
A55: L4 EST PROF | B55: =IF(AND(B49<>0,B49<B$41,B$41<B50),B42+B$41*B43+(B$41-B47)*B44+(B$41-B48)*B45+(B$41-B49)*B46,"N/A") -> N/A | C55: =IF(AND(C49<>0,C49<C$41,C$41<C50),C42+C$41*C43+(C$41-C47)*C44+(C$41-C48)*C45+(C$41-C49)*C46,"N/A") -> N/A | D55: =IF(AND(D49<>0,D49<D$41,D$41<D50),D42+D$41*D43+(D$41-D47)*D44+(D$41-D48)*D45+(D$41-D49)*D46,"N/A") -> N/A | E55: =IF(AND(E49<>0,E49<E$41,E$41<E50),E42+E$41*E43+(E$41-E47)*E44+(E$41-E48)*E45+(E$41-E49)*E46,"N/A") -> N/A | F55: =IF(AND(F49<>0,F49<F$41,F$41<F50),F42+F$41*F43+(F$41-F47)*F44+(F$41-F48)*F45+(F$41-F49)*F46,"N/A") -> N/A | G55: =IF(AND(G49<>0,G49<G$41,G$41<G50),G42+G$41*G43+(G$41-G47)*G44+(G$41-G48)*G45+(G$41-G49)*G46,"N/A") -> N/A | H55: =IF(AND(H49<>0,H49<H$41,H$41<H50),H42+H$41*H43+(H$41-H47)*H44+(H$41-H48)*H45+(H$41-H49)*H46,"N/A") -> N/A | I55: =IF(AND(I49<>0,I49<I$41,I$41<I50),I42+I$41*I43+(I$41-I47)*I44+(I$41-I48)*I45+(I$41-I49)*I46,"N/A") -> N/A | ... Y55: =IF(AND(Y49<>0,Y49<Y$41,Y$41<Y50),Y42+Y$41*Y43+(Y$41-Y47)*Y44+(Y$41-Y48)*Y45+(Y$41-Y49)*Y46,"N/A") -> N/A | AC55: 44445
A56: bX | B56: =IF(B52<>"N/A",B52,IF(B53<>"N/A",B53,IF(B54<>"N/A",B54,IF(B55<>"N/A",B55,0))))-B42 -> 0 | C56: =IF(C52<>"N/A",C52,IF(C53<>"N/A",C53,IF(C54<>"N/A",C54,IF(C55<>"N/A",C55,0))))-C42 -> 0 | D56: =IF(D52<>"N/A",D52,IF(D53<>"N/A",D53,IF(D54<>"N/A",D54,IF(D55<>"N/A",D55,0))))-D42 -> 0 | E56: =IF(E52<>"N/A",E52,IF(E53<>"N/A",E53,IF(E54<>"N/A",E54,IF(E55<>"N/A",E55,0))))-E42 -> 0 | F56: =IF(F52<>"N/A",F52,IF(F53<>"N/A",F53,IF(F54<>"N/A",F54,IF(F55<>"N/A",F55,0))))-F42 -> 0 | G56: =IF(G52<>"N/A",G52,IF(G53<>"N/A",G53,IF(G54<>"N/A",G54,IF(G55<>"N/A",G55,0))))-G42 -> 0 | H56: =IF(H52<>"N/A",H52,IF(H53<>"N/A",H53,IF(H54<>"N/A",H54,IF(H55<>"N/A",H55,0))))-H42 -> 0 | I56: =IF(I52<>"N/A",I52,IF(I53<>"N/A",I53,IF(I54<>"N/A",I54,IF(I55<>"N/A",I55,0))))-I42 -> 0 | ... Y56: =IF(Y52<>"N/A",Y52,IF(Y53<>"N/A",Y53,IF(Y54<>"N/A",Y54,IF(Y55<>"N/A",Y55,0))))-Y42 -> 0 | AC56: 44480
AC57: 44511
A58: Profile Variable: | B58: MARCH | AC58: 44525
B59: =IF($B$58=$H$2,1,0) -> 0 | C59: =IF($B$58=$H$2,1,0) -> 0 | D59: =IF($B$58=$H$2,1,0) -> 0 | E59: =IF($B$58=$H$2,1,0) -> 0 | F59: =IF($B$58=$H$2,1,0) -> 0 | G59: =IF($B$58=$H$2,1,0) -> 0 | H59: =IF($B$58=$H$2,1,0) -> 0 | I59: =IF($B$58=$H$2,1,0) -> 0 | ... Y59: =IF($B$58=$H$2,1,0) -> 0 | AC59: 44555
A60: REG_CONSTANT | B60: {=SUM(IF($F$2=Data!$A$2:$A$8633,IF($B$58=Data!$F$2:$F$8633,IF(B$16=Data!$E$2:$E$8633,IF(B$59>=Data!$J$2:$J$8633,IF(B$59<=Data!$K$2:$K$8633,Data!$G$2:$G$8633))))))} -> 0 | C60: {=SUM(IF($F$2=Data!$A$2:$A$8633,IF($H$2=$H$2,IF($B$58=Data!$F$2:$F$8633,IF(C$16=Data!$E$2:$E$8633,IF(C$59>=Data!$J$2:$J$8633,IF(C$59<=Data!$K$2:$K$8633,Data!$G$2:$G$8633)))))))} -> 0 | D60: {=SUM(IF($F$2=Data!$A$2:$A$8633,IF($H$2=$H$2,IF($B$58=Data!$F$2:$F$8633,IF(D$16=Data!$E$2:$E$8633,IF(D$59>=Data!$J$2:$J$8633,IF(D$59<=Data!$K$2:$K$8633,Data!$G$2:$G$8633)))))))} -> 0 | E60: {=SUM(IF($F$2=Data!$A$2:$A$8633,IF($H$2=$H$2,IF($B$58=Data!$F$2:$F$8633,IF(E$16=Data!$E$2:$E$8633,IF(E$59>=Data!$J$2:$J$8633,IF(E$59<=Data!$K$2:$K$8633,Data!$G$2:$G$8633)))))))} -> 0 | F60: {=SUM(IF($F$2=Data!$A$2:$A$8633,IF($H$2=$H$2,IF($B$58=Data!$F$2:$F$8633,IF(F$16=Data!$E$2:$E$8633,IF(F$59>=Data!$J$2:$J$8633,IF(F$59<=Data!$K$2:$K$8633,Data!$G$2:$G$8633)))))))} -> 0 | G60: {=SUM(IF($F$2=Data!$A$2:$A$8633,IF($H$2=$H$2,IF($B$58=Data!$F$2:$F$8633,IF(G$16=Data!$E$2:$E$8633,IF(G$59>=Data!$J$2:$J$8633,IF(G$59<=Data!$K$2:$K$8633,Data!$G$2:$G$8633)))))))} -> 0 | H60: {=SUM(IF($F$2=Data!$A$2:$A$8633,IF($H$2=$H$2,IF($B$58=Data!$F$2:$F$8633,IF(H$16=Data!$E$2:$E$8633,IF(H$59>=Data!$J$2:$J$8633,IF(H$59<=Data!$K$2:$K$8633,Data!$G$2:$G$8633)))))))} -> 0 | I60: {=SUM(IF($F$2=Data!$A$2:$A$8633,IF($H$2=$H$2,IF($B$58=Data!$F$2:$F$8633,IF(I$16=Data!$E$2:$E$8633,IF(I$59>=Data!$J$2:$J$8633,IF(I$59<=Data!$K$2:$K$8633,Data!$G$2:$G$8633)))))))} -> 0 | J60: {=SUM(IF($F$2=Data!$A$2:$A$8633,IF($H$2=$H$2,IF($B$58=Data!$F$2:$F$8633,IF(J$16=Data!$E$2:$E$8633,IF(J$59>=Data!$J$2:$J$8633,IF(J$59<=Data!$K$2:$K$8633,Data!$G$2:$G$8633)))))))} -> 0 | ... Y60: {=SUM(IF($F$2=Data!$A$2:$A$8633,IF($H$2=$H$2,IF($B$58=Data!$F$2:$F$8633,IF(Y$16=Data!$E$2:$E$8633,IF(Y$59>=Data!$J$2:$J$8633,IF(Y$59<=Data!$K$2:$K$8633,Data!$G$2:$G$8633)))))))} -> 0 | AC60: 44562
A61: COEF 1 | B61: {=SUM(IF($F$2=Data!$A$2:$A$8633,IF($H$2=$H$2,IF($B$58=Data!$F$2:$F$8633,IF(B$16=Data!$E$2:$E$8633,IF(0=Data!$H$2:$H$8633,Data!$I$2:$I$8633))))))} -> 0 | C61: {=SUM(IF($F$2=Data!$A$2:$A$8633,IF($H$2=$H$2,IF($B$58=Data!$F$2:$F$8633,IF(C$16=Data!$E$2:$E$8633,IF(0=Data!$H$2:$H$8633,Data!$I$2:$I$8633))))))} -> 0 | D61: {=SUM(IF($F$2=Data!$A$2:$A$8633,IF($H$2=$H$2,IF($B$58=Data!$F$2:$F$8633,IF(D$16=Data!$E$2:$E$8633,IF(0=Data!$H$2:$H$8633,Data!$I$2:$I$8633))))))} -> 0 | E61: {=SUM(IF($F$2=Data!$A$2:$A$8633,IF($H$2=$H$2,IF($B$58=Data!$F$2:$F$8633,IF(E$16=Data!$E$2:$E$8633,IF(0=Data!$H$2:$H$8633,Data!$I$2:$I$8633))))))} -> 0 | F61: {=SUM(IF($F$2=Data!$A$2:$A$8633,IF($H$2=$H$2,IF($B$58=Data!$F$2:$F$8633,IF(F$16=Data!$E$2:$E$8633,IF(0=Data!$H$2:$H$8633,Data!$I$2:$I$8633))))))} -> 0 | G61: {=SUM(IF($F$2=Data!$A$2:$A$8633,IF($H$2=$H$2,IF($B$58=Data!$F$2:$F$8633,IF(G$16=Data!$E$2:$E$8633,IF(0=Data!$H$2:$H$8633,Data!$I$2:$I$8633))))))} -> 0 | H61: {=SUM(IF($F$2=Data!$A$2:$A$8633,IF($H$2=$H$2,IF($B$58=Data!$F$2:$F$8633,IF(H$16=Data!$E$2:$E$8633,IF(0=Data!$H$2:$H$8633,Data!$I$2:$I$8633))))))} -> 0 | I61: {=SUM(IF($F$2=Data!$A$2:$A$8633,IF($H$2=$H$2,IF($B$58=Data!$F$2:$F$8633,IF(I$16=Data!$E$2:$E$8633,IF(0=Data!$H$2:$H$8633,Data!$I$2:$I$8633))))))} -> 0 | ... Y61: {=SUM(IF($F$2=Data!$A$2:$A$8633,IF($H$2=$H$2,IF($B$58=Data!$F$2:$F$8633,IF(Y$16=Data!$E$2:$E$8633,IF(0=Data!$H$2:$H$8633,Data!$I$2:$I$8633))))))} -> 0 | AC61: 44578
A62: COEF 2 | B62: {=SUM(IF($F$2=Data!$A$2:$A$8633,IF($H$2=$H$2,IF($B$58=Data!$F$2:$F$8633,IF(B$16=Data!$E$2:$E$8633,IF(1=Data!$H$2:$H$8633,Data!$I$2:$I$8633))))))} -> 0 | C62: {=SUM(IF($F$2=Data!$A$2:$A$8633,IF($H$2=$H$2,IF($B$58=Data!$F$2:$F$8633,IF(C$16=Data!$E$2:$E$8633,IF(1=Data!$H$2:$H$8633,Data!$I$2:$I$8633))))))} -> 0 | D62: {=SUM(IF($F$2=Data!$A$2:$A$8633,IF($H$2=$H$2,IF($B$58=Data!$F$2:$F$8633,IF(D$16=Data!$E$2:$E$8633,IF(1=Data!$H$2:$H$8633,Data!$I$2:$I$8633))))))} -> 0 | E62: {=SUM(IF($F$2=Data!$A$2:$A$8633,IF($H$2=$H$2,IF($B$58=Data!$F$2:$F$8633,IF(E$16=Data!$E$2:$E$8633,IF(1=Data!$H$2:$H$8633,Data!$I$2:$I$8633))))))} -> 0 | F62: {=SUM(IF($F$2=Data!$A$2:$A$8633,IF($H$2=$H$2,IF($B$58=Data!$F$2:$F$8633,IF(F$16=Data!$E$2:$E$8633,IF(1=Data!$H$2:$H$8633,Data!$I$2:$I$8633))))))} -> 0 | G62: {=SUM(IF($F$2=Data!$A$2:$A$8633,IF($H$2=$H$2,IF($B$58=Data!$F$2:$F$8633,IF(G$16=Data!$E$2:$E$8633,IF(1=Data!$H$2:$H$8633,Data!$I$2:$I$8633))))))} -> 0 | H62: {=SUM(IF($F$2=Data!$A$2:$A$8633,IF($H$2=$H$2,IF($B$58=Data!$F$2:$F$8633,IF(H$16=Data!$E$2:$E$8633,IF(1=Data!$H$2:$H$8633,Data!$I$2:$I$8633))))))} -> 0 | I62: {=SUM(IF($F$2=Data!$A$2:$A$8633,IF($H$2=$H$2,IF($B$58=Data!$F$2:$F$8633,IF(I$16=Data!$E$2:$E$8633,IF(1=Data!$H$2:$H$8633,Data!$I$2:$I$8633))))))} -> 0 | ... Y62: {=SUM(IF($F$2=Data!$A$2:$A$8633,IF($H$2=$H$2,IF($B$58=Data!$F$2:$F$8633,IF(Y$16=Data!$E$2:$E$8633,IF(1=Data!$H$2:$H$8633,Data!$I$2:$I$8633))))))} -> 0 | AC62: 44613
A63: COEF 3 | B63: {=SUM(IF($F$2=Data!$A$2:$A$8633,IF($H$2=$H$2,IF($B$58=Data!$F$2:$F$8633,IF(B$16=Data!$E$2:$E$8633,IF(2=Data!$H$2:$H$8633,Data!$I$2:$I$8633))))))} -> 0 | C63: {=SUM(IF($F$2=Data!$A$2:$A$8633,IF($H$2=$H$2,IF($B$58=Data!$F$2:$F$8633,IF(C$16=Data!$E$2:$E$8633,IF(2=Data!$H$2:$H$8633,Data!$I$2:$I$8633))))))} -> 0 | D63: {=SUM(IF($F$2=Data!$A$2:$A$8633,IF($H$2=$H$2,IF($B$58=Data!$F$2:$F$8633,IF(D$16=Data!$E$2:$E$8633,IF(2=Data!$H$2:$H$8633,Data!$I$2:$I$8633))))))} -> 0 | E63: {=SUM(IF($F$2=Data!$A$2:$A$8633,IF($H$2=$H$2,IF($B$58=Data!$F$2:$F$8633,IF(E$16=Data!$E$2:$E$8633,IF(2=Data!$H$2:$H$8633,Data!$I$2:$I$8633))))))} -> 0 | F63: {=SUM(IF($F$2=Data!$A$2:$A$8633,IF($H$2=$H$2,IF($B$58=Data!$F$2:$F$8633,IF(F$16=Data!$E$2:$E$8633,IF(2=Data!$H$2:$H$8633,Data!$I$2:$I$8633))))))} -> 0 | G63: {=SUM(IF($F$2=Data!$A$2:$A$8633,IF($H$2=$H$2,IF($B$58=Data!$F$2:$F$8633,IF(G$16=Data!$E$2:$E$8633,IF(2=Data!$H$2:$H$8633,Data!$I$2:$I$8633))))))} -> 0 | H63: {=SUM(IF($F$2=Data!$A$2:$A$8633,IF($H$2=$H$2,IF($B$58=Data!$F$2:$F$8633,IF(H$16=Data!$E$2:$E$8633,IF(2=Data!$H$2:$H$8633,Data!$I$2:$I$8633))))))} -> 0 | I63: {=SUM(IF($F$2=Data!$A$2:$A$8633,IF($H$2=$H$2,IF($B$58=Data!$F$2:$F$8633,IF(I$16=Data!$E$2:$E$8633,IF(2=Data!$H$2:$H$8633,Data!$I$2:$I$8633))))))} -> 0 | ... Y63: {=SUM(IF($F$2=Data!$A$2:$A$8633,IF($H$2=$H$2,IF($B$58=Data!$F$2:$F$8633,IF(Y$16=Data!$E$2:$E$8633,IF(2=Data!$H$2:$H$8633,Data!$I$2:$I$8633))))))} -> 0 | AC63: 44711
A64: COEF 4 | B64: {=SUM(IF($F$2=Data!$A$2:$A$8633,IF($H$2=$H$2,IF($B$58=Data!$F$2:$F$8633,IF(B$16=Data!$E$2:$E$8633,IF(3=Data!$H$2:$H$8633,Data!$I$2:$I$8633))))))} -> 0 | C64: {=SUM(IF($F$2=Data!$A$2:$A$8633,IF($H$2=$H$2,IF($B$58=Data!$F$2:$F$8633,IF(C$16=Data!$E$2:$E$8633,IF(3=Data!$H$2:$H$8633,Data!$I$2:$I$8633))))))} -> 0 | D64: {=SUM(IF($F$2=Data!$A$2:$A$8633,IF($H$2=$H$2,IF($B$58=Data!$F$2:$F$8633,IF(D$16=Data!$E$2:$E$8633,IF(3=Data!$H$2:$H$8633,Data!$I$2:$I$8633))))))} -> 0 | E64: {=SUM(IF($F$2=Data!$A$2:$A$8633,IF($H$2=$H$2,IF($B$58=Data!$F$2:$F$8633,IF(E$16=Data!$E$2:$E$8633,IF(3=Data!$H$2:$H$8633,Data!$I$2:$I$8633))))))} -> 0 | F64: {=SUM(IF($F$2=Data!$A$2:$A$8633,IF($H$2=$H$2,IF($B$58=Data!$F$2:$F$8633,IF(F$16=Data!$E$2:$E$8633,IF(3=Data!$H$2:$H$8633,Data!$I$2:$I$8633))))))} -> 0 | G64: {=SUM(IF($F$2=Data!$A$2:$A$8633,IF($H$2=$H$2,IF($B$58=Data!$F$2:$F$8633,IF(G$16=Data!$E$2:$E$8633,IF(3=Data!$H$2:$H$8633,Data!$I$2:$I$8633))))))} -> 0 | H64: {=SUM(IF($F$2=Data!$A$2:$A$8633,IF($H$2=$H$2,IF($B$58=Data!$F$2:$F$8633,IF(H$16=Data!$E$2:$E$8633,IF(3=Data!$H$2:$H$8633,Data!$I$2:$I$8633))))))} -> 0 | I64: {=SUM(IF($F$2=Data!$A$2:$A$8633,IF($H$2=$H$2,IF($B$58=Data!$F$2:$F$8633,IF(I$16=Data!$E$2:$E$8633,IF(3=Data!$H$2:$H$8633,Data!$I$2:$I$8633))))))} -> 0 | ... Y64: {=SUM(IF($F$2=Data!$A$2:$A$8633,IF($H$2=$H$2,IF($B$58=Data!$F$2:$F$8633,IF(Y$16=Data!$E$2:$E$8633,IF(3=Data!$H$2:$H$8633,Data!$I$2:$I$8633))))))} -> 0 | AC64: 44746
A65: BP 1 | B65: {=SUM(IF($F$2=Data!$A$2:$A$8633,IF($H$2=$H$2,IF($B$58=Data!$F$2:$F$8633,IF(B$16=Data!$E$2:$E$8633,IF(0=Data!$H$2:$H$8633,Data!$K$2:$K$8633))))))} -> 0 | C65: {=SUM(IF($F$2=Data!$A$2:$A$8633,IF($H$2=$H$2,IF($B$58=Data!$F$2:$F$8633,IF(C$16=Data!$E$2:$E$8633,IF(0=Data!$H$2:$H$8633,Data!$K$2:$K$8633))))))} -> 0 | D65: {=SUM(IF($F$2=Data!$A$2:$A$8633,IF($H$2=$H$2,IF($B$58=Data!$F$2:$F$8633,IF(D$16=Data!$E$2:$E$8633,IF(0=Data!$H$2:$H$8633,Data!$K$2:$K$8633))))))} -> 0 | E65: {=SUM(IF($F$2=Data!$A$2:$A$8633,IF($H$2=$H$2,IF($B$58=Data!$F$2:$F$8633,IF(E$16=Data!$E$2:$E$8633,IF(0=Data!$H$2:$H$8633,Data!$K$2:$K$8633))))))} -> 0 | F65: {=SUM(IF($F$2=Data!$A$2:$A$8633,IF($H$2=$H$2,IF($B$58=Data!$F$2:$F$8633,IF(F$16=Data!$E$2:$E$8633,IF(0=Data!$H$2:$H$8633,Data!$K$2:$K$8633))))))} -> 0 | G65: {=SUM(IF($F$2=Data!$A$2:$A$8633,IF($H$2=$H$2,IF($B$58=Data!$F$2:$F$8633,IF(G$16=Data!$E$2:$E$8633,IF(0=Data!$H$2:$H$8633,Data!$K$2:$K$8633))))))} -> 0 | H65: {=SUM(IF($F$2=Data!$A$2:$A$8633,IF($H$2=$H$2,IF($B$58=Data!$F$2:$F$8633,IF(H$16=Data!$E$2:$E$8633,IF(0=Data!$H$2:$H$8633,Data!$K$2:$K$8633))))))} -> 0 | I65: {=SUM(IF($F$2=Data!$A$2:$A$8633,IF($H$2=$H$2,IF($B$58=Data!$F$2:$F$8633,IF(I$16=Data!$E$2:$E$8633,IF(0=Data!$H$2:$H$8633,Data!$K$2:$K$8633))))))} -> 0 | ... Y65: {=SUM(IF($F$2=Data!$A$2:$A$8633,IF($H$2=$H$2,IF($B$58=Data!$F$2:$F$8633,IF(Y$16=Data!$E$2:$E$8633,IF(0=Data!$H$2:$H$8633,Data!$K$2:$K$8633))))))} -> 0 | AC65: 44809
A66: BP 2 | B66: {=SUM(IF($F$2=Data!$A$2:$A$8633,IF($H$2=$H$2,IF($B$58=Data!$F$2:$F$8633,IF(B$16=Data!$E$2:$E$8633,IF(1=Data!$H$2:$H$8633,Data!$K$2:$K$8633))))))} -> 0 | C66: {=SUM(IF($F$2=Data!$A$2:$A$8633,IF($H$2=$H$2,IF($B$58=Data!$F$2:$F$8633,IF(C$16=Data!$E$2:$E$8633,IF(1=Data!$H$2:$H$8633,Data!$K$2:$K$8633))))))} -> 0 | D66: {=SUM(IF($F$2=Data!$A$2:$A$8633,IF($H$2=$H$2,IF($B$58=Data!$F$2:$F$8633,IF(D$16=Data!$E$2:$E$8633,IF(1=Data!$H$2:$H$8633,Data!$K$2:$K$8633))))))} -> 0 | E66: {=SUM(IF($F$2=Data!$A$2:$A$8633,IF($H$2=$H$2,IF($B$58=Data!$F$2:$F$8633,IF(E$16=Data!$E$2:$E$8633,IF(1=Data!$H$2:$H$8633,Data!$K$2:$K$8633))))))} -> 0 | F66: {=SUM(IF($F$2=Data!$A$2:$A$8633,IF($H$2=$H$2,IF($B$58=Data!$F$2:$F$8633,IF(F$16=Data!$E$2:$E$8633,IF(1=Data!$H$2:$H$8633,Data!$K$2:$K$8633))))))} -> 0 | G66: {=SUM(IF($F$2=Data!$A$2:$A$8633,IF($H$2=$H$2,IF($B$58=Data!$F$2:$F$8633,IF(G$16=Data!$E$2:$E$8633,IF(1=Data!$H$2:$H$8633,Data!$K$2:$K$8633))))))} -> 0 | H66: {=SUM(IF($F$2=Data!$A$2:$A$8633,IF($H$2=$H$2,IF($B$58=Data!$F$2:$F$8633,IF(H$16=Data!$E$2:$E$8633,IF(1=Data!$H$2:$H$8633,Data!$K$2:$K$8633))))))} -> 0 | I66: {=SUM(IF($F$2=Data!$A$2:$A$8633,IF($H$2=$H$2,IF($B$58=Data!$F$2:$F$8633,IF(I$16=Data!$E$2:$E$8633,IF(1=Data!$H$2:$H$8633,Data!$K$2:$K$8633))))))} -> 0 | ... Y66: {=SUM(IF($F$2=Data!$A$2:$A$8633,IF($H$2=$H$2,IF($B$58=Data!$F$2:$F$8633,IF(Y$16=Data!$E$2:$E$8633,IF(1=Data!$H$2:$H$8633,Data!$K$2:$K$8633))))))} -> 0 | AC66: 44844
A67: BP 3 | B67: {=SUM(IF($F$2=Data!$A$2:$A$8633,IF($H$2=$H$2,IF($B$58=Data!$F$2:$F$8633,IF(B$16=Data!$E$2:$E$8633,IF(2=Data!$H$2:$H$8633,Data!$K$2:$K$8633))))))} -> 0 | C67: {=SUM(IF($F$2=Data!$A$2:$A$8633,IF($H$2=$H$2,IF($B$58=Data!$F$2:$F$8633,IF(C$16=Data!$E$2:$E$8633,IF(2=Data!$H$2:$H$8633,Data!$K$2:$K$8633))))))} -> 0 | D67: {=SUM(IF($F$2=Data!$A$2:$A$8633,IF($H$2=$H$2,IF($B$58=Data!$F$2:$F$8633,IF(D$16=Data!$E$2:$E$8633,IF(2=Data!$H$2:$H$8633,Data!$K$2:$K$8633))))))} -> 0 | E67: {=SUM(IF($F$2=Data!$A$2:$A$8633,IF($H$2=$H$2,IF($B$58=Data!$F$2:$F$8633,IF(E$16=Data!$E$2:$E$8633,IF(2=Data!$H$2:$H$8633,Data!$K$2:$K$8633))))))} -> 0 | F67: {=SUM(IF($F$2=Data!$A$2:$A$8633,IF($H$2=$H$2,IF($B$58=Data!$F$2:$F$8633,IF(F$16=Data!$E$2:$E$8633,IF(2=Data!$H$2:$H$8633,Data!$K$2:$K$8633))))))} -> 0 | G67: {=SUM(IF($F$2=Data!$A$2:$A$8633,IF($H$2=$H$2,IF($B$58=Data!$F$2:$F$8633,IF(G$16=Data!$E$2:$E$8633,IF(2=Data!$H$2:$H$8633,Data!$K$2:$K$8633))))))} -> 0 | H67: {=SUM(IF($F$2=Data!$A$2:$A$8633,IF($H$2=$H$2,IF($B$58=Data!$F$2:$F$8633,IF(H$16=Data!$E$2:$E$8633,IF(2=Data!$H$2:$H$8633,Data!$K$2:$K$8633))))))} -> 0 | I67: {=SUM(IF($F$2=Data!$A$2:$A$8633,IF($H$2=$H$2,IF($B$58=Data!$F$2:$F$8633,IF(I$16=Data!$E$2:$E$8633,IF(2=Data!$H$2:$H$8633,Data!$K$2:$K$8633))))))} -> 0 | ... Y67: {=SUM(IF($F$2=Data!$A$2:$A$8633,IF($H$2=$H$2,IF($B$58=Data!$F$2:$F$8633,IF(Y$16=Data!$E$2:$E$8633,IF(2=Data!$H$2:$H$8633,Data!$K$2:$K$8633))))))} -> 0 | AC67: 44876
A68: BP 4 | B68: {=SUM(IF($F$2=Data!$A$2:$A$8633,IF($H$2=$H$2,IF($B$58=Data!$F$2:$F$8633,IF(B$16=Data!$E$2:$E$8633,IF(3=Data!$H$2:$H$8633,Data!$K$2:$K$8633))))))} -> 0 | C68: {=SUM(IF($F$2=Data!$A$2:$A$8633,IF($H$2=$H$2,IF($B$58=Data!$F$2:$F$8633,IF(C$16=Data!$E$2:$E$8633,IF(3=Data!$H$2:$H$8633,Data!$K$2:$K$8633))))))} -> 0 | D68: {=SUM(IF($F$2=Data!$A$2:$A$8633,IF($H$2=$H$2,IF($B$58=Data!$F$2:$F$8633,IF(D$16=Data!$E$2:$E$8633,IF(3=Data!$H$2:$H$8633,Data!$K$2:$K$8633))))))} -> 0 | E68: {=SUM(IF($F$2=Data!$A$2:$A$8633,IF($H$2=$H$2,IF($B$58=Data!$F$2:$F$8633,IF(E$16=Data!$E$2:$E$8633,IF(3=Data!$H$2:$H$8633,Data!$K$2:$K$8633))))))} -> 0 | F68: {=SUM(IF($F$2=Data!$A$2:$A$8633,IF($H$2=$H$2,IF($B$58=Data!$F$2:$F$8633,IF(F$16=Data!$E$2:$E$8633,IF(3=Data!$H$2:$H$8633,Data!$K$2:$K$8633))))))} -> 0 | G68: {=SUM(IF($F$2=Data!$A$2:$A$8633,IF($H$2=$H$2,IF($B$58=Data!$F$2:$F$8633,IF(G$16=Data!$E$2:$E$8633,IF(3=Data!$H$2:$H$8633,Data!$K$2:$K$8633))))))} -> 0 | H68: {=SUM(IF($F$2=Data!$A$2:$A$8633,IF($H$2=$H$2,IF($B$58=Data!$F$2:$F$8633,IF(H$16=Data!$E$2:$E$8633,IF(3=Data!$H$2:$H$8633,Data!$K$2:$K$8633))))))} -> 0 | I68: {=SUM(IF($F$2=Data!$A$2:$A$8633,IF($H$2=$H$2,IF($B$58=Data!$F$2:$F$8633,IF(I$16=Data!$E$2:$E$8633,IF(3=Data!$H$2:$H$8633,Data!$K$2:$K$8633))))))} -> 0 | ... Y68: {=SUM(IF($F$2=Data!$A$2:$A$8633,IF($H$2=$H$2,IF($B$58=Data!$F$2:$F$8633,IF(Y$16=Data!$E$2:$E$8633,IF(3=Data!$H$2:$H$8633,Data!$K$2:$K$8633))))))} -> 0 | AC68: 44889
AC69: 44920
A70: L1 EST PROF | B70: =IF(B$59<B65,B60+B$59*B61,"N/A") -> N/A | C70: =IF(C$59<C65,C60+C$59*C61,"N/A") -> N/A | D70: =IF(D$59<D65,D60+D$59*D61,"N/A") -> N/A | E70: =IF(E$59<E65,E60+E$59*E61,"N/A") -> N/A | F70: =IF(F$59<F65,F60+F$59*F61,"N/A") -> N/A | G70: =IF(G$59<G65,G60+G$59*G61,"N/A") -> N/A | H70: =IF(H$59<H65,H60+H$59*H61,"N/A") -> N/A | I70: =IF(I$59<I65,I60+I$59*I61,"N/A") -> N/A | ... Y70: =IF(Y$59<Y65,Y60+Y$59*Y61,"N/A") -> N/A | AC70: 44927
A71: L2 EST PROF | B71: =IF(AND(B65<>0,B65<B$59,B$59<B66),B60+B$59*B61+(B$59-B65)*B62,"N/A") -> N/A | C71: =IF(AND(C65<>0,C65<C$59,C$59<C66),C60+C$59*C61+(C$59-C65)*C62,"N/A") -> N/A | D71: =IF(AND(D65<>0,D65<D$59,D$59<D66),D60+D$59*D61+(D$59-D65)*D62,"N/A") -> N/A | E71: =IF(AND(E65<>0,E65<E$59,E$59<E66),E60+E$59*E61+(E$59-E65)*E62,"N/A") -> N/A | F71: =IF(AND(F65<>0,F65<F$59,F$59<F66),F60+F$59*F61+(F$59-F65)*F62,"N/A") -> N/A | G71: =IF(AND(G65<>0,G65<G$59,G$59<G66),G60+G$59*G61+(G$59-G65)*G62,"N/A") -> N/A | H71: =IF(AND(H65<>0,H65<H$59,H$59<H66),H60+H$59*H61+(H$59-H65)*H62,"N/A") -> N/A | I71: =IF(AND(I65<>0,I65<I$59,I$59<I66),I60+I$59*I61+(I$59-I65)*I62,"N/A") -> N/A | ... Y71: =IF(AND(Y65<>0,Y65<Y$59,Y$59<Y66),Y60+Y$59*Y61+(Y$59-Y65)*Y62,"N/A") -> N/A | AC71: 44942
A72: L3 EST PROF | B72: =IF(AND(B66<>0,B66<B$59,B$59<B67),B60+B$59*B61+(B$59-B65)*B62+(B$59-B66)*B63,"N/A") -> N/A | C72: =IF(AND(C66<>0,C66<C$59,C$59<C67),C60+C$59*C61+(C$59-C65)*C62+(C$59-C66)*C63,"N/A") -> N/A | D72: =IF(AND(D66<>0,D66<D$59,D$59<D67),D60+D$59*D61+(D$59-D65)*D62+(D$59-D66)*D63,"N/A") -> N/A | E72: =IF(AND(E66<>0,E66<E$59,E$59<E67),E60+E$59*E61+(E$59-E65)*E62+(E$59-E66)*E63,"N/A") -> N/A | F72: =IF(AND(F66<>0,F66<F$59,F$59<F67),F60+F$59*F61+(F$59-F65)*F62+(F$59-F66)*F63,"N/A") -> N/A | G72: =IF(AND(G66<>0,G66<G$59,G$59<G67),G60+G$59*G61+(G$59-G65)*G62+(G$59-G66)*G63,"N/A") -> N/A | H72: =IF(AND(H66<>0,H66<H$59,H$59<H67),H60+H$59*H61+(H$59-H65)*H62+(H$59-H66)*H63,"N/A") -> N/A | I72: =IF(AND(I66<>0,I66<I$59,I$59<I67),I60+I$59*I61+(I$59-I65)*I62+(I$59-I66)*I63,"N/A") -> N/A | ... Y72: =IF(AND(Y66<>0,Y66<Y$59,Y$59<Y67),Y60+Y$59*Y61+(Y$59-Y65)*Y62+(Y$59-Y66)*Y63,"N/A") -> N/A | AC72: 44977
A73: L4 EST PROF | B73: =IF(AND(B67<>0,B67<B$59,B$59<B68),B60+B$59*B61+(B$59-B65)*B62+(B$59-B66)*B63+(B$59-B67)*B64,"N/A") -> N/A | C73: =IF(AND(C67<>0,C67<C$59,C$59<C68),C60+C$59*C61+(C$59-C65)*C62+(C$59-C66)*C63+(C$59-C67)*C64,"N/A") -> N/A | D73: =IF(AND(D67<>0,D67<D$59,D$59<D68),D60+D$59*D61+(D$59-D65)*D62+(D$59-D66)*D63+(D$59-D67)*D64,"N/A") -> N/A | E73: =IF(AND(E67<>0,E67<E$59,E$59<E68),E60+E$59*E61+(E$59-E65)*E62+(E$59-E66)*E63+(E$59-E67)*E64,"N/A") -> N/A | F73: =IF(AND(F67<>0,F67<F$59,F$59<F68),F60+F$59*F61+(F$59-F65)*F62+(F$59-F66)*F63+(F$59-F67)*F64,"N/A") -> N/A | G73: =IF(AND(G67<>0,G67<G$59,G$59<G68),G60+G$59*G61+(G$59-G65)*G62+(G$59-G66)*G63+(G$59-G67)*G64,"N/A") -> N/A | H73: =IF(AND(H67<>0,H67<H$59,H$59<H68),H60+H$59*H61+(H$59-H65)*H62+(H$59-H66)*H63+(H$59-H67)*H64,"N/A") -> N/A | I73: =IF(AND(I67<>0,I67<I$59,I$59<I68),I60+I$59*I61+(I$59-I65)*I62+(I$59-I66)*I63+(I$59-I67)*I64,"N/A") -> N/A | ... Y73: =IF(AND(Y67<>0,Y67<Y$59,Y$59<Y68),Y60+Y$59*Y61+(Y$59-Y65)*Y62+(Y$59-Y66)*Y63+(Y$59-Y67)*Y64,"N/A") -> N/A | AC73: 45075
A74: bX | B74: =IF(B70<>"N/A",B70,IF(B71<>"N/A",B71,IF(B72<>"N/A",B72,IF(B73<>"N/A",B73,0))))-B60 -> 0 | C74: =IF(C70<>"N/A",C70,IF(C71<>"N/A",C71,IF(C72<>"N/A",C72,IF(C73<>"N/A",C73,0))))-C60 -> 0 | D74: =IF(D70<>"N/A",D70,IF(D71<>"N/A",D71,IF(D72<>"N/A",D72,IF(D73<>"N/A",D73,0))))-D60 -> 0 | E74: =IF(E70<>"N/A",E70,IF(E71<>"N/A",E71,IF(E72<>"N/A",E72,IF(E73<>"N/A",E73,0))))-E60 -> 0 | F74: =IF(F70<>"N/A",F70,IF(F71<>"N/A",F71,IF(F72<>"N/A",F72,IF(F73<>"N/A",F73,0))))-F60 -> 0 | G74: =IF(G70<>"N/A",G70,IF(G71<>"N/A",G71,IF(G72<>"N/A",G72,IF(G73<>"N/A",G73,0))))-G60 -> 0 | H74: =IF(H70<>"N/A",H70,IF(H71<>"N/A",H71,IF(H72<>"N/A",H72,IF(H73<>"N/A",H73,0))))-H60 -> 0 | I74: =IF(I70<>"N/A",I70,IF(I71<>"N/A",I71,IF(I72<>"N/A",I72,IF(I73<>"N/A",I73,0))))-I60 -> 0 | ... Y74: =IF(Y70<>"N/A",Y70,IF(Y71<>"N/A",Y71,IF(Y72<>"N/A",Y72,IF(Y73<>"N/A",Y73,0))))-Y60 -> 0 | AC74: 45111
AC75: 45173
A76: Profile Variable: | B76: APRIL | AC76: 45208
B77: =IF($B$76=$H$2,1,0) -> 0 | C77: =IF($B$76=$H$2,1,0) -> 0 | D77: =IF($B$76=$H$2,1,0) -> 0 | E77: =IF($B$76=$H$2,1,0) -> 0 | F77: =IF($B$76=$H$2,1,0) -> 0 | G77: =IF($B$76=$H$2,1,0) -> 0 | H77: =IF($B$76=$H$2,1,0) -> 0 | I77: =IF($B$76=$H$2,1,0) -> 0 | ... Y77: =IF($B$76=$H$2,1,0) -> 0 | AC77: 45241
A78: REG_CONSTANT | B78: {=SUM(IF($F$2=Data!$A$2:$A$8633,IF($B$76=Data!$F$2:$F$8633,IF(B$16=Data!$E$2:$E$8633,IF(B$77>=Data!$J$2:$J$8633,IF(B$77<=Data!$K$2:$K$8633,Data!$G$2:$G$8633))))))} -> 0 | C78: {=SUM(IF($F$2=Data!$A$2:$A$8633,IF($H$2=$H$2,IF($B$76=Data!$F$2:$F$8633,IF(C$16=Data!$E$2:$E$8633,IF(C$77>=Data!$J$2:$J$8633,IF(C$77<=Data!$K$2:$K$8633,Data!$G$2:$G$8633)))))))} -> 0 | D78: {=SUM(IF($F$2=Data!$A$2:$A$8633,IF($H$2=$H$2,IF($B$76=Data!$F$2:$F$8633,IF(D$16=Data!$E$2:$E$8633,IF(D$77>=Data!$J$2:$J$8633,IF(D$77<=Data!$K$2:$K$8633,Data!$G$2:$G$8633)))))))} -> 0 | E78: {=SUM(IF($F$2=Data!$A$2:$A$8633,IF($H$2=$H$2,IF($B$76=Data!$F$2:$F$8633,IF(E$16=Data!$E$2:$E$8633,IF(E$77>=Data!$J$2:$J$8633,IF(E$77<=Data!$K$2:$K$8633,Data!$G$2:$G$8633)))))))} -> 0 | F78: {=SUM(IF($F$2=Data!$A$2:$A$8633,IF($H$2=$H$2,IF($B$76=Data!$F$2:$F$8633,IF(F$16=Data!$E$2:$E$8633,IF(F$77>=Data!$J$2:$J$8633,IF(F$77<=Data!$K$2:$K$8633,Data!$G$2:$G$8633)))))))} -> 0 | G78: {=SUM(IF($F$2=Data!$A$2:$A$8633,IF($H$2=$H$2,IF($B$76=Data!$F$2:$F$8633,IF(G$16=Data!$E$2:$E$8633,IF(G$77>=Data!$J$2:$J$8633,IF(G$77<=Data!$K$2:$K$8633,Data!$G$2:$G$8633)))))))} -> 0 | H78: {=SUM(IF($F$2=Data!$A$2:$A$8633,IF($H$2=$H$2,IF($B$76=Data!$F$2:$F$8633,IF(H$16=Data!$E$2:$E$8633,IF(H$77>=Data!$J$2:$J$8633,IF(H$77<=Data!$K$2:$K$8633,Data!$G$2:$G$8633)))))))} -> 0 | I78: {=SUM(IF($F$2=Data!$A$2:$A$8633,IF($H$2=$H$2,IF($B$76=Data!$F$2:$F$8633,IF(I$16=Data!$E$2:$E$8633,IF(I$77>=Data!$J$2:$J$8633,IF(I$77<=Data!$K$2:$K$8633,Data!$G$2:$G$8633)))))))} -> 0 | J78: {=SUM(IF($F$2=Data!$A$2:$A$8633,IF($H$2=$H$2,IF($B$76=Data!$F$2:$F$8633,IF(J$16=Data!$E$2:$E$8633,IF(J$77>=Data!$J$2:$J$8633,IF(J$77<=Data!$K$2:$K$8633,Data!$G$2:$G$8633)))))))} -> 0 | ... Y78: {=SUM(IF($F$2=Data!$A$2:$A$8633,IF($H$2=$H$2,IF($B$76=Data!$F$2:$F$8633,IF(Y$16=Data!$E$2:$E$8633,IF(Y$77>=Data!$J$2:$J$8633,IF(Y$77<=Data!$K$2:$K$8633,Data!$G$2:$G$8633)))))))} -> 0 | AC78: 45253
A79: COEF 1 | B79: {=SUM(IF($F$2=Data!$A$2:$A$8633,IF($H$2=$H$2,IF($B$76=Data!$F$2:$F$8633,IF(B$16=Data!$E$2:$E$8633,IF(0=Data!$H$2:$H$8633,Data!$I$2:$I$8633))))))} -> 0 | C79: {=SUM(IF($F$2=Data!$A$2:$A$8633,IF($H$2=$H$2,IF($B$76=Data!$F$2:$F$8633,IF(C$16=Data!$E$2:$E$8633,IF(0=Data!$H$2:$H$8633,Data!$I$2:$I$8633))))))} -> 0 | D79: {=SUM(IF($F$2=Data!$A$2:$A$8633,IF($H$2=$H$2,IF($B$76=Data!$F$2:$F$8633,IF(D$16=Data!$E$2:$E$8633,IF(0=Data!$H$2:$H$8633,Data!$I$2:$I$8633))))))} -> 0 | E79: {=SUM(IF($F$2=Data!$A$2:$A$8633,IF($H$2=$H$2,IF($B$76=Data!$F$2:$F$8633,IF(E$16=Data!$E$2:$E$8633,IF(0=Data!$H$2:$H$8633,Data!$I$2:$I$8633))))))} -> 0 | F79: {=SUM(IF($F$2=Data!$A$2:$A$8633,IF($H$2=$H$2,IF($B$76=Data!$F$2:$F$8633,IF(F$16=Data!$E$2:$E$8633,IF(0=Data!$H$2:$H$8633,Data!$I$2:$I$8633))))))} -> 0 | G79: {=SUM(IF($F$2=Data!$A$2:$A$8633,IF($H$2=$H$2,IF($B$76=Data!$F$2:$F$8633,IF(G$16=Data!$E$2:$E$8633,IF(0=Data!$H$2:$H$8633,Data!$I$2:$I$8633))))))} -> 0 | H79: {=SUM(IF($F$2=Data!$A$2:$A$8633,IF($H$2=$H$2,IF($B$76=Data!$F$2:$F$8633,IF(H$16=Data!$E$2:$E$8633,IF(0=Data!$H$2:$H$8633,Data!$I$2:$I$8633))))))} -> 0 | I79: {=SUM(IF($F$2=Data!$A$2:$A$8633,IF($H$2=$H$2,IF($B$76=Data!$F$2:$F$8633,IF(I$16=Data!$E$2:$E$8633,IF(0=Data!$H$2:$H$8633,Data!$I$2:$I$8633))))))} -> 0 | ... Y79: {=SUM(IF($F$2=Data!$A$2:$A$8633,IF($H$2=$H$2,IF($B$76=Data!$F$2:$F$8633,IF(Y$16=Data!$E$2:$E$8633,IF(0=Data!$H$2:$H$8633,Data!$I$2:$I$8633))))))} -> 0 | AC79: 45285
A80: COEF 2 | B80: {=SUM(IF($F$2=Data!$A$2:$A$8633,IF($H$2=$H$2,IF($B$76=Data!$F$2:$F$8633,IF(B$16=Data!$E$2:$E$8633,IF(1=Data!$H$2:$H$8633,Data!$I$2:$I$8633))))))} -> 0 | C80: {=SUM(IF($F$2=Data!$A$2:$A$8633,IF($H$2=$H$2,IF($B$76=Data!$F$2:$F$8633,IF(C$16=Data!$E$2:$E$8633,IF(1=Data!$H$2:$H$8633,Data!$I$2:$I$8633))))))} -> 0 | D80: {=SUM(IF($F$2=Data!$A$2:$A$8633,IF($H$2=$H$2,IF($B$76=Data!$F$2:$F$8633,IF(D$16=Data!$E$2:$E$8633,IF(1=Data!$H$2:$H$8633,Data!$I$2:$I$8633))))))} -> 0 | E80: {=SUM(IF($F$2=Data!$A$2:$A$8633,IF($H$2=$H$2,IF($B$76=Data!$F$2:$F$8633,IF(E$16=Data!$E$2:$E$8633,IF(1=Data!$H$2:$H$8633,Data!$I$2:$I$8633))))))} -> 0 | F80: {=SUM(IF($F$2=Data!$A$2:$A$8633,IF($H$2=$H$2,IF($B$76=Data!$F$2:$F$8633,IF(F$16=Data!$E$2:$E$8633,IF(1=Data!$H$2:$H$8633,Data!$I$2:$I$8633))))))} -> 0 | G80: {=SUM(IF($F$2=Data!$A$2:$A$8633,IF($H$2=$H$2,IF($B$76=Data!$F$2:$F$8633,IF(G$16=Data!$E$2:$E$8633,IF(1=Data!$H$2:$H$8633,Data!$I$2:$I$8633))))))} -> 0 | H80: {=SUM(IF($F$2=Data!$A$2:$A$8633,IF($H$2=$H$2,IF($B$76=Data!$F$2:$F$8633,IF(H$16=Data!$E$2:$E$8633,IF(1=Data!$H$2:$H$8633,Data!$I$2:$I$8633))))))} -> 0 | I80: {=SUM(IF($F$2=Data!$A$2:$A$8633,IF($H$2=$H$2,IF($B$76=Data!$F$2:$F$8633,IF(I$16=Data!$E$2:$E$8633,IF(1=Data!$H$2:$H$8633,Data!$I$2:$I$8633))))))} -> 0 | ... Y80: {=SUM(IF($F$2=Data!$A$2:$A$8633,IF($H$2=$H$2,IF($B$76=Data!$F$2:$F$8633,IF(Y$16=Data!$E$2:$E$8633,IF(1=Data!$H$2:$H$8633,Data!$I$2:$I$8633))))))} -> 0 | AC80: 45292
A81: COEF 3 | B81: {=SUM(IF($F$2=Data!$A$2:$A$8633,IF($H$2=$H$2,IF($B$76=Data!$F$2:$F$8633,IF(B$16=Data!$E$2:$E$8633,IF(2=Data!$H$2:$H$8633,Data!$I$2:$I$8633))))))} -> 0 | C81: {=SUM(IF($F$2=Data!$A$2:$A$8633,IF($H$2=$H$2,IF($B$76=Data!$F$2:$F$8633,IF(C$16=Data!$E$2:$E$8633,IF(2=Data!$H$2:$H$8633,Data!$I$2:$I$8633))))))} -> 0 | D81: {=SUM(IF($F$2=Data!$A$2:$A$8633,IF($H$2=$H$2,IF($B$76=Data!$F$2:$F$8633,IF(D$16=Data!$E$2:$E$8633,IF(2=Data!$H$2:$H$8633,Data!$I$2:$I$8633))))))} -> 0 | E81: {=SUM(IF($F$2=Data!$A$2:$A$8633,IF($H$2=$H$2,IF($B$76=Data!$F$2:$F$8633,IF(E$16=Data!$E$2:$E$8633,IF(2=Data!$H$2:$H$8633,Data!$I$2:$I$8633))))))} -> 0 | F81: {=SUM(IF($F$2=Data!$A$2:$A$8633,IF($H$2=$H$2,IF($B$76=Data!$F$2:$F$8633,IF(F$16=Data!$E$2:$E$8633,IF(2=Data!$H$2:$H$8633,Data!$I$2:$I$8633))))))} -> 0 | G81: {=SUM(IF($F$2=Data!$A$2:$A$8633,IF($H$2=$H$2,IF($B$76=Data!$F$2:$F$8633,IF(G$16=Data!$E$2:$E$8633,IF(2=Data!$H$2:$H$8633,Data!$I$2:$I$8633))))))} -> 0 | H81: {=SUM(IF($F$2=Data!$A$2:$A$8633,IF($H$2=$H$2,IF($B$76=Data!$F$2:$F$8633,IF(H$16=Data!$E$2:$E$8633,IF(2=Data!$H$2:$H$8633,Data!$I$2:$I$8633))))))} -> 0 | I81: {=SUM(IF($F$2=Data!$A$2:$A$8633,IF($H$2=$H$2,IF($B$76=Data!$F$2:$F$8633,IF(I$16=Data!$E$2:$E$8633,IF(2=Data!$H$2:$H$8633,Data!$I$2:$I$8633))))))} -> 0 | ... Y81: {=SUM(IF($F$2=Data!$A$2:$A$8633,IF($H$2=$H$2,IF($B$76=Data!$F$2:$F$8633,IF(Y$16=Data!$E$2:$E$8633,IF(2=Data!$H$2:$H$8633,Data!$I$2:$I$8633))))))} -> 0 | AC81: 45306
A82: COEF 4 | B82: {=SUM(IF($F$2=Data!$A$2:$A$8633,IF($H$2=$H$2,IF($B$76=Data!$F$2:$F$8633,IF(B$16=Data!$E$2:$E$8633,IF(3=Data!$H$2:$H$8633,Data!$I$2:$I$8633))))))} -> 0 | C82: {=SUM(IF($F$2=Data!$A$2:$A$8633,IF($H$2=$H$2,IF($B$76=Data!$F$2:$F$8633,IF(C$16=Data!$E$2:$E$8633,IF(3=Data!$H$2:$H$8633,Data!$I$2:$I$8633))))))} -> 0 | D82: {=SUM(IF($F$2=Data!$A$2:$A$8633,IF($H$2=$H$2,IF($B$76=Data!$F$2:$F$8633,IF(D$16=Data!$E$2:$E$8633,IF(3=Data!$H$2:$H$8633,Data!$I$2:$I$8633))))))} -> 0 | E82: {=SUM(IF($F$2=Data!$A$2:$A$8633,IF($H$2=$H$2,IF($B$76=Data!$F$2:$F$8633,IF(E$16=Data!$E$2:$E$8633,IF(3=Data!$H$2:$H$8633,Data!$I$2:$I$8633))))))} -> 0 | F82: {=SUM(IF($F$2=Data!$A$2:$A$8633,IF($H$2=$H$2,IF($B$76=Data!$F$2:$F$8633,IF(F$16=Data!$E$2:$E$8633,IF(3=Data!$H$2:$H$8633,Data!$I$2:$I$8633))))))} -> 0 | G82: {=SUM(IF($F$2=Data!$A$2:$A$8633,IF($H$2=$H$2,IF($B$76=Data!$F$2:$F$8633,IF(G$16=Data!$E$2:$E$8633,IF(3=Data!$H$2:$H$8633,Data!$I$2:$I$8633))))))} -> 0 | H82: {=SUM(IF($F$2=Data!$A$2:$A$8633,IF($H$2=$H$2,IF($B$76=Data!$F$2:$F$8633,IF(H$16=Data!$E$2:$E$8633,IF(3=Data!$H$2:$H$8633,Data!$I$2:$I$8633))))))} -> 0 | I82: {=SUM(IF($F$2=Data!$A$2:$A$8633,IF($H$2=$H$2,IF($B$76=Data!$F$2:$F$8633,IF(I$16=Data!$E$2:$E$8633,IF(3=Data!$H$2:$H$8633,Data!$I$2:$I$8633))))))} -> 0 | ... Y82: {=SUM(IF($F$2=Data!$A$2:$A$8633,IF($H$2=$H$2,IF($B$76=Data!$F$2:$F$8633,IF(Y$16=Data!$E$2:$E$8633,IF(3=Data!$H$2:$H$8633,Data!$I$2:$I$8633))))))} -> 0 | AC82: 45341
A83: BP 1 | B83: {=SUM(IF($F$2=Data!$A$2:$A$8633,IF($H$2=$H$2,IF($B$76=Data!$F$2:$F$8633,IF(B$16=Data!$E$2:$E$8633,IF(0=Data!$H$2:$H$8633,Data!$K$2:$K$8633))))))} -> 0 | C83: {=SUM(IF($F$2=Data!$A$2:$A$8633,IF($H$2=$H$2,IF($B$76=Data!$F$2:$F$8633,IF(C$16=Data!$E$2:$E$8633,IF(0=Data!$H$2:$H$8633,Data!$K$2:$K$8633))))))} -> 0 | D83: {=SUM(IF($F$2=Data!$A$2:$A$8633,IF($H$2=$H$2,IF($B$76=Data!$F$2:$F$8633,IF(D$16=Data!$E$2:$E$8633,IF(0=Data!$H$2:$H$8633,Data!$K$2:$K$8633))))))} -> 0 | E83: {=SUM(IF($F$2=Data!$A$2:$A$8633,IF($H$2=$H$2,IF($B$76=Data!$F$2:$F$8633,IF(E$16=Data!$E$2:$E$8633,IF(0=Data!$H$2:$H$8633,Data!$K$2:$K$8633))))))} -> 0 | F83: {=SUM(IF($F$2=Data!$A$2:$A$8633,IF($H$2=$H$2,IF($B$76=Data!$F$2:$F$8633,IF(F$16=Data!$E$2:$E$8633,IF(0=Data!$H$2:$H$8633,Data!$K$2:$K$8633))))))} -> 0 | G83: {=SUM(IF($F$2=Data!$A$2:$A$8633,IF($H$2=$H$2,IF($B$76=Data!$F$2:$F$8633,IF(G$16=Data!$E$2:$E$8633,IF(0=Data!$H$2:$H$8633,Data!$K$2:$K$8633))))))} -> 0 | H83: {=SUM(IF($F$2=Data!$A$2:$A$8633,IF($H$2=$H$2,IF($B$76=Data!$F$2:$F$8633,IF(H$16=Data!$E$2:$E$8633,IF(0=Data!$H$2:$H$8633,Data!$K$2:$K$8633))))))} -> 0 | I83: {=SUM(IF($F$2=Data!$A$2:$A$8633,IF($H$2=$H$2,IF($B$76=Data!$F$2:$F$8633,IF(I$16=Data!$E$2:$E$8633,IF(0=Data!$H$2:$H$8633,Data!$K$2:$K$8633))))))} -> 0 | ... Y83: {=SUM(IF($F$2=Data!$A$2:$A$8633,IF($H$2=$H$2,IF($B$76=Data!$F$2:$F$8633,IF(Y$16=Data!$E$2:$E$8633,IF(0=Data!$H$2:$H$8633,Data!$K$2:$K$8633))))))} -> 0 | AC83: 45439
A84: BP 2 | B84: {=SUM(IF($F$2=Data!$A$2:$A$8633,IF($H$2=$H$2,IF($B$76=Data!$F$2:$F$8633,IF(B$16=Data!$E$2:$E$8633,IF(1=Data!$H$2:$H$8633,Data!$K$2:$K$8633))))))} -> 0 | C84: {=SUM(IF($F$2=Data!$A$2:$A$8633,IF($H$2=$H$2,IF($B$76=Data!$F$2:$F$8633,IF(C$16=Data!$E$2:$E$8633,IF(1=Data!$H$2:$H$8633,Data!$K$2:$K$8633))))))} -> 0 | D84: {=SUM(IF($F$2=Data!$A$2:$A$8633,IF($H$2=$H$2,IF($B$76=Data!$F$2:$F$8633,IF(D$16=Data!$E$2:$E$8633,IF(1=Data!$H$2:$H$8633,Data!$K$2:$K$8633))))))} -> 0 | E84: {=SUM(IF($F$2=Data!$A$2:$A$8633,IF($H$2=$H$2,IF($B$76=Data!$F$2:$F$8633,IF(E$16=Data!$E$2:$E$8633,IF(1=Data!$H$2:$H$8633,Data!$K$2:$K$8633))))))} -> 0 | F84: {=SUM(IF($F$2=Data!$A$2:$A$8633,IF($H$2=$H$2,IF($B$76=Data!$F$2:$F$8633,IF(F$16=Data!$E$2:$E$8633,IF(1=Data!$H$2:$H$8633,Data!$K$2:$K$8633))))))} -> 0 | G84: {=SUM(IF($F$2=Data!$A$2:$A$8633,IF($H$2=$H$2,IF($B$76=Data!$F$2:$F$8633,IF(G$16=Data!$E$2:$E$8633,IF(1=Data!$H$2:$H$8633,Data!$K$2:$K$8633))))))} -> 0 | H84: {=SUM(IF($F$2=Data!$A$2:$A$8633,IF($H$2=$H$2,IF($B$76=Data!$F$2:$F$8633,IF(H$16=Data!$E$2:$E$8633,IF(1=Data!$H$2:$H$8633,Data!$K$2:$K$8633))))))} -> 0 | I84: {=SUM(IF($F$2=Data!$A$2:$A$8633,IF($H$2=$H$2,IF($B$76=Data!$F$2:$F$8633,IF(I$16=Data!$E$2:$E$8633,IF(1=Data!$H$2:$H$8633,Data!$K$2:$K$8633))))))} -> 0 | ... Y84: {=SUM(IF($F$2=Data!$A$2:$A$8633,IF($H$2=$H$2,IF($B$76=Data!$F$2:$F$8633,IF(Y$16=Data!$E$2:$E$8633,IF(1=Data!$H$2:$H$8633,Data!$K$2:$K$8633))))))} -> 0 | AC84: 45477
A85: BP 3 | B85: {=SUM(IF($F$2=Data!$A$2:$A$8633,IF($H$2=$H$2,IF($B$76=Data!$F$2:$F$8633,IF(B$16=Data!$E$2:$E$8633,IF(2=Data!$H$2:$H$8633,Data!$K$2:$K$8633))))))} -> 0 | C85: {=SUM(IF($F$2=Data!$A$2:$A$8633,IF($H$2=$H$2,IF($B$76=Data!$F$2:$F$8633,IF(C$16=Data!$E$2:$E$8633,IF(2=Data!$H$2:$H$8633,Data!$K$2:$K$8633))))))} -> 0 | D85: {=SUM(IF($F$2=Data!$A$2:$A$8633,IF($H$2=$H$2,IF($B$76=Data!$F$2:$F$8633,IF(D$16=Data!$E$2:$E$8633,IF(2=Data!$H$2:$H$8633,Data!$K$2:$K$8633))))))} -> 0 | E85: {=SUM(IF($F$2=Data!$A$2:$A$8633,IF($H$2=$H$2,IF($B$76=Data!$F$2:$F$8633,IF(E$16=Data!$E$2:$E$8633,IF(2=Data!$H$2:$H$8633,Data!$K$2:$K$8633))))))} -> 0 | F85: {=SUM(IF($F$2=Data!$A$2:$A$8633,IF($H$2=$H$2,IF($B$76=Data!$F$2:$F$8633,IF(F$16=Data!$E$2:$E$8633,IF(2=Data!$H$2:$H$8633,Data!$K$2:$K$8633))))))} -> 0 | G85: {=SUM(IF($F$2=Data!$A$2:$A$8633,IF($H$2=$H$2,IF($B$76=Data!$F$2:$F$8633,IF(G$16=Data!$E$2:$E$8633,IF(2=Data!$H$2:$H$8633,Data!$K$2:$K$8633))))))} -> 0 | H85: {=SUM(IF($F$2=Data!$A$2:$A$8633,IF($H$2=$H$2,IF($B$76=Data!$F$2:$F$8633,IF(H$16=Data!$E$2:$E$8633,IF(2=Data!$H$2:$H$8633,Data!$K$2:$K$8633))))))} -> 0 | I85: {=SUM(IF($F$2=Data!$A$2:$A$8633,IF($H$2=$H$2,IF($B$76=Data!$F$2:$F$8633,IF(I$16=Data!$E$2:$E$8633,IF(2=Data!$H$2:$H$8633,Data!$K$2:$K$8633))))))} -> 0 | ... Y85: {=SUM(IF($F$2=Data!$A$2:$A$8633,IF($H$2=$H$2,IF($B$76=Data!$F$2:$F$8633,IF(Y$16=Data!$E$2:$E$8633,IF(2=Data!$H$2:$H$8633,Data!$K$2:$K$8633))))))} -> 0 | AC85: 45537
A86: BP 4 | B86: {=SUM(IF($F$2=Data!$A$2:$A$8633,IF($H$2=$H$2,IF($B$76=Data!$F$2:$F$8633,IF(B$16=Data!$E$2:$E$8633,IF(3=Data!$H$2:$H$8633,Data!$K$2:$K$8633))))))} -> 0 | C86: {=SUM(IF($F$2=Data!$A$2:$A$8633,IF($H$2=$H$2,IF($B$76=Data!$F$2:$F$8633,IF(C$16=Data!$E$2:$E$8633,IF(3=Data!$H$2:$H$8633,Data!$K$2:$K$8633))))))} -> 0 | D86: {=SUM(IF($F$2=Data!$A$2:$A$8633,IF($H$2=$H$2,IF($B$76=Data!$F$2:$F$8633,IF(D$16=Data!$E$2:$E$8633,IF(3=Data!$H$2:$H$8633,Data!$K$2:$K$8633))))))} -> 0 | E86: {=SUM(IF($F$2=Data!$A$2:$A$8633,IF($H$2=$H$2,IF($B$76=Data!$F$2:$F$8633,IF(E$16=Data!$E$2:$E$8633,IF(3=Data!$H$2:$H$8633,Data!$K$2:$K$8633))))))} -> 0 | F86: {=SUM(IF($F$2=Data!$A$2:$A$8633,IF($H$2=$H$2,IF($B$76=Data!$F$2:$F$8633,IF(F$16=Data!$E$2:$E$8633,IF(3=Data!$H$2:$H$8633,Data!$K$2:$K$8633))))))} -> 0 | G86: {=SUM(IF($F$2=Data!$A$2:$A$8633,IF($H$2=$H$2,IF($B$76=Data!$F$2:$F$8633,IF(G$16=Data!$E$2:$E$8633,IF(3=Data!$H$2:$H$8633,Data!$K$2:$K$8633))))))} -> 0 | H86: {=SUM(IF($F$2=Data!$A$2:$A$8633,IF($H$2=$H$2,IF($B$76=Data!$F$2:$F$8633,IF(H$16=Data!$E$2:$E$8633,IF(3=Data!$H$2:$H$8633,Data!$K$2:$K$8633))))))} -> 0 | I86: {=SUM(IF($F$2=Data!$A$2:$A$8633,IF($H$2=$H$2,IF($B$76=Data!$F$2:$F$8633,IF(I$16=Data!$E$2:$E$8633,IF(3=Data!$H$2:$H$8633,Data!$K$2:$K$8633))))))} -> 0 | ... Y86: {=SUM(IF($F$2=Data!$A$2:$A$8633,IF($H$2=$H$2,IF($B$76=Data!$F$2:$F$8633,IF(Y$16=Data!$E$2:$E$8633,IF(3=Data!$H$2:$H$8633,Data!$K$2:$K$8633))))))} -> 0 | AC86: 45579
AC87: 45607
A88: L1 EST PROF | B88: =IF(B$77<B83,B78+B$77*B79,"N/A") -> N/A | C88: =IF(C$77<C83,C78+C$77*C79,"N/A") -> N/A | D88: =IF(D$77<D83,D78+D$77*D79,"N/A") -> N/A | E88: =IF(E$77<E83,E78+E$77*E79,"N/A") -> N/A | F88: =IF(F$77<F83,F78+F$77*F79,"N/A") -> N/A | G88: =IF(G$77<G83,G78+G$77*G79,"N/A") -> N/A | H88: =IF(H$77<H83,H78+H$77*H79,"N/A") -> N/A | I88: =IF(I$77<I83,I78+I$77*I79,"N/A") -> N/A | ... Y88: =IF(Y$77<Y83,Y78+Y$77*Y79,"N/A") -> N/A | AC88: 45624
A89: L2 EST PROF | B89: =IF(AND(B83<>0,B83<B$77,B$77<B84),B78+B$77*B79+(B$77-B83)*B80,"N/A") -> N/A | C89: =IF(AND(C83<>0,C83<C$77,C$77<C84),C78+C$77*C79+(C$77-C83)*C80,"N/A") -> N/A | D89: =IF(AND(D83<>0,D83<D$77,D$77<D84),D78+D$77*D79+(D$77-D83)*D80,"N/A") -> N/A | E89: =IF(AND(E83<>0,E83<E$77,E$77<E84),E78+E$77*E79+(E$77-E83)*E80,"N/A") -> N/A | F89: =IF(AND(F83<>0,F83<F$77,F$77<F84),F78+F$77*F79+(F$77-F83)*F80,"N/A") -> N/A | G89: =IF(AND(G83<>0,G83<G$77,G$77<G84),G78+G$77*G79+(G$77-G83)*G80,"N/A") -> N/A | H89: =IF(AND(H83<>0,H83<H$77,H$77<H84),H78+H$77*H79+(H$77-H83)*H80,"N/A") -> N/A | I89: =IF(AND(I83<>0,I83<I$77,I$77<I84),I78+I$77*I79+(I$77-I83)*I80,"N/A") -> N/A | ... Y89: =IF(AND(Y83<>0,Y83<Y$77,Y$77<Y84),Y78+Y$77*Y79+(Y$77-Y83)*Y80,"N/A") -> N/A | AC89: 45651
A90: L3 EST PROF | B90: =IF(AND(B84<>0,B84<B$77,B$77<B85),B78+B$77*B79+(B$77-B83)*B80+(B$77-B84)*B81,"N/A") -> N/A | C90: =IF(AND(C84<>0,C84<C$77,C$77<C85),C78+C$77*C79+(C$77-C83)*C80+(C$77-C84)*C81,"N/A") -> N/A | D90: =IF(AND(D84<>0,D84<D$77,D$77<D85),D78+D$77*D79+(D$77-D83)*D80+(D$77-D84)*D81,"N/A") -> N/A | E90: =IF(AND(E84<>0,E84<E$77,E$77<E85),E78+E$77*E79+(E$77-E83)*E80+(E$77-E84)*E81,"N/A") -> N/A | F90: =IF(AND(F84<>0,F84<F$77,F$77<F85),F78+F$77*F79+(F$77-F83)*F80+(F$77-F84)*F81,"N/A") -> N/A | G90: =IF(AND(G84<>0,G84<G$77,G$77<G85),G78+G$77*G79+(G$77-G83)*G80+(G$77-G84)*G81,"N/A") -> N/A | H90: =IF(AND(H84<>0,H84<H$77,H$77<H85),H78+H$77*H79+(H$77-H83)*H80+(H$77-H84)*H81,"N/A") -> N/A | I90: =IF(AND(I84<>0,I84<I$77,I$77<I85),I78+I$77*I79+(I$77-I83)*I80+(I$77-I84)*I81,"N/A") -> N/A | ... Y90: =IF(AND(Y84<>0,Y84<Y$77,Y$77<Y85),Y78+Y$77*Y79+(Y$77-Y83)*Y80+(Y$77-Y84)*Y81,"N/A") -> N/A | AC90: 45658
A91: L4 EST PROF | B91: =IF(AND(B85<>0,B85<B$77,B$77<B86),B78+B$77*B79+(B$77-B83)*B80+(B$77-B84)*B81+(B$77-B85)*B82,"N/A") -> N/A | C91: =IF(AND(C85<>0,C85<C$77,C$77<C86),C78+C$77*C79+(C$77-C83)*C80+(C$77-C84)*C81+(C$77-C85)*C82,"N/A") -> N/A | D91: =IF(AND(D85<>0,D85<D$77,D$77<D86),D78+D$77*D79+(D$77-D83)*D80+(D$77-D84)*D81+(D$77-D85)*D82,"N/A") -> N/A | E91: =IF(AND(E85<>0,E85<E$77,E$77<E86),E78+E$77*E79+(E$77-E83)*E80+(E$77-E84)*E81+(E$77-E85)*E82,"N/A") -> N/A | F91: =IF(AND(F85<>0,F85<F$77,F$77<F86),F78+F$77*F79+(F$77-F83)*F80+(F$77-F84)*F81+(F$77-F85)*F82,"N/A") -> N/A | G91: =IF(AND(G85<>0,G85<G$77,G$77<G86),G78+G$77*G79+(G$77-G83)*G80+(G$77-G84)*G81+(G$77-G85)*G82,"N/A") -> N/A | H91: =IF(AND(H85<>0,H85<H$77,H$77<H86),H78+H$77*H79+(H$77-H83)*H80+(H$77-H84)*H81+(H$77-H85)*H82,"N/A") -> N/A | I91: =IF(AND(I85<>0,I85<I$77,I$77<I86),I78+I$77*I79+(I$77-I83)*I80+(I$77-I84)*I81+(I$77-I85)*I82,"N/A") -> N/A | ... Y91: =IF(AND(Y85<>0,Y85<Y$77,Y$77<Y86),Y78+Y$77*Y79+(Y$77-Y83)*Y80+(Y$77-Y84)*Y81+(Y$77-Y85)*Y82,"N/A") -> N/A | AC91: 45677
A92: bX | B92: =IF(B88<>"N/A",B88,IF(B89<>"N/A",B89,IF(B90<>"N/A",B90,IF(B91<>"N/A",B91,0))))-B78 -> 0 | C92: =IF(C88<>"N/A",C88,IF(C89<>"N/A",C89,IF(C90<>"N/A",C90,IF(C91<>"N/A",C91,0))))-C78 -> 0 | D92: =IF(D88<>"N/A",D88,IF(D89<>"N/A",D89,IF(D90<>"N/A",D90,IF(D91<>"N/A",D91,0))))-D78 -> 0 | E92: =IF(E88<>"N/A",E88,IF(E89<>"N/A",E89,IF(E90<>"N/A",E90,IF(E91<>"N/A",E91,0))))-E78 -> 0 | F92: =IF(F88<>"N/A",F88,IF(F89<>"N/A",F89,IF(F90<>"N/A",F90,IF(F91<>"N/A",F91,0))))-F78 -> 0 | G92: =IF(G88<>"N/A",G88,IF(G89<>"N/A",G89,IF(G90<>"N/A",G90,IF(G91<>"N/A",G91,0))))-G78 -> 0 | H92: =IF(H88<>"N/A",H88,IF(H89<>"N/A",H89,IF(H90<>"N/A",H90,IF(H91<>"N/A",H91,0))))-H78 -> 0 | I92: =IF(I88<>"N/A",I88,IF(I89<>"N/A",I89,IF(I90<>"N/A",I90,IF(I91<>"N/A",I91,0))))-I78 -> 0 | ... Y92: =IF(Y88<>"N/A",Y88,IF(Y89<>"N/A",Y89,IF(Y90<>"N/A",Y90,IF(Y91<>"N/A",Y91,0))))-Y78 -> 0 | AC92: 45705
AC93: 45803
A94: Profile Variable: | B94: MAY | AC94: 45842
B95: =IF($B$94=$H$2,1,0) -> 0 | C95: =IF($B$94=$H$2,1,0) -> 0 | D95: =IF($B$94=$H$2,1,0) -> 0 | E95: =IF($B$94=$H$2,1,0) -> 0 | F95: =IF($B$94=$H$2,1,0) -> 0 | G95: =IF($B$94=$H$2,1,0) -> 0 | H95: =IF($B$94=$H$2,1,0) -> 0 | I95: =IF($B$94=$H$2,1,0) -> 0 | ... Y95: =IF($B$94=$H$2,1,0) -> 0 | AC95: 45901
A96: REG_CONSTANT | B96: {=SUM(IF($F$2=Data!$A$2:$A$8633,IF($B$94=Data!$F$2:$F$8633,IF(B$16=Data!$E$2:$E$8633,IF(B$95>=Data!$J$2:$J$8633,IF(B$95<=Data!$K$2:$K$8633,Data!$G$2:$G$8633))))))} -> 0 | C96: {=SUM(IF($F$2=Data!$A$2:$A$8633,IF($H$2=$H$2,IF($B$94=Data!$F$2:$F$8633,IF(C$16=Data!$E$2:$E$8633,IF(C$95>=Data!$J$2:$J$8633,IF(C$95<=Data!$K$2:$K$8633,Data!$G$2:$G$8633)))))))} -> 0 | D96: {=SUM(IF($F$2=Data!$A$2:$A$8633,IF($H$2=$H$2,IF($B$94=Data!$F$2:$F$8633,IF(D$16=Data!$E$2:$E$8633,IF(D$95>=Data!$J$2:$J$8633,IF(D$95<=Data!$K$2:$K$8633,Data!$G$2:$G$8633)))))))} -> 0 | E96: {=SUM(IF($F$2=Data!$A$2:$A$8633,IF($H$2=$H$2,IF($B$94=Data!$F$2:$F$8633,IF(E$16=Data!$E$2:$E$8633,IF(E$95>=Data!$J$2:$J$8633,IF(E$95<=Data!$K$2:$K$8633,Data!$G$2:$G$8633)))))))} -> 0 | F96: {=SUM(IF($F$2=Data!$A$2:$A$8633,IF($H$2=$H$2,IF($B$94=Data!$F$2:$F$8633,IF(F$16=Data!$E$2:$E$8633,IF(F$95>=Data!$J$2:$J$8633,IF(F$95<=Data!$K$2:$K$8633,Data!$G$2:$G$8633)))))))} -> 0 | G96: {=SUM(IF($F$2=Data!$A$2:$A$8633,IF($H$2=$H$2,IF($B$94=Data!$F$2:$F$8633,IF(G$16=Data!$E$2:$E$8633,IF(G$95>=Data!$J$2:$J$8633,IF(G$95<=Data!$K$2:$K$8633,Data!$G$2:$G$8633)))))))} -> 0 | H96: {=SUM(IF($F$2=Data!$A$2:$A$8633,IF($H$2=$H$2,IF($B$94=Data!$F$2:$F$8633,IF(H$16=Data!$E$2:$E$8633,IF(H$95>=Data!$J$2:$J$8633,IF(H$95<=Data!$K$2:$K$8633,Data!$G$2:$G$8633)))))))} -> 0 | I96: {=SUM(IF($F$2=Data!$A$2:$A$8633,IF($H$2=$H$2,IF($B$94=Data!$F$2:$F$8633,IF(I$16=Data!$E$2:$E$8633,IF(I$95>=Data!$J$2:$J$8633,IF(I$95<=Data!$K$2:$K$8633,Data!$G$2:$G$8633)))))))} -> 0 | J96: {=SUM(IF($F$2=Data!$A$2:$A$8633,IF($H$2=$H$2,IF($B$94=Data!$F$2:$F$8633,IF(J$16=Data!$E$2:$E$8633,IF(J$95>=Data!$J$2:$J$8633,IF(J$95<=Data!$K$2:$K$8633,Data!$G$2:$G$8633)))))))} -> 0 | ... Y96: {=SUM(IF($F$2=Data!$A$2:$A$8633,IF($H$2=$H$2,IF($B$94=Data!$F$2:$F$8633,IF(Y$16=Data!$E$2:$E$8633,IF(Y$95>=Data!$J$2:$J$8633,IF(Y$95<=Data!$K$2:$K$8633,Data!$G$2:$G$8633)))))))} -> 0 | AC96: 45943
A97: COEF 1 | B97: {=SUM(IF($F$2=Data!$A$2:$A$8633,IF($H$2=$H$2,IF($B$94=Data!$F$2:$F$8633,IF(B$16=Data!$E$2:$E$8633,IF(0=Data!$H$2:$H$8633,Data!$I$2:$I$8633))))))} -> 0 | C97: {=SUM(IF($F$2=Data!$A$2:$A$8633,IF($H$2=$H$2,IF($B$94=Data!$F$2:$F$8633,IF(C$16=Data!$E$2:$E$8633,IF(0=Data!$H$2:$H$8633,Data!$I$2:$I$8633))))))} -> 0 | D97: {=SUM(IF($F$2=Data!$A$2:$A$8633,IF($H$2=$H$2,IF($B$94=Data!$F$2:$F$8633,IF(D$16=Data!$E$2:$E$8633,IF(0=Data!$H$2:$H$8633,Data!$I$2:$I$8633))))))} -> 0 | E97: {=SUM(IF($F$2=Data!$A$2:$A$8633,IF($H$2=$H$2,IF($B$94=Data!$F$2:$F$8633,IF(E$16=Data!$E$2:$E$8633,IF(0=Data!$H$2:$H$8633,Data!$I$2:$I$8633))))))} -> 0 | F97: {=SUM(IF($F$2=Data!$A$2:$A$8633,IF($H$2=$H$2,IF($B$94=Data!$F$2:$F$8633,IF(F$16=Data!$E$2:$E$8633,IF(0=Data!$H$2:$H$8633,Data!$I$2:$I$8633))))))} -> 0 | G97: {=SUM(IF($F$2=Data!$A$2:$A$8633,IF($H$2=$H$2,IF($B$94=Data!$F$2:$F$8633,IF(G$16=Data!$E$2:$E$8633,IF(0=Data!$H$2:$H$8633,Data!$I$2:$I$8633))))))} -> 0 | H97: {=SUM(IF($F$2=Data!$A$2:$A$8633,IF($H$2=$H$2,IF($B$94=Data!$F$2:$F$8633,IF(H$16=Data!$E$2:$E$8633,IF(0=Data!$H$2:$H$8633,Data!$I$2:$I$8633))))))} -> 0 | I97: {=SUM(IF($F$2=Data!$A$2:$A$8633,IF($H$2=$H$2,IF($B$94=Data!$F$2:$F$8633,IF(I$16=Data!$E$2:$E$8633,IF(0=Data!$H$2:$H$8633,Data!$I$2:$I$8633))))))} -> 0 | ... Y97: {=SUM(IF($F$2=Data!$A$2:$A$8633,IF($H$2=$H$2,IF($B$94=Data!$F$2:$F$8633,IF(Y$16=Data!$E$2:$E$8633,IF(0=Data!$H$2:$H$8633,Data!$I$2:$I$8633))))))} -> 0 | AC97: 45972
A98: COEF 2 | B98: {=SUM(IF($F$2=Data!$A$2:$A$8633,IF($H$2=$H$2,IF($B$94=Data!$F$2:$F$8633,IF(B$16=Data!$E$2:$E$8633,IF(1=Data!$H$2:$H$8633,Data!$I$2:$I$8633))))))} -> 0 | C98: {=SUM(IF($F$2=Data!$A$2:$A$8633,IF($H$2=$H$2,IF($B$94=Data!$F$2:$F$8633,IF(C$16=Data!$E$2:$E$8633,IF(1=Data!$H$2:$H$8633,Data!$I$2:$I$8633))))))} -> 0 | D98: {=SUM(IF($F$2=Data!$A$2:$A$8633,IF($H$2=$H$2,IF($B$94=Data!$F$2:$F$8633,IF(D$16=Data!$E$2:$E$8633,IF(1=Data!$H$2:$H$8633,Data!$I$2:$I$8633))))))} -> 0 | E98: {=SUM(IF($F$2=Data!$A$2:$A$8633,IF($H$2=$H$2,IF($B$94=Data!$F$2:$F$8633,IF(E$16=Data!$E$2:$E$8633,IF(1=Data!$H$2:$H$8633,Data!$I$2:$I$8633))))))} -> 0 | F98: {=SUM(IF($F$2=Data!$A$2:$A$8633,IF($H$2=$H$2,IF($B$94=Data!$F$2:$F$8633,IF(F$16=Data!$E$2:$E$8633,IF(1=Data!$H$2:$H$8633,Data!$I$2:$I$8633))))))} -> 0 | G98: {=SUM(IF($F$2=Data!$A$2:$A$8633,IF($H$2=$H$2,IF($B$94=Data!$F$2:$F$8633,IF(G$16=Data!$E$2:$E$8633,IF(1=Data!$H$2:$H$8633,Data!$I$2:$I$8633))))))} -> 0 | H98: {=SUM(IF($F$2=Data!$A$2:$A$8633,IF($H$2=$H$2,IF($B$94=Data!$F$2:$F$8633,IF(H$16=Data!$E$2:$E$8633,IF(1=Data!$H$2:$H$8633,Data!$I$2:$I$8633))))))} -> 0 | I98: {=SUM(IF($F$2=Data!$A$2:$A$8633,IF($H$2=$H$2,IF($B$94=Data!$F$2:$F$8633,IF(I$16=Data!$E$2:$E$8633,IF(1=Data!$H$2:$H$8633,Data!$I$2:$I$8633))))))} -> 0 | ... Y98: {=SUM(IF($F$2=Data!$A$2:$A$8633,IF($H$2=$H$2,IF($B$94=Data!$F$2:$F$8633,IF(Y$16=Data!$E$2:$E$8633,IF(1=Data!$H$2:$H$8633,Data!$I$2:$I$8633))))))} -> 0 | AC98: 45988
A99: COEF 3 | B99: {=SUM(IF($F$2=Data!$A$2:$A$8633,IF($H$2=$H$2,IF($B$94=Data!$F$2:$F$8633,IF(B$16=Data!$E$2:$E$8633,IF(2=Data!$H$2:$H$8633,Data!$I$2:$I$8633))))))} -> 0 | C99: {=SUM(IF($F$2=Data!$A$2:$A$8633,IF($H$2=$H$2,IF($B$94=Data!$F$2:$F$8633,IF(C$16=Data!$E$2:$E$8633,IF(2=Data!$H$2:$H$8633,Data!$I$2:$I$8633))))))} -> 0 | D99: {=SUM(IF($F$2=Data!$A$2:$A$8633,IF($H$2=$H$2,IF($B$94=Data!$F$2:$F$8633,IF(D$16=Data!$E$2:$E$8633,IF(2=Data!$H$2:$H$8633,Data!$I$2:$I$8633))))))} -> 0 | E99: {=SUM(IF($F$2=Data!$A$2:$A$8633,IF($H$2=$H$2,IF($B$94=Data!$F$2:$F$8633,IF(E$16=Data!$E$2:$E$8633,IF(2=Data!$H$2:$H$8633,Data!$I$2:$I$8633))))))} -> 0 | F99: {=SUM(IF($F$2=Data!$A$2:$A$8633,IF($H$2=$H$2,IF($B$94=Data!$F$2:$F$8633,IF(F$16=Data!$E$2:$E$8633,IF(2=Data!$H$2:$H$8633,Data!$I$2:$I$8633))))))} -> 0 | G99: {=SUM(IF($F$2=Data!$A$2:$A$8633,IF($H$2=$H$2,IF($B$94=Data!$F$2:$F$8633,IF(G$16=Data!$E$2:$E$8633,IF(2=Data!$H$2:$H$8633,Data!$I$2:$I$8633))))))} -> 0 | H99: {=SUM(IF($F$2=Data!$A$2:$A$8633,IF($H$2=$H$2,IF($B$94=Data!$F$2:$F$8633,IF(H$16=Data!$E$2:$E$8633,IF(2=Data!$H$2:$H$8633,Data!$I$2:$I$8633))))))} -> 0 | I99: {=SUM(IF($F$2=Data!$A$2:$A$8633,IF($H$2=$H$2,IF($B$94=Data!$F$2:$F$8633,IF(I$16=Data!$E$2:$E$8633,IF(2=Data!$H$2:$H$8633,Data!$I$2:$I$8633))))))} -> 0 | ... Y99: {=SUM(IF($F$2=Data!$A$2:$A$8633,IF($H$2=$H$2,IF($B$94=Data!$F$2:$F$8633,IF(Y$16=Data!$E$2:$E$8633,IF(2=Data!$H$2:$H$8633,Data!$I$2:$I$8633))))))} -> 0 | AC99: 46016
A100: COEF 4 | B100: {=SUM(IF($F$2=Data!$A$2:$A$8633,IF($H$2=$H$2,IF($B$94=Data!$F$2:$F$8633,IF(B$16=Data!$E$2:$E$8633,IF(3=Data!$H$2:$H$8633,Data!$I$2:$I$8633))))))} -> 0 | C100: {=SUM(IF($F$2=Data!$A$2:$A$8633,IF($H$2=$H$2,IF($B$94=Data!$F$2:$F$8633,IF(C$16=Data!$E$2:$E$8633,IF(3=Data!$H$2:$H$8633,Data!$I$2:$I$8633))))))} -> 0 | D100: {=SUM(IF($F$2=Data!$A$2:$A$8633,IF($H$2=$H$2,IF($B$94=Data!$F$2:$F$8633,IF(D$16=Data!$E$2:$E$8633,IF(3=Data!$H$2:$H$8633,Data!$I$2:$I$8633))))))} -> 0 | E100: {=SUM(IF($F$2=Data!$A$2:$A$8633,IF($H$2=$H$2,IF($B$94=Data!$F$2:$F$8633,IF(E$16=Data!$E$2:$E$8633,IF(3=Data!$H$2:$H$8633,Data!$I$2:$I$8633))))))} -> 0 | F100: {=SUM(IF($F$2=Data!$A$2:$A$8633,IF($H$2=$H$2,IF($B$94=Data!$F$2:$F$8633,IF(F$16=Data!$E$2:$E$8633,IF(3=Data!$H$2:$H$8633,Data!$I$2:$I$8633))))))} -> 0 | G100: {=SUM(IF($F$2=Data!$A$2:$A$8633,IF($H$2=$H$2,IF($B$94=Data!$F$2:$F$8633,IF(G$16=Data!$E$2:$E$8633,IF(3=Data!$H$2:$H$8633,Data!$I$2:$I$8633))))))} -> 0 | H100: {=SUM(IF($F$2=Data!$A$2:$A$8633,IF($H$2=$H$2,IF($B$94=Data!$F$2:$F$8633,IF(H$16=Data!$E$2:$E$8633,IF(3=Data!$H$2:$H$8633,Data!$I$2:$I$8633))))))} -> 0 | I100: {=SUM(IF($F$2=Data!$A$2:$A$8633,IF($H$2=$H$2,IF($B$94=Data!$F$2:$F$8633,IF(I$16=Data!$E$2:$E$8633,IF(3=Data!$H$2:$H$8633,Data!$I$2:$I$8633))))))} -> 0 | ... Y100: {=SUM(IF($F$2=Data!$A$2:$A$8633,IF($H$2=$H$2,IF($B$94=Data!$F$2:$F$8633,IF(Y$16=Data!$E$2:$E$8633,IF(3=Data!$H$2:$H$8633,Data!$I$2:$I$8633))))))} -> 0 | AC100: 46023
A101: BP 1 | B101: {=SUM(IF($F$2=Data!$A$2:$A$8633,IF($H$2=$H$2,IF($B$94=Data!$F$2:$F$8633,IF(B$16=Data!$E$2:$E$8633,IF(0=Data!$H$2:$H$8633,Data!$K$2:$K$8633))))))} -> 0 | C101: {=SUM(IF($F$2=Data!$A$2:$A$8633,IF($H$2=$H$2,IF($B$94=Data!$F$2:$F$8633,IF(C$16=Data!$E$2:$E$8633,IF(0=Data!$H$2:$H$8633,Data!$K$2:$K$8633))))))} -> 0 | D101: {=SUM(IF($F$2=Data!$A$2:$A$8633,IF($H$2=$H$2,IF($B$94=Data!$F$2:$F$8633,IF(D$16=Data!$E$2:$E$8633,IF(0=Data!$H$2:$H$8633,Data!$K$2:$K$8633))))))} -> 0 | E101: {=SUM(IF($F$2=Data!$A$2:$A$8633,IF($H$2=$H$2,IF($B$94=Data!$F$2:$F$8633,IF(E$16=Data!$E$2:$E$8633,IF(0=Data!$H$2:$H$8633,Data!$K$2:$K$8633))))))} -> 0 | F101: {=SUM(IF($F$2=Data!$A$2:$A$8633,IF($H$2=$H$2,IF($B$94=Data!$F$2:$F$8633,IF(F$16=Data!$E$2:$E$8633,IF(0=Data!$H$2:$H$8633,Data!$K$2:$K$8633))))))} -> 0 | G101: {=SUM(IF($F$2=Data!$A$2:$A$8633,IF($H$2=$H$2,IF($B$94=Data!$F$2:$F$8633,IF(G$16=Data!$E$2:$E$8633,IF(0=Data!$H$2:$H$8633,Data!$K$2:$K$8633))))))} -> 0 | H101: {=SUM(IF($F$2=Data!$A$2:$A$8633,IF($H$2=$H$2,IF($B$94=Data!$F$2:$F$8633,IF(H$16=Data!$E$2:$E$8633,IF(0=Data!$H$2:$H$8633,Data!$K$2:$K$8633))))))} -> 0 | I101: {=SUM(IF($F$2=Data!$A$2:$A$8633,IF($H$2=$H$2,IF($B$94=Data!$F$2:$F$8633,IF(I$16=Data!$E$2:$E$8633,IF(0=Data!$H$2:$H$8633,Data!$K$2:$K$8633))))))} -> 0 | ... Y101: {=SUM(IF($F$2=Data!$A$2:$A$8633,IF($H$2=$H$2,IF($B$94=Data!$F$2:$F$8633,IF(Y$16=Data!$E$2:$E$8633,IF(0=Data!$H$2:$H$8633,Data!$K$2:$K$8633))))))} -> 0 | AC101: 46041
A102: BP 2 | B102: {=SUM(IF($F$2=Data!$A$2:$A$8633,IF($H$2=$H$2,IF($B$94=Data!$F$2:$F$8633,IF(B$16=Data!$E$2:$E$8633,IF(1=Data!$H$2:$H$8633,Data!$K$2:$K$8633))))))} -> 0 | C102: {=SUM(IF($F$2=Data!$A$2:$A$8633,IF($H$2=$H$2,IF($B$94=Data!$F$2:$F$8633,IF(C$16=Data!$E$2:$E$8633,IF(1=Data!$H$2:$H$8633,Data!$K$2:$K$8633))))))} -> 0 | D102: {=SUM(IF($F$2=Data!$A$2:$A$8633,IF($H$2=$H$2,IF($B$94=Data!$F$2:$F$8633,IF(D$16=Data!$E$2:$E$8633,IF(1=Data!$H$2:$H$8633,Data!$K$2:$K$8633))))))} -> 0 | E102: {=SUM(IF($F$2=Data!$A$2:$A$8633,IF($H$2=$H$2,IF($B$94=Data!$F$2:$F$8633,IF(E$16=Data!$E$2:$E$8633,IF(1=Data!$H$2:$H$8633,Data!$K$2:$K$8633))))))} -> 0 | F102: {=SUM(IF($F$2=Data!$A$2:$A$8633,IF($H$2=$H$2,IF($B$94=Data!$F$2:$F$8633,IF(F$16=Data!$E$2:$E$8633,IF(1=Data!$H$2:$H$8633,Data!$K$2:$K$8633))))))} -> 0 | G102: {=SUM(IF($F$2=Data!$A$2:$A$8633,IF($H$2=$H$2,IF($B$94=Data!$F$2:$F$8633,IF(G$16=Data!$E$2:$E$8633,IF(1=Data!$H$2:$H$8633,Data!$K$2:$K$8633))))))} -> 0 | H102: {=SUM(IF($F$2=Data!$A$2:$A$8633,IF($H$2=$H$2,IF($B$94=Data!$F$2:$F$8633,IF(H$16=Data!$E$2:$E$8633,IF(1=Data!$H$2:$H$8633,Data!$K$2:$K$8633))))))} -> 0 | I102: {=SUM(IF($F$2=Data!$A$2:$A$8633,IF($H$2=$H$2,IF($B$94=Data!$F$2:$F$8633,IF(I$16=Data!$E$2:$E$8633,IF(1=Data!$H$2:$H$8633,Data!$K$2:$K$8633))))))} -> 0 | ... Y102: {=SUM(IF($F$2=Data!$A$2:$A$8633,IF($H$2=$H$2,IF($B$94=Data!$F$2:$F$8633,IF(Y$16=Data!$E$2:$E$8633,IF(1=Data!$H$2:$H$8633,Data!$K$2:$K$8633))))))} -> 0 | AC102: 46069
A103: BP 3 | B103: {=SUM(IF($F$2=Data!$A$2:$A$8633,IF($H$2=$H$2,IF($B$94=Data!$F$2:$F$8633,IF(B$16=Data!$E$2:$E$8633,IF(2=Data!$H$2:$H$8633,Data!$K$2:$K$8633))))))} -> 0 | C103: {=SUM(IF($F$2=Data!$A$2:$A$8633,IF($H$2=$H$2,IF($B$94=Data!$F$2:$F$8633,IF(C$16=Data!$E$2:$E$8633,IF(2=Data!$H$2:$H$8633,Data!$K$2:$K$8633))))))} -> 0 | D103: {=SUM(IF($F$2=Data!$A$2:$A$8633,IF($H$2=$H$2,IF($B$94=Data!$F$2:$F$8633,IF(D$16=Data!$E$2:$E$8633,IF(2=Data!$H$2:$H$8633,Data!$K$2:$K$8633))))))} -> 0 | E103: {=SUM(IF($F$2=Data!$A$2:$A$8633,IF($H$2=$H$2,IF($B$94=Data!$F$2:$F$8633,IF(E$16=Data!$E$2:$E$8633,IF(2=Data!$H$2:$H$8633,Data!$K$2:$K$8633))))))} -> 0 | F103: {=SUM(IF($F$2=Data!$A$2:$A$8633,IF($H$2=$H$2,IF($B$94=Data!$F$2:$F$8633,IF(F$16=Data!$E$2:$E$8633,IF(2=Data!$H$2:$H$8633,Data!$K$2:$K$8633))))))} -> 0 | G103: {=SUM(IF($F$2=Data!$A$2:$A$8633,IF($H$2=$H$2,IF($B$94=Data!$F$2:$F$8633,IF(G$16=Data!$E$2:$E$8633,IF(2=Data!$H$2:$H$8633,Data!$K$2:$K$8633))))))} -> 0 | H103: {=SUM(IF($F$2=Data!$A$2:$A$8633,IF($H$2=$H$2,IF($B$94=Data!$F$2:$F$8633,IF(H$16=Data!$E$2:$E$8633,IF(2=Data!$H$2:$H$8633,Data!$K$2:$K$8633))))))} -> 0 | I103: {=SUM(IF($F$2=Data!$A$2:$A$8633,IF($H$2=$H$2,IF($B$94=Data!$F$2:$F$8633,IF(I$16=Data!$E$2:$E$8633,IF(2=Data!$H$2:$H$8633,Data!$K$2:$K$8633))))))} -> 0 | ... Y103: {=SUM(IF($F$2=Data!$A$2:$A$8633,IF($H$2=$H$2,IF($B$94=Data!$F$2:$F$8633,IF(Y$16=Data!$E$2:$E$8633,IF(2=Data!$H$2:$H$8633,Data!$K$2:$K$8633))))))} -> 0 | AC103: 46167
...

Sheet Data
A1: PROFILE_KEY1_LU | B1: PROFILE_METHOD | C1: SEASON_TCD | D1: DAY_TCD | E1: STARTING_INTERVAL | F1: PROFILE_VARIABLE | G1: REG_CONSTANT | H1: BREAKPOINT_NUM | I1: COEF | J1: Tmin | K1: Tmax
A2: HV01 | B2: DPL_1_SEASON_1_DT_HV01 | C2: ALLSEASONS | D2: ALLDAYS | E2: 0 | F2: AUGUST | G2: 11542.956 | H2: 0 | I2: 843.55247 | J2: 0 | K2: 150
A3: HV01 | B3: DPL_1_SEASON_1_DT_HV01 | C3: ALLSEASONS | D3: ALLDAYS | E3: 0 | F3: CDH65 | G3: 11542.956 | H3: 0 | I3: 73.976859 | J3: 0 | K3: 150
A4: HV01 | B4: DPL_1_SEASON_1_DT_HV01 | C4: ALLSEASONS | D4: ALLDAYS | E4: 0 | F4: CDH65_MA24 | G4: 11542.956 | H4: 0 | I4: 124.09848 | J4: 0 | K4: 150
A5: HV01 | B5: DPL_1_SEASON_1_DT_HV01 | C5: ALLSEASONS | D5: ALLDAYS | E5: 0 | F5: CDH65_MA3 | G5: 11542.956 | H5: 0 | I5: -17.727025 | J5: 0 | K5: 150
A6: HV01 | B6: DPL_1_SEASON_1_DT_HV01 | C6: ALLSEASONS | D6: ALLDAYS | E6: 0 | F6: CDH75 | G6: 11542.956 | H6: 0 | I6: 30.52994 | J6: 0 | K6: 150
A7: HV01 | B7: DPL_1_SEASON_1_DT_HV01 | C7: ALLSEASONS | D7: ALLDAYS | E7: 0 | F7: DECEMBER | G7: 11542.956 | H7: 0 | I7: -692.94154 | J7: 0 | K7: 150
A8: HV01 | B8: DPL_1_SEASON_1_DT_HV01 | C8: ALLSEASONS | D8: ALLDAYS | E8: 0 | F8: FEBRUARY | G8: 11542.956 | H8: 0 | I8: 193.00381 | J8: 0 | K8: 150
A9: HV01 | B9: DPL_1_SEASON_1_DT_HV01 | C9: ALLSEASONS | D9: ALLDAYS | E9: 0 | F9: FRIDAY | G9: 11542.956 | H9: 0 | I9: -733.38135 | J9: 0 | K9: 150
A10: HV01 | B10: DPL_1_SEASON_1_DT_HV01 | C10: ALLSEASONS | D10: ALLDAYS | E10: 0 | F10: HDH60 | G10: 11542.956 | H10: 0 | I10: 1.6578668 | J10: 0 | K10: 150
A11: HV01 | B11: DPL_1_SEASON_1_DT_HV01 | C11: ALLSEASONS | D11: ALLDAYS | E11: 0 | F11: JANUARY | G11: 11542.956 | H11: 0 | I11: -41.657824 | J11: 0 | K11: 150
A12: HV01 | B12: DPL_1_SEASON_1_DT_HV01 | C12: ALLSEASONS | D12: ALLDAYS | E12: 0 | F12: JULY | G12: 11542.956 | H12: 0 | I12: 401.60724 | J12: 0 | K12: 150
A13: HV01 | B13: DPL_1_SEASON_1_DT_HV01 | C13: ALLSEASONS | D13: ALLDAYS | E13: 0 | F13: JUNE | G13: 11542.956 | H13: 0 | I13: 375.96963 | J13: 0 | K13: 150
... A1041: PR01 | B1041: DPL_1_SEASON_1_DT_PR01 | C1041: ALLSEASONS | D1041: ALLDAYS | E1041: 23 | F1041: SUNDAY | G1041: 709.05666 | H1041: 0 | I1041: -117.99463 | J1041: 0 | K1041: 150
A1042: PS01 | B1042: DPL_12_SEASON_HOURLY_NO_WEATHER | C1042: APR | D1042: SATURDAY | E1042: 0 | F1042: NULL_WEATHER | G1042: 8893.9595 | J1042: 0 | K1042: 150
A1043: PS01 | B1043: DPL_12_SEASON_HOURLY_NO_WEATHER | C1043: AUG | D1043: SATURDAY | E1043: 0 | F1043: NULL_WEATHER | G1043: 9593.1705 | J1043: 0 | K1043: 150
A1044: PS01 | B1044: DPL_12_SEASON_HOURLY_NO_WEATHER | C1044: DEC | D1044: SATURDAY | E1044: 0 | F1044: NULL_WEATHER | G1044: 8537.2288 | J1044: 0 | K1044: 150
A1045: PS01 | B1045: DPL_12_SEASON_HOURLY_NO_WEATHER | C1045: FEB | D1045: SATURDAY | E1045: 0 | F1045: NULL_WEATHER | G1045: 8202.951 | J1045: 0 | K1045: 150
A1046: PS01 | B1046: DPL_12_SEASON_HOURLY_NO_WEATHER | C1046: JAN | D1046: SATURDAY | E1046: 0 | F1046: NULL_WEATHER | G1046: 8497.1724 | J1046: 0 | K1046: 150
A1047: PS01 | B1047: DPL_12_SEASON_HOURLY_NO_WEATHER | C1047: JUL | D1047: SATURDAY | E1047: 0 | F1047: NULL_WEATHER | G1047: 9613.1558 | J1047: 0 | K1047: 150
A1048: PS01 | B1048: DPL_12_SEASON_HOURLY_NO_WEATHER | C1048: JUN | D1048: SATURDAY | E1048: 0 | F1048: NULL_WEATHER | G1048: 9823.3279 | J1048: 0 | K1048: 150
A1049: PS01 | B1049: DPL_12_SEASON_HOURLY_NO_WEATHER | C1049: MAR | D1049: SATURDAY | E1049: 0 | F1049: NULL_WEATHER | G1049: 8285.9804 | J1049: 0 | K1049: 150
A1050: PS01 | B1050: DPL_12_SEASON_HOURLY_NO_WEATHER | C1050: MAY | D1050: SATURDAY | E1050: 0 | F1050: NULL_WEATHER | G1050: 9546.0325 | J1050: 0 | K1050: 150
A1051: PS01 | B1051: DPL_12_SEASON_HOURLY_NO_WEATHER | C1051: NOV | D1051: SATURDAY | E1051: 0 | F1051: NULL_WEATHER | G1051: 8402.091 | J1051: 0 | K1051: 150
A1052: PS01 | B1052: DPL_12_SEASON_HOURLY_NO_WEATHER | C1052: OCT | D1052: SATURDAY | E1052: 0 | F1052: NULL_WEATHER | G1052: 9525.3169 | J1052: 0 | K1052: 150
A1053: PS01 | B1053: DPL_12_SEASON_HOURLY_NO_WEATHER | C1053: SEP | D1053: SATURDAY | E1053: 0 | F1053: NULL_WEATHER | G1053: 9564.9845 | J1053: 0 | K1053: 150
... A1905: PS01 | B1905: DPL_12_SEASON_HOURLY_NO_WEATHER | C1905: SEP | D1905: WEEKDAY | E1905: 23 | F1905: NULL_WEATHER | G1905: 9865.2319 | J1905: 0 | K1905: 150
A1906: RH01 | B1906: DPL_1_SEASON_1_DT_RH01 | C1906: ALLSEASONS | D1906: ALLDAYS | E1906: 0 | F1906: AUGUST | G1906: 0.71197191 | H1906: 0 | I1906: 0.015385388 | J1906: 0 | K1906: 150
A1907: RH01 | B1907: DPL_1_SEASON_1_DT_RH01 | C1907: ALLSEASONS | D1907: ALLDAYS | E1907: 0 | F1907: CDH65 | G1907: 0.71197191 | H1907: 0 | I1907: -0.0045580079 | J1907: 0 | K1907: 150
A1908: RH01 | B1908: DPL_1_SEASON_1_DT_RH01 | C1908: ALLSEASONS | D1908: ALLDAYS | E1908: 0 | F1908: CDH65_MA24 | G1908: 0.71197191 | H1908: 0 | I1908: 0.027632734 | J1908: 0 | K1908: 150
A1909: RH01 | B1909: DPL_1_SEASON_1_DT_RH01 | C1909: ALLSEASONS | D1909: ALLDAYS | E1909: 0 | F1909: CDH65_MA3 | G1909: 0.71197191 | H1909: 0 | I1909: 0.016342957 | J1909: 0 | K1909: 150
A1910: RH01 | B1910: DPL_1_SEASON_1_DT_RH01 | C1910: ALLSEASONS | D1910: ALLDAYS | E1910: 0 | F1910: CDH75 | G1910: 0.71197191 | H1910: 0 | I1910: 0.015198163 | J1910: 0 | K1910: 150
A1911: RH01 | B1911: DPL_1_SEASON_1_DT_RH01 | C1911: ALLSEASONS | D1911: ALLDAYS | E1911: 0 | F1911: DECEMBER | G1911: 0.71197191 | H1911: 0 | I1911: 0.22332043 | J1911: 0 | K1911: 150
A1912: RH01 | B1912: DPL_1_SEASON_1_DT_RH01 | C1912: ALLSEASONS | D1912: ALLDAYS | E1912: 0 | F1912: FEBRUARY | G1912: 0.71197191 | H1912: 0 | I1912: 0.25695527 | J1912: 0 | K1912: 150
A1913: RH01 | B1913: DPL_1_SEASON_1_DT_RH01 | C1913: ALLSEASONS | D1913: ALLDAYS | E1913: 0 | F1913: HDH30 | G1913: 0.71197191 | H1913: 0 | I1913: 0.01773048 | J1913: 0 | K1913: 150
A1914: RH01 | B1914: DPL_1_SEASON_1_DT_RH01 | C1914: ALLSEASONS | D1914: ALLDAYS | E1914: 0 | F1914: HDH40 | G1914: 0.71197191 | H1914: 0 | I1914: 0.0099353648 | J1914: 0 | K1914: 150
A1915: RH01 | B1915: DPL_1_SEASON_1_DT_RH01 | C1915: ALLSEASONS | D1915: ALLDAYS | E1915: 0 | F1915: HDH50 | G1915: 0.71197191 | H1915: 0 | I1915: 0.015606594 | J1915: 0 | K1915: 150
A1916: RH01 | B1916: DPL_1_SEASON_1_DT_RH01 | C1916: ALLSEASONS | D1916: ALLDAYS | E1916: 0 | F1916: HDH60 | G1916: 0.71197191 | H1916: 0 | I1916: 0.011300307 | J1916: 0 | K1916: 150
A1917: RH01 | B1917: DPL_1_SEASON_1_DT_RH01 | C1917: ALLSEASONS | D1917: ALLDAYS | E1917: 0 | F1917: HDH60_MA24 | G1917: 0.71197191 | H1917: 0 | I1917: 0.026855429 | J1917: 0 | K1917: 150
... A4589: SC01 | B4589: DPL_1_SEASON_1_DT_SC01 | C4589: ALLSEASONS | D4589: ALLDAYS | E4589: 23 | F4589: SUNDAY | G4589: 33.674199 | H4589: 0 | I4589: -2.0273832 | J4589: 0 | K4589: 150
A4590: SL01 | B4590: DPL_12_SEASON_1_DT | C4590: APRIL | D4590: ALLDAYS | E4590: 0 | F4590: NULL_WEATHER | G4590: 0.772552 | J4590: 0 | K4590: 150
A4591: SL01 | B4591: DPL_12_SEASON_1_DT | C4591: AUGUST | D4591: ALLDAYS | E4591: 0 | F4591: NULL_WEATHER | G4591: 0.77607267 | J4591: 0 | K4591: 150
A4592: SL01 | B4592: DPL_12_SEASON_1_DT | C4592: DECEMBER | D4592: ALLDAYS | E4592: 0 | F4592: NULL_WEATHER | G4592: 0.771496 | J4592: 0 | K4592: 150
A4593: SL01 | B4593: DPL_12_SEASON_1_DT | C4593: FEBRUARY | D4593: ALLDAYS | E4593: 0 | F4593: NULL_WEATHER | G4593: 0.77137333 | J4593: 0 | K4593: 150
A4594: SL01 | B4594: DPL_12_SEASON_1_DT | C4594: JANUARY | D4594: ALLDAYS | E4594: 0 | F4594: NULL_WEATHER | G4594: 0.77105533 | J4594: 0 | K4594: 150
A4595: SL01 | B4595: DPL_12_SEASON_1_DT | C4595: JULY | D4595: ALLDAYS | E4595: 0 | F4595: NULL_WEATHER | G4595: 0.77447967 | J4595: 0 | K4595: 150
A4596: SL01 | B4596: DPL_12_SEASON_1_DT | C4596: JUNE | D4596: ALLDAYS | E4596: 0 | F4596: NULL_WEATHER | G4596: 0.77475233 | J4596: 0 | K4596: 150
A4597: SL01 | B4597: DPL_12_SEASON_1_DT | C4597: MARCH | D4597: ALLDAYS | E4597: 0 | F4597: NULL_WEATHER | G4597: 0.772306 | J4597: 0 | K4597: 150
A4598: SL01 | B4598: DPL_12_SEASON_1_DT | C4598: MAY | D4598: ALLDAYS | E4598: 0 | F4598: NULL_WEATHER | G4598: 0.773119 | J4598: 0 | K4598: 150
A4599: SL01 | B4599: DPL_12_SEASON_1_DT | C4599: NOVEMBER | D4599: ALLDAYS | E4599: 0 | F4599: NULL_WEATHER | G4599: 0.77100633 | J4599: 0 | K4599: 150
A4600: SL01 | B4600: DPL_12_SEASON_1_DT | C4600: OCTOBER | D4600: ALLDAYS | E4600: 0 | F4600: NULL_WEATHER | G4600: 0.77757567 | J4600: 0 | K4600: 150
A4601: SL01 | B4601: DPL_12_SEASON_1_DT | C4601: SEPTEMBER | D4601: ALLDAYS | E4601: 0 | F4601: NULL_WEATHER | G4601: 0.77637267 | J4601: 0 | K4601: 150
... A4877: SL01 | B4877: DPL_12_SEASON_1_DT | C4877: SEPTEMBER | D4877: ALLDAYS | E4877: 23 | F4877: NULL_WEATHER | G4877: 0.77637267 | J4877: 0 | K4877: 150
A4878: SS00 | B4878: DPL_1_SEASON_1_DT_SS00 | C4878: ALLSEASONS | D4878: ALLDAYS | E4878: 0 | F4878: AUGUST | G4878: 6.800381 | H4878: 0 | I4878: 0.54600067 | J4878: 0 | K4878: 150
A4879: SS00 | B4879: DPL_1_SEASON_1_DT_SS00 | C4879: ALLSEASONS | D4879: ALLDAYS | E4879: 0 | F4879: CDH65 | G4879: 6.800381 | H4879: 0 | I4879: 0.0030706043 | J4879: 0 | K4879: 1.9508197
A4880: SS00 | B4880: DPL_1_SEASON_1_DT_SS00 | C4880: ALLSEASONS | D4880: ALLDAYS | E4880: 0 | F4880: CDH65 | G4880: 6.800381 | H4880: 1 | I4880: 0.057012508 | J4880: 1.9508197 | K4880: 150
A4881: SS00 | B4881: DPL_1_SEASON_1_DT_SS00 | C4881: ALLSEASONS | D4881: ALLDAYS | E4881: 0 | F4881: CDH65_MA24 | G4881: 6.800381 | H4881: 0 | I4881: 0.076973338 | J4881: 0 | K4881: 150
A4882: SS00 | B4882: DPL_1_SEASON_1_DT_SS00 | C4882: ALLSEASONS | D4882: ALLDAYS | E4882: 0 | F4882: CDH65_MA3 | G4882: 6.800381 | H4882: 0 | I4882: -0.00073545727 | J4882: 0 | K4882: 150
A4883: SS00 | B4883: DPL_1_SEASON_1_DT_SS00 | C4883: ALLSEASONS | D4883: ALLDAYS | E4883: 0 | F4883: CDH75 | G4883: 6.800381 | H4883: 0 | I4883: 0.059054612 | J4883: 0 | K4883: 150
A4884: SS00 | B4884: DPL_1_SEASON_1_DT_SS00 | C4884: ALLSEASONS | D4884: ALLDAYS | E4884: 0 | F4884: DECEMBER | G4884: 6.800381 | H4884: 0 | I4884: 0.14601287 | J4884: 0 | K4884: 150
A4885: SS00 | B4885: DPL_1_SEASON_1_DT_SS00 | C4885: ALLSEASONS | D4885: ALLDAYS | E4885: 0 | F4885: FEBRUARY | G4885: 6.800381 | H4885: 0 | I4885: 0.39491435 | J4885: 0 | K4885: 150
A4886: SS00 | B4886: DPL_1_SEASON_1_DT_SS00 | C4886: ALLSEASONS | D4886: ALLDAYS | E4886: 0 | F4886: FRIDAY | G4886: 6.800381 | H4886: 0 | I4886: -0.14413177 | J4886: 0 | K4886: 150
A4887: SS00 | B4887: DPL_1_SEASON_1_DT_SS00 | C4887: ALLSEASONS | D4887: ALLDAYS | E4887: 0 | F4887: HDH45 | G4887: 6.800381 | H4887: 0 | I4887: 0.032927139 | J4887: 0 | K4887: 150
A4888: SS00 | B4888: DPL_1_SEASON_1_DT_SS00 | C4888: ALLSEASONS | D4888: ALLDAYS | E4888: 0 | F4888: HDH55_MA24 | G4888: 6.800381 | H4888: 0 | I4888: 0.024999571 | J4888: 0 | K4888: 150
A4889: SS00 | B4889: DPL_1_SEASON_1_DT_SS00 | C4889: ALLSEASONS | D4889: ALLDAYS | E4889: 0 | F4889: HDH60 | G4889: 6.800381 | H4889: 0 | I4889: 0.025300987 | J4889: 0 | K4889: 150
... A8609: SS06 | B8609: DPL_1_SEASON_1_DT_SS06 | C8609: ALLSEASONS | D8609: ALLDAYS | E8609: 23 | F8609: SUNDAY | G8609: 3423.1339 | H8609: 0 | I8609: -338.64475 | J8609: 0 | K8609: 150
A8610: TS01 | B8610: DPL_CONSTANT | C8610: ALLSEASONS | D8610: ALLDAYS | E8610: 0 | F8610: NULL_WEATHER | G8610: 0.7355935 | J8610: 0 | K8610: 150
A8611: TS01 | B8611: DPL_CONSTANT | C8611: ALLSEASONS | D8611: ALLDAYS | E8611: 1 | F8611: NULL_WEATHER | G8611: 0.7355935 | J8611: 0 | K8611: 150
A8612: TS01 | B8612: DPL_CONSTANT | C8612: ALLSEASONS | D8612: ALLDAYS | E8612: 2 | F8612: NULL_WEATHER | G8612: 0.7355935 | J8612: 0 | K8612: 150
A8613: TS01 | B8613: DPL_CONSTANT | C8613: ALLSEASONS | D8613: ALLDAYS | E8613: 3 | F8613: NULL_WEATHER | G8613: 0.7355935 | J8613: 0 | K8613: 150
A8614: TS01 | B8614: DPL_CONSTANT | C8614: ALLSEASONS | D8614: ALLDAYS | E8614: 4 | F8614: NULL_WEATHER | G8614: 0.7355935 | J8614: 0 | K8614: 150
A8615: TS01 | B8615: DPL_CONSTANT | C8615: ALLSEASONS | D8615: ALLDAYS | E8615: 5 | F8615: NULL_WEATHER | G8615: 0.7355935 | J8615: 0 | K8615: 150
A8616: TS01 | B8616: DPL_CONSTANT | C8616: ALLSEASONS | D8616: ALLDAYS | E8616: 6 | F8616: NULL_WEATHER | G8616: 0.7355935 | J8616: 0 | K8616: 150
A8617: TS01 | B8617: DPL_CONSTANT | C8617: ALLSEASONS | D8617: ALLDAYS | E8617: 7 | F8617: NULL_WEATHER | G8617: 0.7355935 | J8617: 0 | K8617: 150
A8618: TS01 | B8618: DPL_CONSTANT | C8618: ALLSEASONS | D8618: ALLDAYS | E8618: 8 | F8618: NULL_WEATHER | G8618: 0.7355935 | J8618: 0 | K8618: 150
A8619: TS01 | B8619: DPL_CONSTANT | C8619: ALLSEASONS | D8619: ALLDAYS | E8619: 9 | F8619: NULL_WEATHER | G8619: 0.7355935 | J8619: 0 | K8619: 150
A8620: TS01 | B8620: DPL_CONSTANT | C8620: ALLSEASONS | D8620: ALLDAYS | E8620: 10 | F8620: NULL_WEATHER | G8620: 0.7355935 | J8620: 0 | K8620: 150
A8621: TS01 | B8621: DPL_CONSTANT | C8621: ALLSEASONS | D8621: ALLDAYS | E8621: 11 | F8621: NULL_WEATHER | G8621: 0.7355935 | J8621: 0 | K8621: 150
... A8633: TS01 | B8633: DPL_CONSTANT | C8633: ALLSEASONS | D8633: ALLDAYS | E8633: 23 | F8633: NULL_WEATHER | G8633: 0.7355935 | J8633: 0 | K8633: 150
