Workbook

Sheet Template
D1: DATE: | F1: PROFILE: | H1: SEASON: | K1: DAY TYPE:
H2: =VLOOKUP(MONTH(D2),H620:I631,2,FALSE) -> JANUARY | K2: =IF(OR(WEEKDAY($D$2)=1,$B$621="Y"),"SUNDAY/HOLIDAY",IF(OR(WEEKDAY($D$2)=2,WEEKDAY($D$2)=3,WEEKDAY($D$2)=4,WEEKDAY($D$2)=5,WEEKDAY($D$2)=6),"WEEKDAY",IF(WEEKDAY($D$2)=7,"SATURDAY",""))) -> SATURDAY
H3: =IF(OR($B$624=1,$B$630=1),VLOOKUP(MONTH(D2),H620:I631,2,FALSE),VLOOKUP(MONTH(D2+1),H620:I631,2,FALSE)) -> JANUARY | K3: =IF(OR($B$624=1,$B$630=1),IF(OR(WEEKDAY($D$2)=1,$B$621="Y"),"SUNDAY/HOLIDAY",IF(OR(WEEKDAY($D$2)=2,WEEKDAY($D$2)=3,WEEKDAY($D$2)=4,WEEKDAY($D$2)=5,WEEKDAY($D$2)=6),"WEEKDAY",IF(WEEKDAY($D$2)=7,"SATURDAY",""))),IF(OR(WEEKDAY($D$2+1)=1,$B$621="Y"),"SUNDAY/HOLIDAY",IF(OR(WEEKDAY($D$2+1)=2,WEEKDAY($D$2+1)=3,WEEKDAY($D$2+1)=4,WEEKDAY($D$2+1)=5,WEEKDAY($D$2+1)=6),"WEEKDAY",IF(WEEKDAY($D$2+1)=7,"SATURDAY","")))) -> SATURDAY
B7: (Eastern Standard Time)
A8: HOUR: | B8: 1 | C8: 2 | D8: 3 | E8: 4 | F8: 5 | G8: 6 | H8: 7 | I8: 8 | J8: 9 | K8: 10 | L8: 11 | M8: 12 | N8: 13 | O8: 14 | P8: 15 | Q8: 16 | R8: 17 | S8: 18 | T8: 19 | U8: 20 | V8: 21 | W8: 22 | X8: 23 | Y8: 24 | AB8: HOLIDAYS: | AD8: PROFILES:
A9: =IF(ISBLANK(D2)=TRUE,"",A10-1)
A10: =IF(ISBLANK(D2)=TRUE,"",D2) | AC10: 42736 | AE10: HV01
AC11: 42751 | AE11: PR01
A12: PROFILE LOAD: | B12: =IF(B19<>0,B19,B24+B38+B56+B74+B92+B110+B128+B146+B164+B182+B200+B218+B236+B254+B272+B290+B308+B327+B345+B363+B382+B400+B418+B436+B454+B472+B490+B508+B526+B545+B563+B582+B600+B618) -> 0 | C12: =IF(C19<>0,C19,C24+C38+C56+C74+C92+C110+C128+C146+C164+C182+C200+C218+C236+C254+C272+C290+C308+C327+C345+C363+C382+C400+C418+C436+C454+C472+C490+C508+C526+C545+C563+C582+C600+C618) -> 0 | D12: =IF(D19<>0,D19,D24+D38+D56+D74+D92+D110+D128+D146+D164+D182+D200+D218+D236+D254+D272+D290+D308+D327+D345+D363+D382+D400+D418+D436+D454+D472+D490+D508+D526+D545+D563+D582+D600+D618) -> 0 | E12: =IF(E19<>0,E19,E24+E38+E56+E74+E92+E110+E128+E146+E164+E182+E200+E218+E236+E254+E272+E290+E308+E327+E345+E363+E382+E400+E418+E436+E454+E472+E490+E508+E526+E545+E563+E582+E600+E618) -> 0 | F12: =IF(F19<>0,F19,F24+F38+F56+F74+F92+F110+F128+F146+F164+F182+F200+F218+F236+F254+F272+F290+F308+F327+F345+F363+F382+F400+F418+F436+F454+F472+F490+F508+F526+F545+F563+F582+F600+F618) -> 0 | G12: =IF(G19<>0,G19,G24+G38+G56+G74+G92+G110+G128+G146+G164+G182+G200+G218+G236+G254+G272+G290+G308+G327+G345+G363+G382+G400+G418+G436+G454+G472+G490+G508+G526+G545+G563+G582+G600+G618) -> 0 | H12: =IF(H19<>0,H19,H24+H38+H56+H74+H92+H110+H128+H146+H164+H182+H200+H218+H236+H254+H272+H290+H308+H327+H345+H363+H382+H400+H418+H436+H454+H472+H490+H508+H526+H545+H563+H582+H600+H618) -> 0 | I12: =IF(I19<>0,I19,I24+I38+I56+I74+I92+I110+I128+I146+I164+I182+I200+I218+I236+I254+I272+I290+I308+I327+I345+I363+I382+I400+I418+I436+I454+I472+I490+I508+I526+I545+I563+I582+I600+I618) -> 0 | ... Y12: =IF(Y19<>0,Y19,Y24+Y38+Y56+Y74+Y92+Y110+Y128+Y146+Y164+Y182+Y200+Y218+Y236+Y254+Y272+Y290+Y308+Y327+Y345+Y363+Y382+Y400+Y418+Y436+Y454+Y472+Y490+Y508+Y526+Y545+Y563+Y582+Y600+Y618) -> 0 | AC12: 42786 | AE12: PS01
AC13: 42884 | AE13: RH01
AC14: 42920 | AE14: RS00
AC15: 42982 | AE15: RS01
A16: ADJUSTED HOUR: | B16: =IF($B$624=1,0,IF($B$627=1,0,1)) -> 0 | C16: =IF($B$630=1,1,B16+1) -> 1 | D16: =IF($B$627=1,3,C16+1) -> 2 | E16: =D16+1 -> 3 | F16: =E16+1 -> 4 | G16: =F16+1 -> 5 | H16: =G16+1 -> 6 | I16: =H16+1 -> 7 | J16: =I16+1 -> 8 | K16: =J16+1 -> 9 | L16: =K16+1 -> 10 | ... X16: =W16+1 -> 22 | Y16: =IF($B$624=1,23,0) -> 23 | AC16: 43017 | AE16: RS02
AC17: 43050 | AE17: SC01
A18: No Weather Sensitivity: | AC18: 43062 | AE18: SL01
A19: REG_CONSTANT | B19: {=SUM(IF($F$2=Data!$A$2:$A$8633,IF($C$20=Data!$C$2:$C$8633,IF($D$20=Data!$F$2:$F$8633,IF(B$16=Data!$E$2:$E$8633,Data!$G$2:$G$8633)),IF($H$2=Data!$C$2:$C$8633,IF($B$20=Data!$D$2:$D$8633,IF(B$16=Data!$E$2:$E$8633,Data!$G$2:$G$8633),IF($K$2=Data!$D$2:$D$8633,IF(B$16=Data!$E$2:$E$8633,Data!$G$2:$G$8633)))))))} -> 0 | C19: {=SUM(IF($F$2=Data!$A$2:$A$8633,IF($C$20=Data!$C$2:$C$8633,IF($D$20=Data!$F$2:$F$8633,IF(C$16=Data!$E$2:$E$8633,Data!$G$2:$G$8633)),IF($H$2=Data!$C$2:$C$8633,IF($B$20=Data!$D$2:$D$8633,IF(C$16=Data!$E$2:$E$8633,Data!$G$2:$G$8633),IF($K$2=Data!$D$2:$D$8633,IF(C$16=Data!$E$2:$E$8633,Data!$G$2:$G$8633)))))))} -> 0 | D19: {=SUM(IF($F$2=Data!$A$2:$A$8633,IF($C$20=Data!$C$2:$C$8633,IF($D$20=Data!$F$2:$F$8633,IF(D$16=Data!$E$2:$E$8633,Data!$G$2:$G$8633)),IF($H$2=Data!$C$2:$C$8633,IF($B$20=Data!$D$2:$D$8633,IF(D$16=Data!$E$2:$E$8633,Data!$G$2:$G$8633),IF($K$2=Data!$D$2:$D$8633,IF(D$16=Data!$E$2:$E$8633,Data!$G$2:$G$8633)))))))} -> 0 | E19: {=SUM(IF($F$2=Data!$A$2:$A$8633,IF($C$20=Data!$C$2:$C$8633,IF($D$20=Data!$F$2:$F$8633,IF(E$16=Data!$E$2:$E$8633,Data!$G$2:$G$8633)),IF($H$2=Data!$C$2:$C$8633,IF($B$20=Data!$D$2:$D$8633,IF(E$16=Data!$E$2:$E$8633,Data!$G$2:$G$8633),IF($K$2=Data!$D$2:$D$8633,IF(E$16=Data!$E$2:$E$8633,Data!$G$2:$G$8633)))))))} -> 0 | F19: {=SUM(IF($F$2=Data!$A$2:$A$8633,IF($C$20=Data!$C$2:$C$8633,IF($D$20=Data!$F$2:$F$8633,IF(F$16=Data!$E$2:$E$8633,Data!$G$2:$G$8633)),IF($H$2=Data!$C$2:$C$8633,IF($B$20=Data!$D$2:$D$8633,IF(F$16=Data!$E$2:$E$8633,Data!$G$2:$G$8633),IF($K$2=Data!$D$2:$D$8633,IF(F$16=Data!$E$2:$E$8633,Data!$G$2:$G$8633)))))))} -> 0 | G19: {=SUM(IF($F$2=Data!$A$2:$A$8633,IF($C$20=Data!$C$2:$C$8633,IF($D$20=Data!$F$2:$F$8633,IF(G$16=Data!$E$2:$E$8633,Data!$G$2:$G$8633)),IF($H$2=Data!$C$2:$C$8633,IF($B$20=Data!$D$2:$D$8633,IF(G$16=Data!$E$2:$E$8633,Data!$G$2:$G$8633),IF($K$2=Data!$D$2:$D$8633,IF(G$16=Data!$E$2:$E$8633,Data!$G$2:$G$8633)))))))} -> 0 | H19: {=SUM(IF($F$2=Data!$A$2:$A$8633,IF($C$20=Data!$C$2:$C$8633,IF($D$20=Data!$F$2:$F$8633,IF(H$16=Data!$E$2:$E$8633,Data!$G$2:$G$8633)),IF($H$2=Data!$C$2:$C$8633,IF($B$20=Data!$D$2:$D$8633,IF(H$16=Data!$E$2:$E$8633,Data!$G$2:$G$8633),IF($K$2=Data!$D$2:$D$8633,IF(H$16=Data!$E$2:$E$8633,Data!$G$2:$G$8633)))))))} -> 0 | I19: {=SUM(IF($F$2=Data!$A$2:$A$8633,IF($C$20=Data!$C$2:$C$8633,IF($D$20=Data!$F$2:$F$8633,IF(I$16=Data!$E$2:$E$8633,Data!$G$2:$G$8633)),IF($H$2=Data!$C$2:$C$8633,IF($B$20=Data!$D$2:$D$8633,IF(I$16=Data!$E$2:$E$8633,Data!$G$2:$G$8633),IF($K$2=Data!$D$2:$D$8633,IF(I$16=Data!$E$2:$E$8633,Data!$G$2:$G$8633)))))))} -> 0 | ... Y19: {=SUM(IF($F$2=Data!$A$2:$A$8633,IF($C$20=Data!$C$2:$C$8633,IF($D$20=Data!$F$2:$F$8633,IF(Y$16=Data!$E$2:$E$8633,Data!$G$2:$G$8633)),IF($H$2=Data!$C$2:$C$8633,IF($B$20=Data!$D$2:$D$8633,IF(Y$16=Data!$E$2:$E$8633,Data!$G$2:$G$8633),IF($K$2=Data!$D$2:$D$8633,IF(Y$16=Data!$E$2:$E$8633,Data!$G$2:$G$8633)))))))} -> 0 | AC19: 43094 | AE19: SS00
A20: Season/Day Type: | B20: ALLDAYS | C20: ALLSEASONS | D20: NULL_WEATHER | AC20: 43101 | AE20: SS01
AC21: 43115 | AE21: SS02
A22: Profile Variable: | B22: JANUARY | AC22: 43150 | AE22: SS03
B23: =IF($B$22=$H$2,1,0) -> 1 | C23: =IF($B$22=$H$2,1,0) -> 1 | D23: =IF($B$22=$H$2,1,0) -> 1 | E23: =IF($B$22=$H$2,1,0) -> 1 | F23: =IF($B$22=$H$2,1,0) -> 1 | G23: =IF($B$22=$H$2,1,0) -> 1 | H23: =IF($B$22=$H$2,1,0) -> 1 | I23: =IF($B$22=$H$2,1,0) -> 1 | ... Y23: =IF($B$22=$H$2,1,0) -> 1 | AC23: 43248 | AE23: SS04
A24: REG_CONSTANT | B24: {=SUM(IF($F$2=Data!$A$2:$A$8633,IF($B$22=Data!$F$2:$F$8633,IF(B$16=Data!$E$2:$E$8633,IF(B$23>=Data!$J$2:$J$8633,IF(B$23<=Data!$K$2:$K$8633,Data!$G$2:$G$8633))))))} -> 0 | C24: {=SUM(IF($F$2=Data!$A$2:$A$8633,IF($H$2=$H$2,IF($B$22=Data!$F$2:$F$8633,IF(C$16=Data!$E$2:$E$8633,IF(C$23>=Data!$J$2:$J$8633,IF(C$23<=Data!$K$2:$K$8633,Data!$G$2:$G$8633)))))))} -> 0 | D24: {=SUM(IF($F$2=Data!$A$2:$A$8633,IF($H$2=$H$2,IF($B$22=Data!$F$2:$F$8633,IF(D$16=Data!$E$2:$E$8633,IF(D$23>=Data!$J$2:$J$8633,IF(D$23<=Data!$K$2:$K$8633,Data!$G$2:$G$8633)))))))} -> 0 | E24: {=SUM(IF($F$2=Data!$A$2:$A$8633,IF($H$2=$H$2,IF($B$22=Data!$F$2:$F$8633,IF(E$16=Data!$E$2:$E$8633,IF(E$23>=Data!$J$2:$J$8633,IF(E$23<=Data!$K$2:$K$8633,Data!$G$2:$G$8633)))))))} -> 0 | F24: {=SUM(IF($F$2=Data!$A$2:$A$8633,IF($H$2=$H$2,IF($B$22=Data!$F$2:$F$8633,IF(F$16=Data!$E$2:$E$8633,IF(F$23>=Data!$J$2:$J$8633,IF(F$23<=Data!$K$2:$K$8633,Data!$G$2:$G$8633)))))))} -> 0 | G24: {=SUM(IF($F$2=Data!$A$2:$A$8633,IF($H$2=$H$2,IF($B$22=Data!$F$2:$F$8633,IF(G$16=Data!$E$2:$E$8633,IF(G$23>=Data!$J$2:$J$8633,IF(G$23<=Data!$K$2:$K$8633,Data!$G$2:$G$8633)))))))} -> 0 | H24: {=SUM(IF($F$2=Data!$A$2:$A$8633,IF($H$2=$H$2,IF($B$22=Data!$F$2:$F$8633,IF(H$16=Data!$E$2:$E$8633,IF(H$23>=Data!$J$2:$J$8633,IF(H$23<=Data!$K$2:$K$8633,Data!$G$2:$G$8633)))))))} -> 0 | I24: {=SUM(IF($F$2=Data!$A$2:$A$8633,IF($H$2=$H$2,IF($B$22=Data!$F$2:$F$8633,IF(I$16=Data!$E$2:$E$8633,IF(I$23>=Data!$J$2:$J$8633,IF(I$23<=Data!$K$2:$K$8633,Data!$G$2:$G$8633)))))))} -> 0 | J24: {=SUM(IF($F$2=Data!$A$2:$A$8633,IF($H$2=$H$2,IF($B$22=Data!$F$2:$F$8633,IF(J$16=Data!$E$2:$E$8633,IF(J$23>=Data!$J$2:$J$8633,IF(J$23<=Data!$K$2:$K$8633,Data!$G$2:$G$8633)))))))} -> 0 | ... Y24: {=SUM(IF($F$2=Data!$A$2:$A$8633,IF($H$2=$H$2,IF($B$22=Data!$F$2:$F$8633,IF(Y$16=Data!$E$2:$E$8633,IF(Y$23>=Data!$J$2:$J$8633,IF(Y$23<=Data!$K$2:$K$8633,Data!$G$2:$G$8633)))))))} -> 0 | AC24: 43285 | AE24: SS05
A25: COEF 1 | B25: {=SUM(IF($F$2=Data!$A$2:$A$8633,IF($H$2=$H$2,IF($B$22=Data!$F$2:$F$8633,IF(B$16=Data!$E$2:$E$8633,IF(0=Data!$H$2:$H$8633,Data!$I$2:$I$8633))))))} -> 0 | C25: {=SUM(IF($F$2=Data!$A$2:$A$8633,IF($H$2=$H$2,IF($B$22=Data!$F$2:$F$8633,IF(C$16=Data!$E$2:$E$8633,IF(0=Data!$H$2:$H$8633,Data!$I$2:$I$8633))))))} -> 0 | D25: {=SUM(IF($F$2=Data!$A$2:$A$8633,IF($H$2=$H$2,IF($B$22=Data!$F$2:$F$8633,IF(D$16=Data!$E$2:$E$8633,IF(0=Data!$H$2:$H$8633,Data!$I$2:$I$8633))))))} -> 0 | E25: {=SUM(IF($F$2=Data!$A$2:$A$8633,IF($H$2=$H$2,IF($B$22=Data!$F$2:$F$8633,IF(E$16=Data!$E$2:$E$8633,IF(0=Data!$H$2:$H$8633,Data!$I$2:$I$8633))))))} -> 0 | F25: {=SUM(IF($F$2=Data!$A$2:$A$8633,IF($H$2=$H$2,IF($B$22=Data!$F$2:$F$8633,IF(F$16=Data!$E$2:$E$8633,IF(0=Data!$H$2:$H$8633,Data!$I$2:$I$8633))))))} -> 0 | G25: {=SUM(IF($F$2=Data!$A$2:$A$8633,IF($H$2=$H$2,IF($B$22=Data!$F$2:$F$8633,IF(G$16=Data!$E$2:$E$8633,IF(0=Data!$H$2:$H$8633,Data!$I$2:$I$8633))))))} -> 0 | H25: {=SUM(IF($F$2=Data!$A$2:$A$8633,IF($H$2=$H$2,IF($B$22=Data!$F$2:$F$8633,IF(H$16=Data!$E$2:$E$8633,IF(0=Data!$H$2:$H$8633,Data!$I$2:$I$8633))))))} -> 0 | I25: {=SUM(IF($F$2=Data!$A$2:$A$8633,IF($H$2=$H$2,IF($B$22=Data!$F$2:$F$8633,IF(I$16=Data!$E$2:$E$8633,IF(0=Data!$H$2:$H$8633,Data!$I$2:$I$8633))))))} -> 0 | ... Y25: {=SUM(IF($F$2=Data!$A$2:$A$8633,IF($H$2=$H$2,IF($B$22=Data!$F$2:$F$8633,IF(Y$16=Data!$E$2:$E$8633,IF(0=Data!$H$2:$H$8633,Data!$I$2:$I$8633))))))} -> 0 | AC25: 43346 | AE25: SS06
A26: COEF 2 | B26: {=SUM(IF($F$2=Data!$A$2:$A$8633,IF($H$2=$H$2,IF($B$22=Data!$F$2:$F$8633,IF(B$16=Data!$E$2:$E$8633,IF(1=Data!$H$2:$H$8633,Data!$I$2:$I$8633))))))} -> 0 | C26: {=SUM(IF($F$2=Data!$A$2:$A$8633,IF($H$2=$H$2,IF($B$22=Data!$F$2:$F$8633,IF(C$16=Data!$E$2:$E$8633,IF(1=Data!$H$2:$H$8633,Data!$I$2:$I$8633))))))} -> 0 | D26: {=SUM(IF($F$2=Data!$A$2:$A$8633,IF($H$2=$H$2,IF($B$22=Data!$F$2:$F$8633,IF(D$16=Data!$E$2:$E$8633,IF(1=Data!$H$2:$H$8633,Data!$I$2:$I$8633))))))} -> 0 | E26: {=SUM(IF($F$2=Data!$A$2:$A$8633,IF($H$2=$H$2,IF($B$22=Data!$F$2:$F$8633,IF(E$16=Data!$E$2:$E$8633,IF(1=Data!$H$2:$H$8633,Data!$I$2:$I$8633))))))} -> 0 | F26: {=SUM(IF($F$2=Data!$A$2:$A$8633,IF($H$2=$H$2,IF($B$22=Data!$F$2:$F$8633,IF(F$16=Data!$E$2:$E$8633,IF(1=Data!$H$2:$H$8633,Data!$I$2:$I$8633))))))} -> 0 | G26: {=SUM(IF($F$2=Data!$A$2:$A$8633,IF($H$2=$H$2,IF($B$22=Data!$F$2:$F$8633,IF(G$16=Data!$E$2:$E$8633,IF(1=Data!$H$2:$H$8633,Data!$I$2:$I$8633))))))} -> 0 | H26: {=SUM(IF($F$2=Data!$A$2:$A$8633,IF($H$2=$H$2,IF($B$22=Data!$F$2:$F$8633,IF(H$16=Data!$E$2:$E$8633,IF(1=Data!$H$2:$H$8633,Data!$I$2:$I$8633))))))} -> 0 | I26: {=SUM(IF($F$2=Data!$A$2:$A$8633,IF($H$2=$H$2,IF($B$22=Data!$F$2:$F$8633,IF(I$16=Data!$E$2:$E$8633,IF(1=Data!$H$2:$H$8633,Data!$I$2:$I$8633))))))} -> 0 | ... Y26: {=SUM(IF($F$2=Data!$A$2:$A$8633,IF($H$2=$H$2,IF($B$22=Data!$F$2:$F$8633,IF(Y$16=Data!$E$2:$E$8633,IF(1=Data!$H$2:$H$8633,Data!$I$2:$I$8633))))))} -> 0 | AC26: 43381 | AE26: TS01
A27: COEF 3 | B27: {=SUM(IF($F$2=Data!$A$2:$A$8633,IF($H$2=$H$2,IF($B$22=Data!$F$2:$F$8633,IF(B$16=Data!$E$2:$E$8633,IF(2=Data!$H$2:$H$8633,Data!$I$2:$I$8633))))))} -> 0 | C27: {=SUM(IF($F$2=Data!$A$2:$A$8633,IF($H$2=$H$2,IF($B$22=Data!$F$2:$F$8633,IF(C$16=Data!$E$2:$E$8633,IF(2=Data!$H$2:$H$8633,Data!$I$2:$I$8633))))))} -> 0 | D27: {=SUM(IF($F$2=Data!$A$2:$A$8633,IF($H$2=$H$2,IF($B$22=Data!$F$2:$F$8633,IF(D$16=Data!$E$2:$E$8633,IF(2=Data!$H$2:$H$8633,Data!$I$2:$I$8633))))))} -> 0 | E27: {=SUM(IF($F$2=Data!$A$2:$A$8633,IF($H$2=$H$2,IF($B$22=Data!$F$2:$F$8633,IF(E$16=Data!$E$2:$E$8633,IF(2=Data!$H$2:$H$8633,Data!$I$2:$I$8633))))))} -> 0 | F27: {=SUM(IF($F$2=Data!$A$2:$A$8633,IF($H$2=$H$2,IF($B$22=Data!$F$2:$F$8633,IF(F$16=Data!$E$2:$E$8633,IF(2=Data!$H$2:$H$8633,Data!$I$2:$I$8633))))))} -> 0 | G27: {=SUM(IF($F$2=Data!$A$2:$A$8633,IF($H$2=$H$2,IF($B$22=Data!$F$2:$F$8633,IF(G$16=Data!$E$2:$E$8633,IF(2=Data!$H$2:$H$8633,Data!$I$2:$I$8633))))))} -> 0 | H27: {=SUM(IF($F$2=Data!$A$2:$A$8633,IF($H$2=$H$2,IF($B$22=Data!$F$2:$F$8633,IF(H$16=Data!$E$2:$E$8633,IF(2=Data!$H$2:$H$8633,Data!$I$2:$I$8633))))))} -> 0 | I27: {=SUM(IF($F$2=Data!$A$2:$A$8633,IF($H$2=$H$2,IF($B$22=Data!$F$2:$F$8633,IF(I$16=Data!$E$2:$E$8633,IF(2=Data!$H$2:$H$8633,Data!$I$2:$I$8633))))))} -> 0 | ... Y27: {=SUM(IF($F$2=Data!$A$2:$A$8633,IF($H$2=$H$2,IF($B$22=Data!$F$2:$F$8633,IF(Y$16=Data!$E$2:$E$8633,IF(2=Data!$H$2:$H$8633,Data!$I$2:$I$8633))))))} -> 0 | AC27: 43415
A28: COEF 4 | B28: {=SUM(IF($F$2=Data!$A$2:$A$8633,IF($H$2=$H$2,IF($B$22=Data!$F$2:$F$8633,IF(B$16=Data!$E$2:$E$8633,IF(3=Data!$H$2:$H$8633,Data!$I$2:$I$8633))))))} -> 0 | C28: {=SUM(IF($F$2=Data!$A$2:$A$8633,IF($H$2=$H$2,IF($B$22=Data!$F$2:$F$8633,IF(C$16=Data!$E$2:$E$8633,IF(3=Data!$H$2:$H$8633,Data!$I$2:$I$8633))))))} -> 0 | D28: {=SUM(IF($F$2=Data!$A$2:$A$8633,IF($H$2=$H$2,IF($B$22=Data!$F$2:$F$8633,IF(D$16=Data!$E$2:$E$8633,IF(3=Data!$H$2:$H$8633,Data!$I$2:$I$8633))))))} -> 0 | E28: {=SUM(IF($F$2=Data!$A$2:$A$8633,IF($H$2=$H$2,IF($B$22=Data!$F$2:$F$8633,IF(E$16=Data!$E$2:$E$8633,IF(3=Data!$H$2:$H$8633,Data!$I$2:$I$8633))))))} -> 0 | F28: {=SUM(IF($F$2=Data!$A$2:$A$8633,IF($H$2=$H$2,IF($B$22=Data!$F$2:$F$8633,IF(F$16=Data!$E$2:$E$8633,IF(3=Data!$H$2:$H$8633,Data!$I$2:$I$8633))))))} -> 0 | G28: {=SUM(IF($F$2=Data!$A$2:$A$8633,IF($H$2=$H$2,IF($B$22=Data!$F$2:$F$8633,IF(G$16=Data!$E$2:$E$8633,IF(3=Data!$H$2:$H$8633,Data!$I$2:$I$8633))))))} -> 0 | H28: {=SUM(IF($F$2=Data!$A$2:$A$8633,IF($H$2=$H$2,IF($B$22=Data!$F$2:$F$8633,IF(H$16=Data!$E$2:$E$8633,IF(3=Data!$H$2:$H$8633,Data!$I$2:$I$8633))))))} -> 0 | I28: {=SUM(IF($F$2=Data!$A$2:$A$8633,IF($H$2=$H$2,IF($B$22=Data!$F$2:$F$8633,IF(I$16=Data!$E$2:$E$8633,IF(3=Data!$H$2:$H$8633,Data!$I$2:$I$8633))))))} -> 0 | ... Y28: {=SUM(IF($F$2=Data!$A$2:$A$8633,IF($H$2=$H$2,IF($B$22=Data!$F$2:$F$8633,IF(Y$16=Data!$E$2:$E$8633,IF(3=Data!$H$2:$H$8633,Data!$I$2:$I$8633))))))} -> 0 | AC28: 43426
A29: BP 1 | B29: {=SUM(IF($F$2=Data!$A$2:$A$8633,IF($H$2=$H$2,IF($B$22=Data!$F$2:$F$8633,IF(B$16=Data!$E$2:$E$8633,IF(0=Data!$H$2:$H$8633,Data!$K$2:$K$8633))))))} -> 0 | C29: {=SUM(IF($F$2=Data!$A$2:$A$8633,IF($H$2=$H$2,IF($B$22=Data!$F$2:$F$8633,IF(C$16=Data!$E$2:$E$8633,IF(0=Data!$H$2:$H$8633,Data!$K$2:$K$8633))))))} -> 0 | D29: {=SUM(IF($F$2=Data!$A$2:$A$8633,IF($H$2=$H$2,IF($B$22=Data!$F$2:$F$8633,IF(D$16=Data!$E$2:$E$8633,IF(0=Data!$H$2:$H$8633,Data!$K$2:$K$8633))))))} -> 0 | E29: {=SUM(IF($F$2=Data!$A$2:$A$8633,IF($H$2=$H$2,IF($B$22=Data!$F$2:$F$8633,IF(E$16=Data!$E$2:$E$8633,IF(0=Data!$H$2:$H$8633,Data!$K$2:$K$8633))))))} -> 0 | F29: {=SUM(IF($F$2=Data!$A$2:$A$8633,IF($H$2=$H$2,IF($B$22=Data!$F$2:$F$8633,IF(F$16=Data!$E$2:$E$8633,IF(0=Data!$H$2:$H$8633,Data!$K$2:$K$8633))))))} -> 0 | G29: {=SUM(IF($F$2=Data!$A$2:$A$8633,IF($H$2=$H$2,IF($B$22=Data!$F$2:$F$8633,IF(G$16=Data!$E$2:$E$8633,IF(0=Data!$H$2:$H$8633,Data!$K$2:$K$8633))))))} -> 0 | H29: {=SUM(IF($F$2=Data!$A$2:$A$8633,IF($H$2=$H$2,IF($B$22=Data!$F$2:$F$8633,IF(H$16=Data!$E$2:$E$8633,IF(0=Data!$H$2:$H$8633,Data!$K$2:$K$8633))))))} -> 0 | I29: {=SUM(IF($F$2=Data!$A$2:$A$8633,IF($H$2=$H$2,IF($B$22=Data!$F$2:$F$8633,IF(I$16=Data!$E$2:$E$8633,IF(0=Data!$H$2:$H$8633,Data!$K$2:$K$8633))))))} -> 0 | ... Y29: {=SUM(IF($F$2=Data!$A$2:$A$8633,IF($H$2=$H$2,IF($B$22=Data!$F$2:$F$8633,IF(Y$16=Data!$E$2:$E$8633,IF(0=Data!$H$2:$H$8633,Data!$K$2:$K$8633))))))} -> 0 | AC29: 43459
A30: BP 2 | B30: {=SUM(IF($F$2=Data!$A$2:$A$8633,IF($H$2=$H$2,IF($B$22=Data!$F$2:$F$8633,IF(B$16=Data!$E$2:$E$8633,IF(1=Data!$H$2:$H$8633,Data!$K$2:$K$8633))))))} -> 0 | C30: {=SUM(IF($F$2=Data!$A$2:$A$8633,IF($H$2=$H$2,IF($B$22=Data!$F$2:$F$8633,IF(C$16=Data!$E$2:$E$8633,IF(1=Data!$H$2:$H$8633,Data!$K$2:$K$8633))))))} -> 0 | D30: {=SUM(IF($F$2=Data!$A$2:$A$8633,IF($H$2=$H$2,IF($B$22=Data!$F$2:$F$8633,IF(D$16=Data!$E$2:$E$8633,IF(1=Data!$H$2:$H$8633,Data!$K$2:$K$8633))))))} -> 0 | E30: {=SUM(IF($F$2=Data!$A$2:$A$8633,IF($H$2=$H$2,IF($B$22=Data!$F$2:$F$8633,IF(E$16=Data!$E$2:$E$8633,IF(1=Data!$H$2:$H$8633,Data!$K$2:$K$8633))))))} -> 0 | F30: {=SUM(IF($F$2=Data!$A$2:$A$8633,IF($H$2=$H$2,IF($B$22=Data!$F$2:$F$8633,IF(F$16=Data!$E$2:$E$8633,IF(1=Data!$H$2:$H$8633,Data!$K$2:$K$8633))))))} -> 0 | G30: {=SUM(IF($F$2=Data!$A$2:$A$8633,IF($H$2=$H$2,IF($B$22=Data!$F$2:$F$8633,IF(G$16=Data!$E$2:$E$8633,IF(1=Data!$H$2:$H$8633,Data!$K$2:$K$8633))))))} -> 0 | H30: {=SUM(IF($F$2=Data!$A$2:$A$8633,IF($H$2=$H$2,IF($B$22=Data!$F$2:$F$8633,IF(H$16=Data!$E$2:$E$8633,IF(1=Data!$H$2:$H$8633,Data!$K$2:$K$8633))))))} -> 0 | I30: {=SUM(IF($F$2=Data!$A$2:$A$8633,IF($H$2=$H$2,IF($B$22=Data!$F$2:$F$8633,IF(I$16=Data!$E$2:$E$8633,IF(1=Data!$H$2:$H$8633,Data!$K$2:$K$8633))))))} -> 0 | ... Y30: {=SUM(IF($F$2=Data!$A$2:$A$8633,IF($H$2=$H$2,IF($B$22=Data!$F$2:$F$8633,IF(Y$16=Data!$E$2:$E$8633,IF(1=Data!$H$2:$H$8633,Data!$K$2:$K$8633))))))} -> 0 | AC30: 43466
A31: BP 3 | B31: {=SUM(IF($F$2=Data!$A$2:$A$8633,IF($H$2=$H$2,IF($B$22=Data!$F$2:$F$8633,IF(B$16=Data!$E$2:$E$8633,IF(2=Data!$H$2:$H$8633,Data!$K$2:$K$8633))))))} -> 0 | C31: {=SUM(IF($F$2=Data!$A$2:$A$8633,IF($H$2=$H$2,IF($B$22=Data!$F$2:$F$8633,IF(C$16=Data!$E$2:$E$8633,IF(2=Data!$H$2:$H$8633,Data!$K$2:$K$8633))))))} -> 0 | D31: {=SUM(IF($F$2=Data!$A$2:$A$8633,IF($H$2=$H$2,IF($B$22=Data!$F$2:$F$8633,IF(D$16=Data!$E$2:$E$8633,IF(2=Data!$H$2:$H$8633,Data!$K$2:$K$8633))))))} -> 0 | E31: {=SUM(IF($F$2=Data!$A$2:$A$8633,IF($H$2=$H$2,IF($B$22=Data!$F$2:$F$8633,IF(E$16=Data!$E$2:$E$8633,IF(2=Data!$H$2:$H$8633,Data!$K$2:$K$8633))))))} -> 0 | F31: {=SUM(IF($F$2=Data!$A$2:$A$8633,IF($H$2=$H$2,IF($B$22=Data!$F$2:$F$8633,IF(F$16=Data!$E$2:$E$8633,IF(2=Data!$H$2:$H$8633,Data!$K$2:$K$8633))))))} -> 0 | G31: {=SUM(IF($F$2=Data!$A$2:$A$8633,IF($H$2=$H$2,IF($B$22=Data!$F$2:$F$8633,IF(G$16=Data!$E$2:$E$8633,IF(2=Data!$H$2:$H$8633,Data!$K$2:$K$8633))))))} -> 0 | H31: {=SUM(IF($F$2=Data!$A$2:$A$8633,IF($H$2=$H$2,IF($B$22=Data!$F$2:$F$8633,IF(H$16=Data!$E$2:$E$8633,IF(2=Data!$H$2:$H$8633,Data!$K$2:$K$8633))))))} -> 0 | I31: {=SUM(IF($F$2=Data!$A$2:$A$8633,IF($H$2=$H$2,IF($B$22=Data!$F$2:$F$8633,IF(I$16=Data!$E$2:$E$8633,IF(2=Data!$H$2:$H$8633,Data!$K$2:$K$8633))))))} -> 0 | ... Y31: {=SUM(IF($F$2=Data!$A$2:$A$8633,IF($H$2=$H$2,IF($B$22=Data!$F$2:$F$8633,IF(Y$16=Data!$E$2:$E$8633,IF(2=Data!$H$2:$H$8633,Data!$K$2:$K$8633))))))} -> 0 | AC31: 43486
A32: BP 4 | B32: {=SUM(IF($F$2=Data!$A$2:$A$8633,IF($H$2=$H$2,IF($B$22=Data!$F$2:$F$8633,IF(B$16=Data!$E$2:$E$8633,IF(3=Data!$H$2:$H$8633,Data!$K$2:$K$8633))))))} -> 0 | C32: {=SUM(IF($F$2=Data!$A$2:$A$8633,IF($H$2=$H$2,IF($B$22=Data!$F$2:$F$8633,IF(C$16=Data!$E$2:$E$8633,IF(3=Data!$H$2:$H$8633,Data!$K$2:$K$8633))))))} -> 0 | D32: {=SUM(IF($F$2=Data!$A$2:$A$8633,IF($H$2=$H$2,IF($B$22=Data!$F$2:$F$8633,IF(D$16=Data!$E$2:$E$8633,IF(3=Data!$H$2:$H$8633,Data!$K$2:$K$8633))))))} -> 0 | E32: {=SUM(IF($F$2=Data!$A$2:$A$8633,IF($H$2=$H$2,IF($B$22=Data!$F$2:$F$8633,IF(E$16=Data!$E$2:$E$8633,IF(3=Data!$H$2:$H$8633,Data!$K$2:$K$8633))))))} -> 0 | F32: {=SUM(IF($F$2=Data!$A$2:$A$8633,IF($H$2=$H$2,IF($B$22=Data!$F$2:$F$8633,IF(F$16=Data!$E$2:$E$8633,IF(3=Data!$H$2:$H$8633,Data!$K$2:$K$8633))))))} -> 0 | G32: {=SUM(IF($F$2=Data!$A$2:$A$8633,IF($H$2=$H$2,IF($B$22=Data!$F$2:$F$8633,IF(G$16=Data!$E$2:$E$8633,IF(3=Data!$H$2:$H$8633,Data!$K$2:$K$8633))))))} -> 0 | H32: {=SUM(IF($F$2=Data!$A$2:$A$8633,IF($H$2=$H$2,IF($B$22=Data!$F$2:$F$8633,IF(H$16=Data!$E$2:$E$8633,IF(3=Data!$H$2:$H$8633,Data!$K$2:$K$8633))))))} -> 0 | I32: {=SUM(IF($F$2=Data!$A$2:$A$8633,IF($H$2=$H$2,IF($B$22=Data!$F$2:$F$8633,IF(I$16=Data!$E$2:$E$8633,IF(3=Data!$H$2:$H$8633,Data!$K$2:$K$8633))))))} -> 0 | ... Y32: {=SUM(IF($F$2=Data!$A$2:$A$8633,IF($H$2=$H$2,IF($B$22=Data!$F$2:$F$8633,IF(Y$16=Data!$E$2:$E$8633,IF(3=Data!$H$2:$H$8633,Data!$K$2:$K$8633))))))} -> 0 | AC32: 43514
AC33: 43612
A34: L1 EST PROF | B34: =IF(B$23<B29,B24+B$23*B25,"N/A") -> N/A | C34: =IF(C$23<C29,C24+C$23*C25,"N/A") -> N/A | D34: =IF(D$23<D29,D24+D$23*D25,"N/A") -> N/A | E34: =IF(E$23<E29,E24+E$23*E25,"N/A") -> N/A | F34: =IF(F$23<F29,F24+F$23*F25,"N/A") -> N/A | G34: =IF(G$23<G29,G24+G$23*G25,"N/A") -> N/A | H34: =IF(H$23<H29,H24+H$23*H25,"N/A") -> N/A | I34: =IF(I$23<I29,I24+I$23*I25,"N/A") -> N/A | ... Y34: =IF(Y$23<Y29,Y24+Y$23*Y25,"N/A") -> N/A | AC34: 43650
A35: L2 EST PROF | B35: =IF(AND(B29<>0,B29<B$23,B$23<B30),B24+B$23*B25+(B$23-B29)*B26,"N/A") -> N/A | C35: =IF(AND(C29<>0,C29<C$23,C$23<C30),C24+C$23*C25+(C$23-C29)*C26,"N/A") -> N/A | D35: =IF(AND(D29<>0,D29<D$23,D$23<D30),D24+D$23*D25+(D$23-D29)*D26,"N/A") -> N/A | E35: =IF(AND(E29<>0,E29<E$23,E$23<E30),E24+E$23*E25+(E$23-E29)*E26,"N/A") -> N/A | F35: =IF(AND(F29<>0,F29<F$23,F$23<F30),F24+F$23*F25+(F$23-F29)*F26,"N/A") -> N/A | G35: =IF(AND(G29<>0,G29<G$23,G$23<G30),G24+G$23*G25+(G$23-G29)*G26,"N/A") -> N/A | H35: =IF(AND(H29<>0,H29<H$23,H$23<H30),H24+H$23*H25+(H$23-H29)*H26,"N/A") -> N/A | I35: =IF(AND(I29<>0,I29<I$23,I$23<I30),I24+I$23*I25+(I$23-I29)*I26,"N/A") -> N/A | ... Y35: =IF(AND(Y29<>0,Y29<Y$23,Y$23<Y30),Y24+Y$23*Y25+(Y$23-Y29)*Y26,"N/A") -> N/A | AC35: 43710
A36: L3 EST PROF | B36: =IF(AND(B30<>0,B30<B$23,B$23<B31),B24+B$23*B25+(B$23-B29)*B26+(B$23-B30)*B27,"N/A") -> N/A | C36: =IF(AND(C30<>0,C30<C$23,C$23<C31),C24+C$23*C25+(C$23-C29)*C26+(C$23-C30)*C27,"N/A") -> N/A | D36: =IF(AND(D30<>0,D30<D$23,D$23<D31),D24+D$23*D25+(D$23-D29)*D26+(D$23-D30)*D27,"N/A") -> N/A | E36: =IF(AND(E30<>0,E30<E$23,E$23<E31),E24+E$23*E25+(E$23-E29)*E26+(E$23-E30)*E27,"N/A") -> N/A | F36: =IF(AND(F30<>0,F30<F$23,F$23<F31),F24+F$23*F25+(F$23-F29)*F26+(F$23-F30)*F27,"N/A") -> N/A | G36: =IF(AND(G30<>0,G30<G$23,G$23<G31),G24+G$23*G25+(G$23-G29)*G26+(G$23-G30)*G27,"N/A") -> N/A | H36: =IF(AND(H30<>0,H30<H$23,H$23<H31),H24+H$23*H25+(H$23-H29)*H26+(H$23-H30)*H27,"N/A") -> N/A | I36: =IF(AND(I30<>0,I30<I$23,I$23<I31),I24+I$23*I25+(I$23-I29)*I26+(I$23-I30)*I27,"N/A") -> N/A | ... Y36: =IF(AND(Y30<>0,Y30<Y$23,Y$23<Y31),Y24+Y$23*Y25+(Y$23-Y29)*Y26+(Y$23-Y30)*Y27,"N/A") -> N/A | AC36: 43752
A37: L4 EST PROF | B37: =IF(AND(B31<>0,B31<B$23,B$23<B32),B24+B$23*B25+(B$23-B29)*B26+(B$23-B30)*B27+(B$23-B31)*B28,"N/A") -> N/A | C37: =IF(AND(C31<>0,C31<C$23,C$23<C32),C24+C$23*C25+(C$23-C29)*C26+(C$23-C30)*C27+(C$23-C31)*C28,"N/A") -> N/A | D37: =IF(AND(D31<>0,D31<D$23,D$23<D32),D24+D$23*D25+(D$23-D29)*D26+(D$23-D30)*D27+(D$23-D31)*D28,"N/A") -> N/A | E37: =IF(AND(E31<>0,E31<E$23,E$23<E32),E24+E$23*E25+(E$23-E29)*E26+(E$23-E30)*E27+(E$23-E31)*E28,"N/A") -> N/A | F37: =IF(AND(F31<>0,F31<F$23,F$23<F32),F24+F$23*F25+(F$23-F29)*F26+(F$23-F30)*F27+(F$23-F31)*F28,"N/A") -> N/A | G37: =IF(AND(G31<>0,G31<G$23,G$23<G32),G24+G$23*G25+(G$23-G29)*G26+(G$23-G30)*G27+(G$23-G31)*G28,"N/A") -> N/A | H37: =IF(AND(H31<>0,H31<H$23,H$23<H32),H24+H$23*H25+(H$23-H29)*H26+(H$23-H30)*H27+(H$23-H31)*H28,"N/A") -> N/A | I37: =IF(AND(I31<>0,I31<I$23,I$23<I32),I24+I$23*I25+(I$23-I29)*I26+(I$23-I30)*I27+(I$23-I31)*I28,"N/A") -> N/A | ... Y37: =IF(AND(Y31<>0,Y31<Y$23,Y$23<Y32),Y24+Y$23*Y25+(Y$23-Y29)*Y26+(Y$23-Y30)*Y27+(Y$23-Y31)*Y28,"N/A") -> N/A | AC37: 43780
A38: bX | B38: =IF(B34<>"N/A",B34,IF(B35<>"N/A",B35,IF(B36<>"N/A",B36,IF(B37<>"N/A",B37,0))))-B24 -> 0 | C38: =IF(C34<>"N/A",C34,IF(C35<>"N/A",C35,IF(C36<>"N/A",C36,IF(C37<>"N/A",C37,0))))-C24 -> 0 | D38: =IF(D34<>"N/A",D34,IF(D35<>"N/A",D35,IF(D36<>"N/A",D36,IF(D37<>"N/A",D37,0))))-D24 -> 0 | E38: =IF(E34<>"N/A",E34,IF(E35<>"N/A",E35,IF(E36<>"N/A",E36,IF(E37<>"N/A",E37,0))))-E24 -> 0 | F38: =IF(F34<>"N/A",F34,IF(F35<>"N/A",F35,IF(F36<>"N/A",F36,IF(F37<>"N/A",F37,0))))-F24 -> 0 | G38: =IF(G34<>"N/A",G34,IF(G35<>"N/A",G35,IF(G36<>"N/A",G36,IF(G37<>"N/A",G37,0))))-G24 -> 0 | H38: =IF(H34<>"N/A",H34,IF(H35<>"N/A",H35,IF(H36<>"N/A",H36,IF(H37<>"N/A",H37,0))))-H24 -> 0 | I38: =IF(I34<>"N/A",I34,IF(I35<>"N/A",I35,IF(I36<>"N/A",I36,IF(I37<>"N/A",I37,0))))-I24 -> 0 | ... Y38: =IF(Y34<>"N/A",Y34,IF(Y35<>"N/A",Y35,IF(Y36<>"N/A",Y36,IF(Y37<>"N/A",Y37,0))))-Y24 -> 0 | AC38: 43797
AC39: 43824
A40: Profile Variable: | B40: FEBRUARY | AC40: 43831
B41: =IF($B$40=$H$2,1,0) -> 0 | C41: =IF($B$40=$H$2,1,0) -> 0 | D41: =IF($B$40=$H$2,1,0) -> 0 | E41: =IF($B$40=$H$2,1,0) -> 0 | F41: =IF($B$40=$H$2,1,0) -> 0 | G41: =IF($B$40=$H$2,1,0) -> 0 | H41: =IF($B$40=$H$2,1,0) -> 0 | I41: =IF($B$40=$H$2,1,0) -> 0 | ... Y41: =IF($B$40=$H$2,1,0) -> 0 | AC41: 43850
A42: REG_CONSTANT | B42: {=SUM(IF($F$2=Data!$A$2:$A$8633,IF($B$40=Data!$F$2:$F$8633,IF(B$16=Data!$E$2:$E$8633,IF(B$41>=Data!$J$2:$J$8633,IF(B$41<=Data!$K$2:$K$8633,Data!$G$2:$G$8633))))))} -> 0 | C42: {=SUM(IF($F$2=Data!$A$2:$A$8633,IF($H$2=$H$2,IF($B$40=Data!$F$2:$F$8633,IF(C$16=Data!$E$2:$E$8633,IF(C$41>=Data!$J$2:$J$8633,IF(C$41<=Data!$K$2:$K$8633,Data!$G$2:$G$8633)))))))} -> 0 | D42: {=SUM(IF($F$2=Data!$A$2:$A$8633,IF($H$2=$H$2,IF($B$40=Data!$F$2:$F$8633,IF(D$16=Data!$E$2:$E$8633,IF(D$41>=Data!$J$2:$J$8633,IF(D$41<=Data!$K$2:$K$8633,Data!$G$2:$G$8633)))))))} -> 0 | E42: {=SUM(IF($F$2=Data!$A$2:$A$8633,IF($H$2=$H$2,IF($B$40=Data!$F$2:$F$8633,IF(E$16=Data!$E$2:$E$8633,IF(E$41>=Data!$J$2:$J$8633,IF(E$41<=Data!$K$2:$K$8633,Data!$G$2:$G$8633)))))))} -> 0 | F42: {=SUM(IF($F$2=Data!$A$2:$A$8633,IF($H$2=$H$2,IF($B$40=Data!$F$2:$F$8633,IF(F$16=Data!$E$2:$E$8633,IF(F$41>=Data!$J$2:$J$8633,IF(F$41<=Data!$K$2:$K$8633,Data!$G$2:$G$8633)))))))} -> 0 | G42: {=SUM(IF($F$2=Data!$A$2:$A$8633,IF($H$2=$H$2,IF($B$40=Data!$F$2:$F$8633,IF(G$16=Data!$E$2:$E$8633,IF(G$41>=Data!$J$2:$J$8633,IF(G$41<=Data!$K$2:$K$8633,Data!$G$2:$G$8633)))))))} -> 0 | H42: {=SUM(IF($F$2=Data!$A$2:$A$8633,IF($H$2=$H$2,IF($B$40=Data!$F$2:$F$8633,IF(H$16=Data!$E$2:$E$8633,IF(H$41>=Data!$J$2:$J$8633,IF(H$41<=Data!$K$2:$K$8633,Data!$G$2:$G$8633)))))))} -> 0 | I42: {=SUM(IF($F$2=Data!$A$2:$A$8633,IF($H$2=$H$2,IF($B$40=Data!$F$2:$F$8633,IF(I$16=Data!$E$2:$E$8633,IF(I$41>=Data!$J$2:$J$8633,IF(I$41<=Data!$K$2:$K$8633,Data!$G$2:$G$8633)))))))} -> 0 | J42: {=SUM(IF($F$2=Data!$A$2:$A$8633,IF($H$2=$H$2,IF($B$40=Data!$F$2:$F$8633,IF(J$16=Data!$E$2:$E$8633,IF(J$41>=Data!$J$2:$J$8633,IF(J$41<=Data!$K$2:$K$8633,Data!$G$2:$G$8633)))))))} -> 0 | ... Y42: {=SUM(IF($F$2=Data!$A$2:$A$8633,IF($H$2=$H$2,IF($B$40=Data!$F$2:$F$8633,IF(Y$16=Data!$E$2:$E$8633,IF(Y$41>=Data!$J$2:$J$8633,IF(Y$41<=Data!$K$2:$K$8633,Data!$G$2:$G$8633)))))))} -> 0 | AC42: 43878
A43: COEF 1 | B43: {=SUM(IF($F$2=Data!$A$2:$A$8633,IF($H$2=$H$2,IF($B$40=Data!$F$2:$F$8633,IF(B$16=Data!$E$2:$E$8633,IF(0=Data!$H$2:$H$8633,Data!$I$2:$I$8633))))))} -> 0 | C43: {=SUM(IF($F$2=Data!$A$2:$A$8633,IF($H$2=$H$2,IF($B$40=Data!$F$2:$F$8633,IF(C$16=Data!$E$2:$E$8633,IF(0=Data!$H$2:$H$8633,Data!$I$2:$I$8633))))))} -> 0 | D43: {=SUM(IF($F$2=Data!$A$2:$A$8633,IF($H$2=$H$2,IF($B$40=Data!$F$2:$F$8633,IF(D$16=Data!$E$2:$E$8633,IF(0=Data!$H$2:$H$8633,Data!$I$2:$I$8633))))))} -> 0 | E43: {=SUM(IF($F$2=Data!$A$2:$A$8633,IF($H$2=$H$2,IF($B$40=Data!$F$2:$F$8633,IF(E$16=Data!$E$2:$E$8633,IF(0=Data!$H$2:$H$8633,Data!$I$2:$I$8633))))))} -> 0 | F43: {=SUM(IF($F$2=Data!$A$2:$A$8633,IF($H$2=$H$2,IF($B$40=Data!$F$2:$F$8633,IF(F$16=Data!$E$2:$E$8633,IF(0=Data!$H$2:$H$8633,Data!$I$2:$I$8633))))))} -> 0 | G43: {=SUM(IF($F$2=Data!$A$2:$A$8633,IF($H$2=$H$2,IF($B$40=Data!$F$2:$F$8633,IF(G$16=Data!$E$2:$E$8633,IF(0=Data!$H$2:$H$8633,Data!$I$2:$I$8633))))))} -> 0 | H43: {=SUM(IF($F$2=Data!$A$2:$A$8633,IF($H$2=$H$2,IF($B$40=Data!$F$2:$F$8633,IF(H$16=Data!$E$2:$E$8633,IF(0=Data!$H$2:$H$8633,Data!$I$2:$I$8633))))))} -> 0 | I43: {=SUM(IF($F$2=Data!$A$2:$A$8633,IF($H$2=$H$2,IF($B$40=Data!$F$2:$F$8633,IF(I$16=Data!$E$2:$E$8633,IF(0=Data!$H$2:$H$8633,Data!$I$2:$I$8633))))))} -> 0 | ... Y43: {=SUM(IF($F$2=Data!$A$2:$A$8633,IF($H$2=$H$2,IF($B$40=Data!$F$2:$F$8633,IF(Y$16=Data!$E$2:$E$8633,IF(0=Data!$H$2:$H$8633,Data!$I$2:$I$8633))))))} -> 0 | AC43: 43976
...

Sheet Data
A1: PROFILE_KEY1_LU | B1: PROFILE_METHOD | C1: SEASON_TCD | D1: DAY_TCD | E1: STARTING_INTERVAL | F1: PROFILE_VARIABLE | G1: REG_CONSTANT | H1: BREAKPOINT_NUM | I1: COEF | J1: Tmin | K1: Tmax
A2: HV01 | B2: DPL_1_SEASON_1_DT_HV01 | C2: ALLSEASONS | D2: ALLDAYS | E2: 0 | F2: AUGUST | G2: 11542.956 | H2: 0 | I2: 843.55247 | J2: 0 | K2: 150
A3: HV01 | B3: DPL_1_SEASON_1_DT_HV01 | C3: ALLSEASONS | D3: ALLDAYS | E3: 0 | F3: CDH65 | G3: 11542.956 | H3: 0 | I3: 73.976859 | J3: 0 | K3: 150
A4: HV01 | B4: DPL_1_SEASON_1_DT_HV01 | C4: ALLSEASONS | D4: ALLDAYS | E4: 0 | F4: CDH65_MA24 | G4: 11542.956 | H4: 0 | I4: 124.09848 | J4: 0 | K4: 150
A5: HV01 | B5: DPL_1_SEASON_1_DT_HV01 | C5: ALLSEASONS | D5: ALLDAYS | E5: 0 | F5: CDH65_MA3 | G5: 11542.956 | H5: 0 | I5: -17.727025 | J5: 0 | K5: 150
A6: HV01 | B6: DPL_1_SEASON_1_DT_HV01 | C6: ALLSEASONS | D6: ALLDAYS | E6: 0 | F6: CDH75 | G6: 11542.956 | H6: 0 | I6: 30.52994 | J6: 0 | K6: 150
A7: HV01 | B7: DPL_1_SEASON_1_DT_HV01 | C7: ALLSEASONS | D7: ALLDAYS | E7: 0 | F7: DECEMBER | G7: 11542.956 | H7: 0 | I7: -692.94154 | J7: 0 | K7: 150
A8: HV01 | B8: DPL_1_SEASON_1_DT_HV01 | C8: ALLSEASONS | D8: ALLDAYS | E8: 0 | F8: FEBRUARY | G8: 11542.956 | H8: 0 | I8: 193.00381 | J8: 0 | K8: 150
A9: HV01 | B9: DPL_1_SEASON_1_DT_HV01 | C9: ALLSEASONS | D9: ALLDAYS | E9: 0 | F9: FRIDAY | G9: 11542.956 | H9: 0 | I9: -733.38135 | J9: 0 | K9: 150
A10: HV01 | B10: DPL_1_SEASON_1_DT_HV01 | C10: ALLSEASONS | D10: ALLDAYS | E10: 0 | F10: HDH60 | G10: 11542.956 | H10: 0 | I10: 1.6578668 | J10: 0 | K10: 150
A11: HV01 | B11: DPL_1_SEASON_1_DT_HV01 | C11: ALLSEASONS | D11: ALLDAYS | E11: 0 | F11: JANUARY | G11: 11542.956 | H11: 0 | I11: -41.657824 | J11: 0 | K11: 150
A12: HV01 | B12: DPL_1_SEASON_1_DT_HV01 | C12: ALLSEASONS | D12: ALLDAYS | E12: 0 | F12: JULY | G12: 11542.956 | H12: 0 | I12: 401.60724 | J12: 0 | K12: 150
A13: HV01 | B13: DPL_1_SEASON_1_DT_HV01 | C13: ALLSEASONS | D13: ALLDAYS | E13: 0 | F13: JUNE | G13: 11542.956 | H13: 0 | I13: 375.96963 | J13: 0 | K13: 150
... A1041: PR01 | B1041: DPL_1_SEASON_1_DT_PR01 | C1041: ALLSEASONS | D1041: ALLDAYS | E1041: 23 | F1041: SUNDAY | G1041: 709.05666 | H1041: 0 | I1041: -117.99463 | J1041: 0 | K1041: 150
A1042: PS01 | B1042: DPL_12_SEASON_HOURLY_NO_WEATHER | C1042: APR | D1042: SATURDAY | E1042: 0 | F1042: NULL_WEATHER | G1042: 8893.9595 | J1042: 0 | K1042: 150
A1043: PS01 | B1043: DPL_12_SEASON_HOURLY_NO_WEATHER | C1043: AUG | D1043: SATURDAY | E1043: 0 | F1043: NULL_WEATHER | G1043: 9593.1705 | J1043: 0 | K1043: 150
A1044: PS01 | B1044: DPL_12_SEASON_HOURLY_NO_WEATHER | C1044: DEC | D1044: SATURDAY | E1044: 0 | F1044: NULL_WEATHER | G1044: 8537.2288 | J1044: 0 | K1044: 150
A1045: PS01 | B1045: DPL_12_SEASON_HOURLY_NO_WEATHER | C1045: FEB | D1045: SATURDAY | E1045: 0 | F1045: NULL_WEATHER | G1045: 8202.951 | J1045: 0 | K1045: 150
A1046: PS01 | B1046: DPL_12_SEASON_HOURLY_NO_WEATHER | C1046: JAN | D1046: SATURDAY | E1046: 0 | F1046: NULL_WEATHER | G1046: 8497.1724 | J1046: 0 | K1046: 150
A1047: PS01 | B1047: DPL_12_SEASON_HOURLY_NO_WEATHER | C1047: JUL | D1047: SATURDAY | E1047: 0 | F1047: NULL_WEATHER | G1047: 9613.1558 | J1047: 0 | K1047: 150
A1048: PS01 | B1048: DPL_12_SEASON_HOURLY_NO_WEATHER | C1048: JUN | D1048: SATURDAY | E1048: 0 | F1048: NULL_WEATHER | G1048: 9823.3279 | J1048: 0 | K1048: 150
A1049: PS01 | B1049: DPL_12_SEASON_HOURLY_NO_WEATHER | C1049: MAR | D1049: SATURDAY | E1049: 0 | F1049: NULL_WEATHER | G1049: 8285.9804 | J1049: 0 | K1049: 150
A1050: PS01 | B1050: DPL_12_SEASON_HOURLY_NO_WEATHER | C1050: MAY | D1050: SATURDAY | E1050: 0 | F1050: NULL_WEATHER | G1050: 9546.0325 | J1050: 0 | K1050: 150
A1051: PS01 | B1051: DPL_12_SEASON_HOURLY_NO_WEATHER | C1051: NOV | D1051: SATURDAY | E1051: 0 | F1051: NULL_WEATHER | G1051: 8402.091 | J1051: 0 | K1051: 150
A1052: PS01 | B1052: DPL_12_SEASON_HOURLY_NO_WEATHER | C1052: OCT | D1052: SATURDAY | E1052: 0 | F1052: NULL_WEATHER | G1052: 9525.3169 | J1052: 0 | K1052: 150
A1053: PS01 | B1053: DPL_12_SEASON_HOURLY_NO_WEATHER | C1053: SEP | D1053: SATURDAY | E1053: 0 | F1053: NULL_WEATHER | G1053: 9564.9845 | J1053: 0 | K1053: 150
... A1905: PS01 | B1905: DPL_12_SEASON_HOURLY_NO_WEATHER | C1905: SEP | D1905: WEEKDAY | E1905: 23 | F1905: NULL_WEATHER | G1905: 9865.2319 | J1905: 0 | K1905: 150
A1906: RH01 | B1906: DPL_1_SEASON_1_DT_RH01 | C1906: ALLSEASONS | D1906: ALLDAYS | E1906: 0 | F1906: AUGUST | G1906: 0.71197191 | H1906: 0 | I1906: 0.015385388 | J1906: 0 | K1906: 150
A1907: RH01 | B1907: DPL_1_SEASON_1_DT_RH01 | C1907: ALLSEASONS | D1907: ALLDAYS | E1907: 0 | F1907: CDH65 | G1907: 0.71197191 | H1907: 0 | I1907: -0.0045580079 | J1907: 0 | K1907: 150
A1908: RH01 | B1908: DPL_1_SEASON_1_DT_RH01 | C1908: ALLSEASONS | D1908: ALLDAYS | E1908: 0 | F1908: CDH65_MA24 | G1908: 0.71197191 | H1908: 0 | I1908: 0.027632734 | J1908: 0 | K1908: 150
A1909: RH01 | B1909: DPL_1_SEASON_1_DT_RH01 | C1909: ALLSEASONS | D1909: ALLDAYS | E1909: 0 | F1909: CDH65_MA3 | G1909: 0.71197191 | H1909: 0 | I1909: 0.016342957 | J1909: 0 | K1909: 150
A1910: RH01 | B1910: DPL_1_SEASON_1_DT_RH01 | C1910: ALLSEASONS | D1910: ALLDAYS | E1910: 0 | F1910: CDH75 | G1910: 0.71197191 | H1910: 0 | I1910: 0.015198163 | J1910: 0 | K1910: 150
A1911: RH01 | B1911: DPL_1_SEASON_1_DT_RH01 | C1911: ALLSEASONS | D1911: ALLDAYS | E1911: 0 | F1911: DECEMBER | G1911: 0.71197191 | H1911: 0 | I1911: 0.22332043 | J1911: 0 | K1911: 150
A1912: RH01 | B1912: DPL_1_SEASON_1_DT_RH01 | C1912: ALLSEASONS | D1912: ALLDAYS | E1912: 0 | F1912: FEBRUARY | G1912: 0.71197191 | H1912: 0 | I1912: 0.25695527 | J1912: 0 | K1912: 150
A1913: RH01 | B1913: DPL_1_SEASON_1_DT_RH01 | C1913: ALLSEASONS | D1913: ALLDAYS | E1913: 0 | F1913: HDH30 | G1913: 0.71197191 | H1913: 0 | I1913: 0.01773048 | J1913: 0 | K1913: 150
A1914: RH01 | B1914: DPL_1_SEASON_1_DT_RH01 | C1914: ALLSEASONS | D1914: ALLDAYS | E1914: 0 | F1914: HDH40 | G1914: 0.71197191 | H1914: 0 | I1914: 0.0099353648 | J1914: 0 | K1914: 150
A1915: RH01 | B1915: DPL_1_SEASON_1_DT_RH01 | C1915: ALLSEASONS | D1915: ALLDAYS | E1915: 0 | F1915: HDH50 | G1915: 0.71197191 | H1915: 0 | I1915: 0.015606594 | J1915: 0 | K1915: 150
A1916: RH01 | B1916: DPL_1_SEASON_1_DT_RH01 | C1916: ALLSEASONS | D1916: ALLDAYS | E1916: 0 | F1916: HDH60 | G1916: 0.71197191 | H1916: 0 | I1916: 0.011300307 | J1916: 0 | K1916: 150
A1917: RH01 | B1917: DPL_1_SEASON_1_DT_RH01 | C1917: ALLSEASONS | D1917: ALLDAYS | E1917: 0 | F1917: HDH60_MA24 | G1917: 0.71197191 | H1917: 0 | I1917: 0.026855429 | J1917: 0 | K1917: 150
... A4589: SC01 | B4589: DPL_1_SEASON_1_DT_SC01 | C4589: ALLSEASONS | D4589: ALLDAYS | E4589: 23 | F4589: SUNDAY | G4589: 33.674199 | H4589: 0 | I4589: -2.0273832 | J4589: 0 | K4589: 150
...
